Workbook

Sheet Squads
A1: NATION | B1: No. | C1: Name | D1: Position | E1: NoB | F1: DoB | G1: Age | H1: Based | I1: Club | J1: Caps | K1: Goals | L1: Transfer Value | M1: Height | N1: Weight
A2: ALG | B2: 1 | C2: Luca Zidane | D2: GK | E2: FRA | F2: 35928 | G2: 28 | H2: ESP | I2: Eibar | J2: 26 | K2: 0 | L2: £850K - £2.6M | M2: 181 | N2: 78
A3: ALG | B3: 2 | C3: Youcef Atal | D3: D/WB/M (R) | E3: ALG | F3: 35202 | G3: 30 | H3: TUR | I3: Adana D.S. | J3: 48 | K3: 3 | L3: £6.4M - £19.5M | M3: 176 | N3: 64
A4: ALG | B4: 3 | C4: Rayan Aït-Nouri | D4: D/WB (L) | E4: FRA | F4: 37048 | G4: 25 | H4: ENG | I4: Wolves | J4: 18 | K4: 0 | L4: £15.5M - £47M | M4: 180 | N4: 70
A5: ALG | B5: 4 | C5: Ahmed Touba | D5: D (LC), DM | E5: FRA | F5: 35867 | G5: 28 | H5: TUR | I5: Başakşehir F.K. | J5: 36 | K5: 2 | L5: £1.9M - £5.8M | M5: 190 | N5: 86
A6: ALG | B6: 5 | C6: Ramy Bensebaïni | D6: D (LC), WB (L) | E6: ALG | F6: 34805 | G6: 31 | H6: ENG | I6: West Ham | J6: 85 | K6: 12 | L6: £14M - £42M | M6: 187 | N6: 85
A7: ALG | B7: 6 | C7: Ismaël Bennacer | D7: DM, M (C) | E7: FRA | F7: 35765 | G7: 28 | H7: ITA | I7: Milan | J7: 70 | K7: 3 | L7: £65M - £195M | M7: 175 | N7: 70
A8: ALG | B8: 7 | C8: Farès Chaïbi | D8: M (C), AM (RLC) | E8: FRA | F8: 37588 | G8: 23 | H8: GER | I8: Eintracht Frankfurt | J8: 25 | K8: 10 | L8: £30M - £89M | M8: 183 | N8: 72
A9: ALG | B9: 8 | C9: Amine Gouiri | D9: M/AM (L), ST (C) | E9: FRA | F9: 36572 | G9: 26 | H9: FRA | I9: Rennes | J9: 33 | K9: 12 | L9: £40M - £120M | M9: 180 | N9: 72
A10: ALG | B10: 9 | C10: Enzo Crivelli | D10: AM (L), ST (C) | E10: FRA | F10: 34736 | G10: 31 | H10: SUI | I10: Servette | J10: 6 | K10: 3 | L10: £1.3M - £4M | M10: 184 | N10: 87
A11: ALG | B11: 10 | C11: Mohamed Belloumi | D11: AM (R) | E11: ALG | F11: 37408 | G11: 24 | H11: ENG | I11: Leicester | J11: 13 | K11: 0 | L11: £11.5M - £34M | M11: 177 | N11: 66
A12: ALG | B12: 11 | C12: Enzo Sternal | D12: AM (LC), ST (C) | E12: FRA | F12: 39230 | G12: 19 | H12: FRA | I12: Marseille | J12: 6 | K12: 2 | L12: £6M - £18M | M12: 181 | N12: 75
A13: ALG | B13: 12 | C13: Yacine Adli | D13: DM, M/AM (C) | E13: FRA | F13: 36736 | G13: 25 | H13: ITA | I13: Napoli | J13: 32 | K13: 0 | L13: £13.5M - £41M | M13: 186 | N13: 73
... A89: UZB | B89: 10 | C89: Abbosbek Fayzullayev | D89: AM (RLC) | E89: UZB | F89: 37897 | G89: 22 | H89: RUS | I89: CSKA Moscow | J89: 35 | K89: 16 | L89: £6.4M - £19M | M89: 170 | N89: 59
A90: UZB | B90: 11 | C90: Eldor Shomurodov | D90: AM (RLC), ST (C) | E90: UZB | F90: 34879 | G90: 30 | H90: GRE | I90: PAOK | J90: 95 | K90: 46 | L90: 0 | M90: 185 | N90: 76
A91: UZB | B91: 12 | C91: Alibek Davronov | D91: D (C) | E91: UZB | F91: 37618 | G91: 23 | H91: KOR | I91: Ulsan | J91: 7 | K91: 0 | L91: £650K - £2M | M91: 183 | N91: 78
A92: UZB | B92: 13 | C92: Abduvohid Ne'matov | D92: GK | E92: UZB | F92: 36970 | G92: 25 | H92: UZB | I92: Nasaf | J92: 8 | K92: 0 | L92: £65K - £190K | M92: 182 | N92: 77
A93: UZB | B93: 14 | C93: Dilshod Yo'ldoshev | D93: GK | E93: UZB | F93: 37100 | G93: 24 | H93: UZB | I93: Paxtakor | J93: 19 | K93: 0 | L93: £160K - £500K | M93: 195 | N93: 83
A94: UZB | B94: 15 | C94: Jahongir O'rozov | D94: D (C) | E94: UZB | F94: 38004 | G94: 22 | H94: TUR | I94: Eyüpspor | J94: 7 | K94: 2 | L94: £1.3M - £3.8M | M94: 190 | N94: 95
A95: UZB | B95: 16 | C95: Husniddin Aliqulov | D95: D (C) | E95: UZB | F95: 36254 | G95: 27 | H95: TUR | I95: Rizespor | J95: 40 | K95: 1 | L95: £1.6M - £4.8M | M95: 186 | N95: 83
A96: UZB | B96: 17 | C96: Odiljon Hamrobekov | D96: DM, M (C) | E96: UZB | F96: 35108 | G96: 30 | H96: UZB | I96: Navbahor | J96: 72 | K96: 2 | L96: £300K - £900K | M96: 180 | N96: 73
A97: UZB | B97: 18 | C97: Azizjon G'aniev | D97: DM, M (C) | E97: UZB | F97: 35848 | G97: 28 | H97: UAE | I97: Shabab Al-Ahli | J97: 45 | K97: 3 | L97: £5.2M - £16M | M97: 178 | N97: 64
A98: UZB | B98: 19 | C98: Bobir Abdiholiqov | D98: AM (L), ST (C) | E98: UZB | F98: 35543 | G98: 29 | H98: UZB | I98: Nasaf | J98: 30 | K98: 12 | L98: £275K - £800K | M98: 180 | N98: 67
A99: UZB | B99: 20 | C99: Jaloliddin Masharipov | D99: M/AM (LC) | E99: UZB | F99: 34213 | G99: 32 | H99: IRN | I99: Esteghlal | J99: 61 | K99: 11 | L99: £275K - £850K | M99: 172 | N99: 67
A100: UZB | B100: 21 | C100: Dostonbek Hamdamov | D100: M/AM (RL) | E100: UZB | F100: 35270 | G100: 29 | H100: UZB | I100: Paxtakor | J100: 52 | K100: 9 | L100: £250K - £750K | M100: 180 | N100: 68
A101: UZB | B101: 22 | C101: Jasur Yaxshiboyev | D101: AM (R), ST (C) | E101: UZB | F101: 35605 | G101: 28 | H101: KAZ | I101: Ordabasy | J101: 14 | K101: 2 | L101: £400K - £1.2M | M101: 180 | N101: 74
A102: UZB | B102: 23 | C102: Mirjalol Abdumutalov | D102: DM, M (C) | E102: UZB | F102: 37144 | G102: 24 | H102: UZB | I102: So'g'diyona | J102: 22 | K102: 0 | L102: £230K - £700K | M102: 175 | N102: 69
... A114: BIH | B114: 9 | C114: Dejan Joveljić | D114: AM (L), ST (C) | E114: BIH | F114: 36379 | G114: 26 | H114: MEX | I114: Monterrey | J114: 3 | K114: 1 | L114: £5.4M - £16.5M | M114: 182 | N114: 76
A115: BIH | B115: 10 | C115: Haris Tabaković | D115: AM (L), ST (C) | E115: SUI | F115: 34505 | G115: 31 | H115: GER | I115: Hertha BSC | J115: 1 | K115: 0 | L115: 0 | M115: 194 | N115: 90
A116: BIH | B116: 11 | C116: Ante Budimir | D116: ST (C) | E116: BIH | F116: 33441 | G116: 34 | H116: ESP | I116: Osasuna | J116: 14 | K116: 2 | L116: £1.1M - £3.2M | M116: 190 | N116: 74
A117: BIH | B117: 12 | C117: Svetozar Marković | D117: D (C) | E117: BIH | F117: 36608 | G117: 26 | H117: SRB | I117: Partizan | J117: 8 | K117: 0 | L117: £170K - £500K | M117: 186 | N117: 80
A118: BIH | B118: 13 | C118: Luka Veličković | D118: GK | E118: BIH | F118: 38495 | G118: 21 | H118: POR | I118: SL Benfica | J118: 3 | K118: 0 | L118: £2.4M - £7.2M | M118: 192 | N118: 84
A119: BIH | B119: 14 | C119: Luka Sučić | D119: M (C), AM (RC) | E119: AUT | F119: 37507 | G119: 23 | H119: AUT | I119: RB Salzburg | J119: 9 | K119: 1 | L119: £2.8M - £8.4M | M119: 185 | N119: 70
A120: BIH | B120: 15 | C120: Rade Krunić | D120: DM, M/AM (C) | E120: BIH | F120: 34249 | G120: 32 | H120: TUR | I120: Fenerbahçe | J120: 54 | K120: 11 | L120: £160K - £475K | M120: 184 | N120: 74
A121: BIH | B121: 16 | C121: Sead Kolašinac | D121: D (LC), WB (L) | E121: GER | F121: 34140 | G121: 32 | H121: ITA | I121: Atalanta | J121: 74 | K121: 0 | L121: £1.7M - £5.2M | M121: 183 | N121: 81
A122: BIH | B122: 17 | C122: Mijat Gaćinović | D122: M/AM (RLC) | E122: SRB | F122: 34738 | G122: 31 | H122: GRE | I122: AEK | J122: 20 | K122: 1 | L122: Not for Sale | M122: 175 | N122: 67
A123: BIH | B123: 18 | C123: Dal Varešanović | D123: M/AM (C) | E123: AUT | F123: 37034 | G123: 25 | H123: TUR | I123: Rizespor | J123: 12 | K123: 3 | L123: £190K - £600K | M123: 177 | N123: 66
A124: BIH | B124: 19 | C124: Mihailo Ristić | D124: D/WB (L), DM, M (LC) | E124: BIH | F124: 35003 | G124: 30 | H124: ESP | I124: Celta | J124: 6 | K124: 0 | L124: £95K | M124: 180 | N124: 79
A125: BIH | B125: 20 | C125: Amir Hadžiahmetović | D125: DM, M (C) | E125: DEN | F125: 35497 | G125: 29 | H125: TUR | I125: Beşiktaş | J125: 42 | K125: 1 | L125: £3.1M - £9.4M | M125: 178 | N125: 71
A126: BIH | B126: 21 | C126: Nemanja Gudelj | D126: D (C), DM, M (C) | E126: SRB | F126: 33558 | G126: 34 | H126: ESP | I126: Sevilla | J126: 21 | K126: 3 | L126: £22K - £65K | M126: 186 | N126: 77
A127: BIH | B127: 22 | C127: Nikola Vasilj | D127: GK | E127: BIH | F127: 35035 | G127: 30 | H127: GER | I127: St. Pauli | J127: 9 | K127: 0 | L127: £475K - £1.4M | M127: 193 | N127: 86
... A180: ECU | B180: 23 | C180: Luis Segovia | D180: D (LC) | E180: ECU | F180: 35729 | G180: 28 | H180: FRA | I180: Toulouse | J180: 14 | K180: 0 | L180: £210K - £600K | M180: 182 | N180: 80
A181: ECU | B181: 24 | C181: Jordy Caicedo | D181: AM (R), ST (C) | E181: ECU | F181: 35752 | G181: 28 | H181: MEX | I181: Tigres | J181: 27 | K181: 12 | L181: 0 | M181: 185 | N181: 82
A182: ECU | B182: 25 | C182: Jhon Espinoza | D182: D/WB (R) | E182: ECU | F182: 36215 | G182: 27 | H182: SUI | I182: Lugano | J182: 20 | K182: 1 | L182: £2.1M - £6.4M | M182: 180 | N182: 75
A183: ECU | B183: 26 | C183: Enner Valencia | D183: AM (C), ST (C) | E183: ECU | F183: 32816 | G183: 36 | H183: BRA | I183: Internacional | J183: 103 | K183: 46 | L183: £8K | M183: 177 | N183: 72
A184: EGY | B184: 1 | C184: Mahmoud Gad | D184: GK | E184: EGY | F184: 36079 | G184: 27 | H184: EGY | I184: Al-Masry | J184: 4 | K184: 0 | L184: £300K - £900K | M184: 191 | N184: 82
A185: EGY | B185: 2 | C185: Karim El Eraki | D185: D/WB/M (R) | E185: EGY | F185: 35763 | G185: 28 | H185: EGY | I185: Al-Masry | J185: 19 | K185: 1 | L185: £650K - £2M | M185: 173 | N185: 67
A186: EGY | B186: 3 | C186: Ahmed Aboul Fotouh | D186: D/WB (L) | E186: EGY | F186: 35876 | G186: 28 | H186: EGY | I186: Zamalek | J186: 49 | K186: 3 | L186: £2.5M - £7.4M | M186: 177 | N186: 72
A187: EGY | B187: 4 | C187: Mahmoud El Wensh | D187: D (C) | E187: EGY | F187: 34851 | G187: 31 | H187: EGY | I187: Zamalek | J187: 47 | K187: 3 | L187: Not for Sale | M187: 184 | N187: 72
A188: EGY | B188: 5 | C188: Sam Morsy | D188: DM, M (C) | E188: ENG | F188: 33491 | G188: 34 | H188: ENG | I188: Ipswich | J188: 24 | K188: 1 | L188: £550K - £1.6M | M188: 176 | N188: 76
A189: EGY | B189: 6 | C189: Zizo | D189: M/AM (RLC) | E189: EGY | F189: 35074 | G189: 30 | H189: NED | I189: AZ | J189: 45 | K189: 3 | L189: £14M - £42M | M189: 174 | N189: 67
A190: EGY | B190: 7 | C190: Marwan Ateya | D190: DM, M (C) | E190: EGY | F190: 36019 | G190: 27 | H190: EGY | I190: Al-Ahly | J190: 26 | K190: 1 | L190: £3.8M - £11.5M | M190: 176 | N190: 73
A191: EGY | B191: 8 | C191: Emam Ashour | D191: DM, M (C), AM (LC) | E191: EGY | F191: 35846 | G191: 28 | H191: EGY | I191: Al-Ahly | J191: 28 | K191: 1 | L191: £4.1M - £12.5M | M191: 182 | N191: 76
A192: EGY | B192: 9 | C192: Ibrahim Adel | D192: AM (L), ST (C) | E192: EGY | F192: 37004 | G192: 25 | H192: EGY | I192: Pyramids | J192: 15 | K192: 2 | L192: £3.8M - £11.5M | M192: 178 | N192: 67
A193: EGY | B193: 10 | C193: Mostafa Mohamed | D193: ST (C) | E193: EGY | F193: 35762 | G193: 28 | H193: FRA | I193: Nantes | J193: 62 | K193: 23 | L193: £11.5M - £35M | M193: 185 | N193: 80
... A210: ALB | B210: 1 | C210: Thomas Strakosha | D210: GK | E210: GRE | F210: 34777 | G210: 31 | H210: ENG | I210: Brentford | J210: 51 | K210: 0 | L210: £750K - £2.2M | M210: 193 | N210: 78
A211: ALB | B211: 2 | C211: Lazaros Rota | D211: D/WB (R) | E211: GRE | F211: 35665 | G211: 28 | H211: GRE | I211: AEK | J211: 8 | K211: 1 | L211: 0 | M211: 180 | N211: 72
A212: ALB | B212: 3 | C212: Elseid Hysaj | D212: D/WB (RL) | E212: ALB | F212: 34367 | G212: 32 | H212: NED | I212: PSV | J212: 98 | K212: 2 | L212: £2.1M - £6.4M | M212: 182 | N212: 69
A213: ALB | B213: 4 | C213: Berat Djimsiti | D213: D (C) | E213: SUI | F213: 34019 | G213: 33 | H213: ITA | I213: Atalanta | J213: 77 | K213: 3 | L213: £4.5M - £13.5M | M213: 190 | N213: 82
A214: ALB | B214: 5 | C214: Marash Kumbulla | D214: D (C) | E214: ITA | F214: 36564 | G214: 26 | H214: ITA | I214: Roma | J214: 42 | K214: 1 | L214: £1.6M - £4.8M | M214: 191 | N214: 82
A215: ALB | B215: 6 | C215: Brajan Gruda | D215: M (R), AM (RLC), ST (C) | E215: GER | F215: 38138 | G215: 22 | H215: ENG | I215: Hull | J215: 25 | K215: 4 | L215: £16.5M - £49M | M215: 178 | N215: 70
A216: ALB | B216: 7 | C216: Anis Mehmeti | D216: M (L), AM (LC) | E216: ENG | F216: 36900 | G216: 25 | H216: ENG | I216: Bristol City | J216: 22 | K216: 1 | L216: £15M - £46M | M216: 181 | N216: 75
A217: ALB | B217: 8 | C217: Kristjan Asllani | D217: DM, M/AM (C) | E217: ALB | F217: 37324 | G217: 24 | H217: ITA | I217: Inter | J217: 38 | K217: 4 | L217: £12.5M - £37M | M217: 175 | N217: 68
A218: ALB | B218: 9 | C218: Stiven Shpendi | D218: AM (RLC), ST (C) | E218: ITA | F218: 37760 | G218: 23 | H218: USA | I218: NY Red Bulls | J218: 19 | K218: 5 | L218: £3.2M - £9.6M | M218: 181 | N218: 67
A219: ALB | B219: 10 | C219: Armando Broja | D219: AM (RL), ST (C) | E219: ENG | F219: 37144 | G219: 24 | H219: ITA | I219: Lazio | J219: 44 | K219: 17 | L219: £26M - £79M | M219: 191 | N219: 87
A220: ALB | B220: 11 | C220: Nelson Weiper | D220: AM (R), ST (C) | E220: GER | F220: 38428 | G220: 21 | H220: GER | I220: Mainz | J220: 15 | K220: 5 | L220: £18.5M - £55M | M220: 193 | N220: 84
A221: ALB | B221: 12 | C221: Mario Mitaj | D221: D/WB (L) | E221: ALB | F221: 37839 | G221: 22 | H221: RUS | I221: Lokomotiv Moscow | J221: 27 | K221: 1 | L221: £2.7M - £8M | M221: 180 | N221: 74
A222: ALB | B222: 13 | C222: Elhan Kastrati | D222: GK | E222: ALB | F222: 35463 | G222: 29 | H222: ITA | I222: Cittadella | J222: 4 | K222: 0 | L222: £550K - £1.7M | M222: 189 | N222: 86
A223: ALB | B223: 14 | C223: Gentian Selmani | D223: GK | E223: ALB | F223: 35863 | G223: 28 | H223: USA | I223: Sporting KC | J223: 4 | K223: 0 | L223: £45K - £130K | M223: 186 | N223: 77
... A234: ALB | B234: 25 | C234: Andreas Ndoj | D234: D (C), DM, M (C) | E234: GRE | F234: 37654 | G234: 23 | H234: GRE | I234: Olympiacos | J234: 5 | K234: 0 | L234: £1.1M - £3.2M | M234: 190 | N234: 87
A235: ALB | B235: 26 | C235: Kastriot Dermaku | D235: D (C) | E235: ITA | F235: 33618 | G235: 34 | H235: BEL | I235: Union SG | J235: 13 | K235: 1 | L235: 0 | M235: 194 | N235: 90
A236: IRN | B236: 1 | C236: Alireza Beiranvand | D236: GK | E236: IRN | F236: 33868 | G236: 33 | H236: BEL | I236: Anderlecht | J236: 87 | K236: 0 | L236: £1.8M - £5.4M | M236: 194 | N236: 84
A237: IRN | B237: 2 | C237: Nima Andarz | D237: D (R) | E237: IRN | F237: 38739 | G237: 20 | H237: FRA | I237: Lens | J237: 14 | K237: 0 | L237: £1.7M - £5.2M | M237: 184 | N237: 74
A238: IRN | B238: 3 | C238: Abolfazl Jalali | D238: D/WB (L) | E238: IRN | F238: 35972 | G238: 27 | H238: IRN | I238: Esteghlal | J238: 19 | K238: 0 | L238: £600K - £1.8M | M238: 177 | N238: 72
A239: IRN | B239: 4 | C239: Mohammad Reza Bordbar | D239: D (C), DM, M (C) | E239: IRN | F239: 38225 | G239: 21 | H239: IRN | I239: Persepolis | J239: 21 | K239: 4 | L239: £2M - £6M | M239: 184 | N239: 76
A240: IRN | B240: 5 | C240: Saman Fallah | D240: D (C) | E240: IRN | F240: 37226 | G240: 24 | H240: IRN | I240: Gol Gohar | J240: 12 | K240: 0 | L240: £475K - £1.4M | M240: 191 | N240: 80
A241: IRN | B241: 6 | C241: Saeid Ezatolahi | D241: D (C), DM, M (C) | E241: IRN | F241: 35339 | G241: 29 | H241: DEN | I241: Vejle | J241: 84 | K241: 3 | L241: £1.2M - £3.5M | M241: 190 | N241: 80
A242: IRN | B242: 7 | C242: Reza Asadi | D242: DM, M (C), ST (C) | E242: IRN | F242: 35081 | G242: 30 | H242: IRN | I242: Sepahan | J242: 16 | K242: 2 | L242: £750K - £2.2M | M242: 190 | N242: 85
A243: IRN | B243: 8 | C243: Allahyar Sayyadmanesh | D243: M/AM (RL), ST (C) | E243: IRN | F243: 37071 | G243: 24 | H243: NED | I243: Feyenoord | J243: 32 | K243: 6 | L243: £1.9M - £5.6M | M243: 182 | N243: 78
A244: IRN | B244: 9 | C244: Mehdi Taremi | D244: AM (C), ST (C) | E244: IRN | F244: 33803 | G244: 33 | H244: ENG | I244: Chelsea | J244: 101 | K244: 63 | L244: £4.4M - £13.5M | M244: 187 | N244: 81
A245: IRN | B245: 10 | C245: Milad Sarlak | D245: DM, M/AM (C) | E245: IRN | F245: 34784 | G245: 31 | H245: IRN | I245: Persepolis | J245: 13 | K245: 0 | L245: £350K - £1.1M | M245: 181 | N245: 80
A246: IRN | B246: 11 | C246: Sardar Azmoun | D246: AM (RLC), ST (C) | E246: IRN | F246: 34700 | G246: 31 | H246: GER | I246: Mainz | J246: 97 | K246: 49 | L246: £2.9M - £8.6M | M246: 186 | N246: 84
A247: IRN | B247: 12 | C247: Majid Hosseini | D247: D (C), DM | E247: IRN | F247: 35236 | G247: 29 | H247: TUR | I247: Kayserispor | J247: 43 | K247: 0 | L247: £1.9M - £5.8M | M247: 187 | N247: 78
... A362: NED | B362: 23 | C362: Joël Veltman | D362: D (RC) | E362: NED | F362: 33618 | G362: 34 | H362: BEL | I362: Anderlecht | J362: 47 | K362: 3 | L362: £1M - £3M | M362: 182 | N362: 71
A363: NED | B363: 24 | C363: Marten de Roon | D363: DM, M (C) | E363: NED | F363: 33326 | G363: 35 | H363: ITA | I363: Roma | J363: 54 | K363: 0 | L363: 0 | M363: 185 | N363: 74
A364: NED | B364: 25 | C364: Mexx Meerdink | D364: ST (C) | E364: NED | F364: 37826 | G364: 22 | H364: GER | I364: Fortuna Düsseldorf | J364: 4 | K364: 2 | L364: £6.6M - £20M | M364: 182 | N364: 81
A365: NED | B365: 26 | C365: Miliano Jonathans | D365: M (R), AM (RLC) | E365: NED | F365: 38082 | G365: 22 | H365: NED | I365: Vitesse | J365: 3 | K365: 0 | L365: £2.9M - £8.6M | M365: 179 | N365: 67
A366: POL | B366: 1 | C366: Kacper Tobiasz | D366: GK | E366: POL | F366: 37564 | G366: 23 | H366: ITA | I366: Bologna | J366: 2 | K366: 0 | L366: £5M - £15M | M366: 191 | N366: 80
A367: POL | B367: 2 | C367: Matty Cash | D367: D/WB/M/AM (R) | E367: ENG | F367: 35649 | G367: 28 | H367: ENG | I367: Aston Villa | J367: 37 | K367: 1 | L367: £24M - £71M | M367: 185 | N367: 79
A368: POL | B368: 3 | C368: Przemysław Frankowski | D368: D/WB/M (RL) | E368: POL | F368: 34801 | G368: 31 | H368: FRA | I368: Lens | J368: 47 | K368: 1 | L368: £4M - £12M | M368: 175 | N368: 69
A369: POL | B369: 4 | C369: Jakub Kiwior | D369: D (LC), DM | E369: POL | F369: 36571 | G369: 26 | H369: ITA | I369: Milan | J369: 41 | K369: 1 | L369: £62M - £186M | M369: 188 | N369: 78
A370: POL | B370: 5 | C370: Jan Bednarek | D370: D (RC) | E370: POL | F370: 35167 | G370: 30 | H370: ENG | I370: Southampton | J370: 70 | K370: 1 | L370: £19M - £58M | M370: 189 | N370: 77
A371: POL | B371: 6 | C371: Nicola Zalewski | D371: WB (RL), M (L), AM (RL) | E371: ITA | F371: 37279 | G371: 24 | H371: ITA | I371: Roma | J371: 37 | K371: 0 | L371: £16M - £48M | M371: 175 | N371: 63
A372: POL | B372: 7 | C372: Piotr Zieliński | D372: M/AM (C) | E372: POL | F372: 34474 | G372: 32 | H372: NED | I372: PSV | J372: 86 | K372: 10 | L372: Not for Sale | M372: 180 | N372: 69
A373: POL | B373: 8 | C373: Sebastian Szymański | D373: M (C), AM (RLC) | E373: POL | F373: 36290 | G373: 27 | H373: TUR | I373: Fenerbahçe | J373: 54 | K373: 5 | L373: £16.5M - £50M | M373: 174 | N373: 59
A374: POL | B374: 9 | C374: Robert Lewandowski | D374: AM (C), ST (C) | E374: POL | F374: 32376 | G374: 37 | H374: KSA | I374: Al-Nassr (KSA) | J374: 171 | K374: 95 | L374: £10M - £31M | M374: 185 | N374: 79
A375: POL | B375: 10 | C375: Paulo Dybala | D375: AM (RLC), ST (C) | E375: ARG | F375: 34288 | G375: 32 | H375: ITA | I375: Roma | J375: 23 | K375: 6 | L375: £15M - £45M | M375: 177 | N375: 78
A376: POL | B376: 11 | C376: Krzysztof Piątek | D376: ST (C) | E376: POL | F376: 34881 | G376: 30 | H376: TUR | I376: Fenerbahçe | J376: 30 | K376: 11 | L376: £2M - £5.8M | M376: 183 | N376: 77
A377: POL | B377: 12 | C377: Arkadiusz Milik | D377: AM (C), ST (C) | E377: POL | F377: 34393 | G377: 32 | H377: ITA | I377: Juventus | J377: 78 | K377: 19 | L377: 0 | M377: 186 | N377: 80
A378: POL | B378: 13 | C378: Wojciech Szczęsny | D378: GK | E378: POL | F378: 32981 | G378: 36 | H378: ITA | I378: Juventus | J378: 93 | K378: 0 | L378: £1.6M - £4.8M | M378: 195 | N378: 89
...

Sheet Statistics
A1: NATION | B1: Name | C1: Rank | D1: Age | F1: Caps | H1: Height | J1: Weight | L1: Att | N1: Def | P1: GK | R1: Men | T1: Phy | V1: Tec
A2: ALG | B2: Algeria | C2: 29 | D2: =YEARFRAC(AVERAGEIF(Squads!A:A,$A2,Squads!F:F),"11/06/2026", 1) -> 27.809007 | E2: =_xlfn.RANK.EQ(D2,D$2:D$49,0) -> 21 | F2: =AVERAGEIF(Squads!A:A,$A2,Squads!J:J) -> 30.576923 | G2: =_xlfn.RANK.EQ(F2,F$2:F$49,0) -> 19 | H2: =AVERAGEIF(Squads!A:A,$A2,Squads!M:M) -> 179.96154 | I2: =_xlfn.RANK.EQ(H2,H$2:H$49,0) -> 40 | J2: =AVERAGEIF(Squads!A:A,$A2,Squads!N:N) -> 73.576923 | K2: =_xlfn.RANK.EQ(J2,J$2:J$49,0) -> 44 | L2: =AVERAGEIF(Attacking!A:A,$A2,Attacking!D:D) -> 12.182609 | M2: =_xlfn.RANK.EQ(L2,L$2:L$49,0) -> 6 | N2: =AVERAGEIF(Defending!A:A,$A2,Defending!D:D) -> 11.495652 | O2: =_xlfn.RANK.EQ(N2,N$2:N$49,0) -> 38 | P2: =AVERAGEIF(Goalkeeping!A:A,$A2,Goalkeeping!D:D) -> 11.484848 | Q2: =_xlfn.RANK.EQ(P2,P$2:P$49,0) -> 38 | R2: =AVERAGEIF(Mental!A:A,$A2,Mental!D:D) -> 12.461538 | S2: =_xlfn.RANK.EQ(R2,R$2:R$49,0) -> 18 | T2: =AVERAGEIF(Physical!A:A,$A2,Physical!D:D) -> 12.572115 | U2: =_xlfn.RANK.EQ(T2,T$2:T$49,0) -> 32 | V2: =AVERAGEIF(Technical!A:A,$A2,Technical!D:D) -> 10.934783 | W2: =_xlfn.RANK.EQ(V2,V$2:V$49,0) -> 11
A3: AUT | B3: Austria | C3: 26 | D3: =YEARFRAC(AVERAGEIF(Squads!A:A,$A3,Squads!F:F),"11/06/2026", 1) -> 27.022587 | E3: =_xlfn.RANK.EQ(D3,D$2:D$49,0) -> 30 | F3: =AVERAGEIF(Squads!A:A,$A3,Squads!J:J) -> 26.115385 | G3: =_xlfn.RANK.EQ(F3,F$2:F$49,0) -> 35 | H3: =AVERAGEIF(Squads!A:A,$A3,Squads!M:M) -> 184.38462 | I3: =_xlfn.RANK.EQ(H3,H$2:H$49,0) -> 8 | J3: =AVERAGEIF(Squads!A:A,$A3,Squads!N:N) -> 80.576923 | K3: =_xlfn.RANK.EQ(J3,J$2:J$49,0) -> 1 | L3: =AVERAGEIF(Attacking!A:A,$A3,Attacking!D:D) -> 10.969565 | M3: =_xlfn.RANK.EQ(L3,L$2:L$49,0) -> 35 | N3: =AVERAGEIF(Defending!A:A,$A3,Defending!D:D) -> 12.608696 | O3: =_xlfn.RANK.EQ(N3,N$2:N$49,0) -> 9 | P3: =AVERAGEIF(Goalkeeping!A:A,$A3,Goalkeeping!D:D) -> 12.757576 | Q3: =_xlfn.RANK.EQ(P3,P$2:P$49,0) -> 16 | R3: =AVERAGEIF(Mental!A:A,$A3,Mental!D:D) -> 12.565934 | S3: =_xlfn.RANK.EQ(R3,R$2:R$49,0) -> 17 | T3: =AVERAGEIF(Physical!A:A,$A3,Physical!D:D) -> 13.379808 | U3: =_xlfn.RANK.EQ(T3,T$2:T$49,0) -> 9 | V3: =AVERAGEIF(Technical!A:A,$A3,Technical!D:D) -> 10.440994 | W3: =_xlfn.RANK.EQ(V3,V$2:V$49,0) -> 30
A4: USA | B4: United States | C4: 12 | D4: =YEARFRAC(AVERAGEIF(Squads!A:A,$A4,Squads!F:F),"11/06/2026", 1) -> 27.12115 | E4: =_xlfn.RANK.EQ(D4,D$2:D$49,0) -> 28 | F4: =AVERAGEIF(Squads!A:A,$A4,Squads!J:J) -> 32.384615 | G4: =_xlfn.RANK.EQ(F4,F$2:F$49,0) -> 14 | H4: =AVERAGEIF(Squads!A:A,$A4,Squads!M:M) -> 182.03846 | I4: =_xlfn.RANK.EQ(H4,H$2:H$49,0) -> 25 | J4: =AVERAGEIF(Squads!A:A,$A4,Squads!N:N) -> 76.538462 | K4: =_xlfn.RANK.EQ(J4,J$2:J$49,0) -> 15 | L4: =AVERAGEIF(Attacking!A:A,$A4,Attacking!D:D) -> 11.530435 | M4: =_xlfn.RANK.EQ(L4,L$2:L$49,0) -> 20 | N4: =AVERAGEIF(Defending!A:A,$A4,Defending!D:D) -> 12.208696 | O4: =_xlfn.RANK.EQ(N4,N$2:N$49,0) -> 17 | P4: =AVERAGEIF(Goalkeeping!A:A,$A4,Goalkeeping!D:D) -> 12.333333 | Q4: =_xlfn.RANK.EQ(P4,P$2:P$49,0) -> 26 | R4: =AVERAGEIF(Mental!A:A,$A4,Mental!D:D) -> 12.434066 | S4: =_xlfn.RANK.EQ(R4,R$2:R$49,0) -> 21 | T4: =AVERAGEIF(Physical!A:A,$A4,Physical!D:D) -> 13.052885 | U4: =_xlfn.RANK.EQ(T4,T$2:T$49,0) -> 22 | V4: =AVERAGEIF(Technical!A:A,$A4,Technical!D:D) -> 10.689441 | W4: =_xlfn.RANK.EQ(V4,V$2:V$49,0) -> 20
A5: UZB | B5: Uzbekistan | C5: 55 | D5: =YEARFRAC(AVERAGEIF(Squads!A:A,$A5,Squads!F:F),"11/06/2026", 1) -> 26.863792 | E5: =_xlfn.RANK.EQ(D5,D$2:D$49,0) -> 34 | F5: =AVERAGEIF(Squads!A:A,$A5,Squads!J:J) -> 32.961538 | G5: =_xlfn.RANK.EQ(F5,F$2:F$49,0) -> 10 | H5: =AVERAGEIF(Squads!A:A,$A5,Squads!M:M) -> 180.15385 | I5: =_xlfn.RANK.EQ(H5,H$2:H$49,0) -> 38 | J5: =AVERAGEIF(Squads!A:A,$A5,Squads!N:N) -> 73.769231 | K5: =_xlfn.RANK.EQ(J5,J$2:J$49,0) -> 39 | L5: =AVERAGEIF(Attacking!A:A,$A5,Attacking!D:D) -> 10.143478 | M5: =_xlfn.RANK.EQ(L5,L$2:L$49,0) -> 46 | N5: =AVERAGEIF(Defending!A:A,$A5,Defending!D:D) -> 11.065217 | O5: =_xlfn.RANK.EQ(N5,N$2:N$49,0) -> 44 | P5: =AVERAGEIF(Goalkeeping!A:A,$A5,Goalkeeping!D:D) -> 10.666667 | Q5: =_xlfn.RANK.EQ(P5,P$2:P$49,0) -> 45 | R5: =AVERAGEIF(Mental!A:A,$A5,Mental!D:D) -> 11.005495 | S5: =_xlfn.RANK.EQ(R5,R$2:R$49,0) -> 44 | T5: =AVERAGEIF(Physical!A:A,$A5,Physical!D:D) -> 11.620192 | U5: =_xlfn.RANK.EQ(T5,T$2:T$49,0) -> 45 | V5: =AVERAGEIF(Technical!A:A,$A5,Technical!D:D) -> 9.5403727 | W5: =_xlfn.RANK.EQ(V5,V$2:V$49,0) -> 43
A6: BIH | B6: Bosnia & Herzegovina | C6: 54 | D6: =YEARFRAC(AVERAGEIF(Squads!A:A,$A6,Squads!F:F),"11/06/2026", 1) -> 28.392183 | E6: =_xlfn.RANK.EQ(D6,D$2:D$49,0) -> 7 | F6: =AVERAGEIF(Squads!A:A,$A6,Squads!J:J) -> 23.5 | G6: =_xlfn.RANK.EQ(F6,F$2:F$49,0) -> 37 | H6: =AVERAGEIF(Squads!A:A,$A6,Squads!M:M) -> 183.46154 | I6: =_xlfn.RANK.EQ(H6,H$2:H$49,0) -> 13 | J6: =AVERAGEIF(Squads!A:A,$A6,Squads!N:N) -> 75.807692 | K6: =_xlfn.RANK.EQ(J6,J$2:J$49,0) -> 23 | L6: =AVERAGEIF(Attacking!A:A,$A6,Attacking!D:D) -> 11.521739 | M6: =_xlfn.RANK.EQ(L6,L$2:L$49,0) -> 23 | N6: =AVERAGEIF(Defending!A:A,$A6,Defending!D:D) -> 11.830435 | O6: =_xlfn.RANK.EQ(N6,N$2:N$49,0) -> 28 | P6: =AVERAGEIF(Goalkeeping!A:A,$A6,Goalkeeping!D:D) -> 12.242424 | Q6: =_xlfn.RANK.EQ(P6,P$2:P$49,0) -> 29 | R6: =AVERAGEIF(Mental!A:A,$A6,Mental!D:D) -> 12.442308 | S6: =_xlfn.RANK.EQ(R6,R$2:R$49,0) -> 20 | T6: =AVERAGEIF(Physical!A:A,$A6,Physical!D:D) -> 12.586538 | U6: =_xlfn.RANK.EQ(T6,T$2:T$49,0) -> 28 | V6: =AVERAGEIF(Technical!A:A,$A6,Technical!D:D) -> 10.583851 | W6: =_xlfn.RANK.EQ(V6,V$2:V$49,0) -> 22
A7: CAN | B7: Canada | C7: 44 | D7: =YEARFRAC(AVERAGEIF(Squads!A:A,$A7,Squads!F:F),"11/06/2026", 1) -> 27.965068 | E7: =_xlfn.RANK.EQ(D7,D$2:D$49,0) -> 19 | F7: =AVERAGEIF(Squads!A:A,$A7,Squads!J:J) -> 31.538462 | G7: =_xlfn.RANK.EQ(F7,F$2:F$49,0) -> 16 | H7: =AVERAGEIF(Squads!A:A,$A7,Squads!M:M) -> 181.61538 | I7: =_xlfn.RANK.EQ(H7,H$2:H$49,0) -> 30 | J7: =AVERAGEIF(Squads!A:A,$A7,Squads!N:N) -> 76.961538 | K7: =_xlfn.RANK.EQ(J7,J$2:J$49,0) -> 10 | L7: =AVERAGEIF(Attacking!A:A,$A7,Attacking!D:D) -> 10.704348 | M7: =_xlfn.RANK.EQ(L7,L$2:L$49,0) -> 40 | N7: =AVERAGEIF(Defending!A:A,$A7,Defending!D:D) -> 11.786957 | O7: =_xlfn.RANK.EQ(N7,N$2:N$49,0) -> 31 | P7: =AVERAGEIF(Goalkeeping!A:A,$A7,Goalkeeping!D:D) -> 11.757576 | Q7: =_xlfn.RANK.EQ(P7,P$2:P$49,0) -> 34 | R7: =AVERAGEIF(Mental!A:A,$A7,Mental!D:D) -> 11.782967 | S7: =_xlfn.RANK.EQ(R7,R$2:R$49,0) -> 36 | T7: =AVERAGEIF(Physical!A:A,$A7,Physical!D:D) -> 12.586538 | U7: =_xlfn.RANK.EQ(T7,T$2:T$49,0) -> 28 | V7: =AVERAGEIF(Technical!A:A,$A7,Technical!D:D) -> 10.164596 | W7: =_xlfn.RANK.EQ(V7,V$2:V$49,0) -> 36
A8: ECU | B8: Ecuador | C8: 25 | D8: =YEARFRAC(AVERAGEIF(Squads!A:A,$A8,Squads!F:F),"11/06/2026", 1) -> 26.743326 | E8: =_xlfn.RANK.EQ(D8,D$2:D$49,0) -> 36 | F8: =AVERAGEIF(Squads!A:A,$A8,Squads!J:J) -> 30.846154 | G8: =_xlfn.RANK.EQ(F8,F$2:F$49,0) -> 18 | H8: =AVERAGEIF(Squads!A:A,$A8,Squads!M:M) -> 180.96154 | I8: =_xlfn.RANK.EQ(H8,H$2:H$49,0) -> 34 | J8: =AVERAGEIF(Squads!A:A,$A8,Squads!N:N) -> 75.307692 | K8: =_xlfn.RANK.EQ(J8,J$2:J$49,0) -> 27 | L8: =AVERAGEIF(Attacking!A:A,$A8,Attacking!D:D) -> 10.995652 | M8: =_xlfn.RANK.EQ(L8,L$2:L$49,0) -> 33 | N8: =AVERAGEIF(Defending!A:A,$A8,Defending!D:D) -> 12.043478 | O8: =_xlfn.RANK.EQ(N8,N$2:N$49,0) -> 22 | P8: =AVERAGEIF(Goalkeeping!A:A,$A8,Goalkeeping!D:D) -> 12.30303 | Q8: =_xlfn.RANK.EQ(P8,P$2:P$49,0) -> 27 | R8: =AVERAGEIF(Mental!A:A,$A8,Mental!D:D) -> 11.763736 | S8: =_xlfn.RANK.EQ(R8,R$2:R$49,0) -> 40 | T8: =AVERAGEIF(Physical!A:A,$A8,Physical!D:D) -> 13.153846 | U8: =_xlfn.RANK.EQ(T8,T$2:T$49,0) -> 17 | V8: =AVERAGEIF(Technical!A:A,$A8,Technical!D:D) -> 10.34472 | W8: =_xlfn.RANK.EQ(V8,V$2:V$49,0) -> 33
A9: EGY | B9: Egypt | C9: 37 | D9: =YEARFRAC(AVERAGEIF(Squads!A:A,$A9,Squads!F:F),"11/06/2026", 1) -> 29.288126 | E9: =_xlfn.RANK.EQ(D9,D$2:D$49,0) -> 2 | F9: =AVERAGEIF(Squads!A:A,$A9,Squads!J:J) -> 35.269231 | G9: =_xlfn.RANK.EQ(F9,F$2:F$49,0) -> 4 | H9: =AVERAGEIF(Squads!A:A,$A9,Squads!M:M) -> 179.5 | I9: =_xlfn.RANK.EQ(H9,H$2:H$49,0) -> 44 | J9: =AVERAGEIF(Squads!A:A,$A9,Squads!N:N) -> 73.653846 | K9: =_xlfn.RANK.EQ(J9,J$2:J$49,0) -> 41 | L9: =AVERAGEIF(Attacking!A:A,$A9,Attacking!D:D) -> 11.065217 | M9: =_xlfn.RANK.EQ(L9,L$2:L$49,0) -> 31 | N9: =AVERAGEIF(Defending!A:A,$A9,Defending!D:D) -> 11.573913 | O9: =_xlfn.RANK.EQ(N9,N$2:N$49,0) -> 35 | P9: =AVERAGEIF(Goalkeeping!A:A,$A9,Goalkeeping!D:D) -> 11.848485 | Q9: =_xlfn.RANK.EQ(P9,P$2:P$49,0) -> 31 | R9: =AVERAGEIF(Mental!A:A,$A9,Mental!D:D) -> 11.837912 | S9: =_xlfn.RANK.EQ(R9,R$2:R$49,0) -> 35 | T9: =AVERAGEIF(Physical!A:A,$A9,Physical!D:D) -> 12.177885 | U9: =_xlfn.RANK.EQ(T9,T$2:T$49,0) -> 39 | V9: =AVERAGEIF(Technical!A:A,$A9,Technical!D:D) -> 10.481366 | W9: =_xlfn.RANK.EQ(V9,V$2:V$49,0) -> 28
A10: ALB | B10: Albania | C10: 57 | D10: =YEARFRAC(AVERAGEIF(Squads!A:A,$A10,Squads!F:F),"11/06/2026", 1) -> 27.04449 | E10: =_xlfn.RANK.EQ(D10,D$2:D$49,0) -> 29 | F10: =AVERAGEIF(Squads!A:A,$A10,Squads!J:J) -> 27.615385 | G10: =_xlfn.RANK.EQ(F10,F$2:F$49,0) -> 26 | H10: =AVERAGEIF(Squads!A:A,$A10,Squads!M:M) -> 182.61538 | I10: =_xlfn.RANK.EQ(H10,H$2:H$49,0) -> 20 | J10: =AVERAGEIF(Squads!A:A,$A10,Squads!N:N) -> 74.884615 | K10: =_xlfn.RANK.EQ(J10,J$2:J$49,0) -> 32 | L10: =AVERAGEIF(Attacking!A:A,$A10,Attacking!D:D) -> 10.917391 | M10: =_xlfn.RANK.EQ(L10,L$2:L$49,0) -> 37 | N10: =AVERAGEIF(Defending!A:A,$A10,Defending!D:D) -> 11.521739 | O10: =_xlfn.RANK.EQ(N10,N$2:N$49,0) -> 37 | P10: =AVERAGEIF(Goalkeeping!A:A,$A10,Goalkeeping!D:D) -> 11.757576 | Q10: =_xlfn.RANK.EQ(P10,P$2:P$49,0) -> 34 | R10: =AVERAGEIF(Mental!A:A,$A10,Mental!D:D) -> 11.782967 | S10: =_xlfn.RANK.EQ(R10,R$2:R$49,0) -> 36 | T10: =AVERAGEIF(Physical!A:A,$A10,Physical!D:D) -> 12.576923 | U10: =_xlfn.RANK.EQ(T10,T$2:T$49,0) -> 30 | V10: =AVERAGEIF(Technical!A:A,$A10,Technical!D:D) -> 10.13354 | W10: =_xlfn.RANK.EQ(V10,V$2:V$49,0) -> 38
A11: IRN | B11: Iran | C11: 43 | D11: =YEARFRAC(AVERAGEIF(Squads!A:A,$A11,Squads!F:F),"11/06/2026", 1) -> 28.233384 | E11: =_xlfn.RANK.EQ(D11,D$2:D$49,0) -> 11 | F11: =AVERAGEIF(Squads!A:A,$A11,Squads!J:J) -> 34.461538 | G11: =_xlfn.RANK.EQ(F11,F$2:F$49,0) -> 6 | H11: =AVERAGEIF(Squads!A:A,$A11,Squads!M:M) -> 185.42308 | I11: =_xlfn.RANK.EQ(H11,H$2:H$49,0) -> 4 | J11: =AVERAGEIF(Squads!A:A,$A11,Squads!N:N) -> 78.769231 | K11: =_xlfn.RANK.EQ(J11,J$2:J$49,0) -> 5 | L11: =AVERAGEIF(Attacking!A:A,$A11,Attacking!D:D) -> 10.234783 | M11: =_xlfn.RANK.EQ(L11,L$2:L$49,0) -> 44 | N11: =AVERAGEIF(Defending!A:A,$A11,Defending!D:D) -> 11.086957 | O11: =_xlfn.RANK.EQ(N11,N$2:N$49,0) -> 43 | P11: =AVERAGEIF(Goalkeeping!A:A,$A11,Goalkeeping!D:D) -> 13.181818 | Q11: =_xlfn.RANK.EQ(P11,P$2:P$49,0) -> 8 | R11: =AVERAGEIF(Mental!A:A,$A11,Mental!D:D) -> 11.326923 | S11: =_xlfn.RANK.EQ(R11,R$2:R$49,0) -> 42 | T11: =AVERAGEIF(Physical!A:A,$A11,Physical!D:D) -> 11.783654 | U11: =_xlfn.RANK.EQ(T11,T$2:T$49,0) -> 43 | V11: =AVERAGEIF(Technical!A:A,$A11,Technical!D:D) -> 9.484472 | W11: =_xlfn.RANK.EQ(V11,V$2:V$49,0) -> 44
A12: CIV | B12: Ivory Coast | C12: 23 | D12: =YEARFRAC(AVERAGEIF(Squads!A:A,$A12,Squads!F:F),"11/06/2026", 1) -> 26.093794 | E12: =_xlfn.RANK.EQ(D12,D$2:D$49,0) -> 47 | F12: =AVERAGEIF(Squads!A:A,$A12,Squads!J:J) -> 22.384615 | G12: =_xlfn.RANK.EQ(F12,F$2:F$49,0) -> 42 | H12: =AVERAGEIF(Squads!A:A,$A12,Squads!M:M) -> 183.42308 | I12: =_xlfn.RANK.EQ(H12,H$2:H$49,0) -> 14 | J12: =AVERAGEIF(Squads!A:A,$A12,Squads!N:N) -> 78.615385 | K12: =_xlfn.RANK.EQ(J12,J$2:J$49,0) -> 6 | L12: =AVERAGEIF(Attacking!A:A,$A12,Attacking!D:D) -> 11.721739 | M12: =_xlfn.RANK.EQ(L12,L$2:L$49,0) -> 15 | N12: =AVERAGEIF(Defending!A:A,$A12,Defending!D:D) -> 12.86087 | O12: =_xlfn.RANK.EQ(N12,N$2:N$49,0) -> 2 | P12: =AVERAGEIF(Goalkeeping!A:A,$A12,Goalkeeping!D:D) -> 12.454545 | Q12: =_xlfn.RANK.EQ(P12,P$2:P$49,0) -> 24 | R12: =AVERAGEIF(Mental!A:A,$A12,Mental!D:D) -> 12.629121 | S12: =_xlfn.RANK.EQ(R12,R$2:R$49,0) -> 16 | T12: =AVERAGEIF(Physical!A:A,$A12,Physical!D:D) -> 13.860577 | U12: =_xlfn.RANK.EQ(T12,T$2:T$49,0) -> 2 | V12: =AVERAGEIF(Technical!A:A,$A12,Technical!D:D) -> 10.804348 | W12: =_xlfn.RANK.EQ(V12,V$2:V$49,0) -> 14
A13: MEX | B13: Mexico | C13: 24 | D13: =YEARFRAC(AVERAGEIF(Squads!A:A,$A13,Squads!F:F),"11/06/2026", 1) -> 27.691276 | E13: =_xlfn.RANK.EQ(D13,D$2:D$49,0) -> 22 | F13: =AVERAGEIF(Squads!A:A,$A13,Squads!J:J) -> 34.307692 | G13: =_xlfn.RANK.EQ(F13,F$2:F$49,0) -> 7 | H13: =AVERAGEIF(Squads!A:A,$A13,Squads!M:M) -> 178.19231 | I13: =_xlfn.RANK.EQ(H13,H$2:H$49,0) -> 47 | J13: =AVERAGEIF(Squads!A:A,$A13,Squads!N:N) -> 71.538462 | K13: =_xlfn.RANK.EQ(J13,J$2:J$49,0) -> 47 | L13: =AVERAGEIF(Attacking!A:A,$A13,Attacking!D:D) -> 11.83913 | M13: =_xlfn.RANK.EQ(L13,L$2:L$49,0) -> 10 | N13: =AVERAGEIF(Defending!A:A,$A13,Defending!D:D) -> 11.852174 | O13: =_xlfn.RANK.EQ(N13,N$2:N$49,0) -> 26 | P13: =AVERAGEIF(Goalkeeping!A:A,$A13,Goalkeeping!D:D) -> 12.666667 | Q13: =_xlfn.RANK.EQ(P13,P$2:P$49,0) -> 20 | R13: =AVERAGEIF(Mental!A:A,$A13,Mental!D:D) -> 12.291209 | S13: =_xlfn.RANK.EQ(R13,R$2:R$49,0) -> 22 | T13: =AVERAGEIF(Physical!A:A,$A13,Physical!D:D) -> 12.75 | U13: =_xlfn.RANK.EQ(T13,T$2:T$49,0) -> 25 | V13: =AVERAGEIF(Technical!A:A,$A13,Technical!D:D) -> 11.021739 | W13: =_xlfn.RANK.EQ(V13,V$2:V$49,0) -> 8
... A49: THA | B49: Thailand | C49: 80 | D49: =YEARFRAC(AVERAGEIF(Squads!A:A,$A49,Squads!F:F),"11/06/2026", 1) -> 26.181403 | E49: =_xlfn.RANK.EQ(D49,D$2:D$49,0) -> 44 | F49: =AVERAGEIF(Squads!A:A,$A49,Squads!J:J) -> 27.423077 | G49: =_xlfn.RANK.EQ(F49,F$2:F$49,0) -> 28 | H49: =AVERAGEIF(Squads!A:A,$A49,Squads!M:M) -> 179.5 | I49: =_xlfn.RANK.EQ(H49,H$2:H$49,0) -> 44 | J49: =AVERAGEIF(Squads!A:A,$A49,Squads!N:N) -> 69.884615 | K49: =_xlfn.RANK.EQ(J49,J$2:J$49,0) -> 48 | L49: =AVERAGEIF(Attacking!A:A,$A49,Attacking!D:D) -> 10.052174 | M49: =_xlfn.RANK.EQ(L49,L$2:L$49,0) -> 47 | N49: =AVERAGEIF(Defending!A:A,$A49,Defending!D:D) -> 10.543478 | O49: =_xlfn.RANK.EQ(N49,N$2:N$49,0) -> 46 | P49: =AVERAGEIF(Goalkeeping!A:A,$A49,Goalkeeping!D:D) -> 10.939394 | Q49: =_xlfn.RANK.EQ(P49,P$2:P$49,0) -> 42 | R49: =AVERAGEIF(Mental!A:A,$A49,Mental!D:D) -> 10.884615 | S49: =_xlfn.RANK.EQ(R49,R$2:R$49,0) -> 45 | T49: =AVERAGEIF(Physical!A:A,$A49,Physical!D:D) -> 11.322115 | U49: =_xlfn.RANK.EQ(T49,T$2:T$49,0) -> 46 | V49: =AVERAGEIF(Technical!A:A,$A49,Technical!D:D) -> 8.9503106 | W49: =_xlfn.RANK.EQ(V49,V$2:V$49,0) -> 47

Sheet Births and Based
A1: NoB | B1: Nation of Birth | C1: Total | D1: Squad | F1: Based | G1: Nation Based In | H1: Total | I1: Squad | K1: Based | L1: Club Based In | M1: Total
A2: ENG | B2: England | C2: =COUNTIF(Squads!$E:$E,$A2) -> 84 | D2: =COUNTIFS(Squads!$E:$E,$A2,Squads!$A:$A,$A2) -> 26 | F2: ENG | G2: England | H2: =COUNTIF(Squads!$H:$H,$F2) -> 236 | I2: =COUNTIFS(Squads!$H:$H,$F2,Squads!$A:$A,$F2) -> 22 | K2: GER | L2: Borussia Dortmund | M2: =COUNTIFS(Squads!$H:$H,$K2,Squads!$I:$I,$L2) -> 17
A3: FRA | B3: France | C3: =COUNTIF(Squads!$E:$E,$A3) -> 75 | D3: N/A | F3: GER | G3: Germany | H3: =COUNTIF(Squads!H:H,$F3) -> 122 | I3: =COUNTIFS(Squads!$H:$H,$F3,Squads!$A:$A,$F3) -> 18 | K3: ENG | L3: Arsenal | M3: =COUNTIFS(Squads!$H:$H,$K3,Squads!$I:$I,$L3) -> 16
A4: NED | B4: Netherlands | C4: =COUNTIF(Squads!$E:$E,$A4) -> 69 | D4: =COUNTIFS(Squads!$E:$E,$A4,Squads!$A:$A,$A4) -> 26 | F4: ITA | G4: Italy | H4: =COUNTIF(Squads!H:H,$F4) -> 112 | I4: =COUNTIFS(Squads!$H:$H,$F4,Squads!$A:$A,$F4) -> 19 | K4: ENG | L4: Brentford | M4: =COUNTIFS(Squads!$H:$H,$K4,Squads!$I:$I,$L4) -> 16
A5: GER | B5: Germany | C5: =COUNTIF(Squads!$E:$E,$A5) -> 53 | D5: =COUNTIFS(Squads!$E:$E,$A5,Squads!$A:$A,$A5) -> 25 | F5: FRA | G5: France | H5: =COUNTIF(Squads!H:H,$F5) -> 78 | I5: N/A | K5: GER | L5: FC Bayern | M5: =COUNTIFS(Squads!$H:$H,$K5,Squads!$I:$I,$L5) -> 15
A6: ARG | B6: Argentina | C6: =COUNTIF(Squads!$E:$E,$A6) -> 45 | D6: =COUNTIFS(Squads!$E:$E,$A6,Squads!$A:$A,$A6) -> 26 | F6: ESP | G6: Spain | H6: =COUNTIF(Squads!H:H,$F6) -> 74 | I6: =COUNTIFS(Squads!$H:$H,$F6,Squads!$A:$A,$F6) -> 11 | K6: ENG | L6: Chelsea | M6: =COUNTIFS(Squads!$H:$H,$K6,Squads!$I:$I,$L6) -> 14
A7: BRA | B7: Brazil | C7: =COUNTIF(Squads!$E:$E,$A7) -> 39 | D7: =COUNTIFS(Squads!$E:$E,$A7,Squads!$A:$A,$A7) -> 26 | F7: NED | G7: Netherlands | H7: =COUNTIF(Squads!H:H,$F7) -> 52 | I7: =COUNTIFS(Squads!$H:$H,$F7,Squads!$A:$A,$F7) -> 8 | K7: ENG | L7: Tottenham | M7: =COUNTIFS(Squads!$H:$H,$K7,Squads!$I:$I,$L7) -> 14
A8: ITA | B8: Italy | C8: =COUNTIF(Squads!$E:$E,$A8) -> 37 | D8: =COUNTIFS(Squads!$E:$E,$A8,Squads!$A:$A,$A8) -> 21 | F8: KSA | G8: Saudi Arabia | H8: =COUNTIF(Squads!H:H,$F8) -> 47 | I8: =COUNTIFS(Squads!$H:$H,$F8,Squads!$A:$A,$F8) -> 21 | K8: ENG | L8: Man Utd | M8: =COUNTIFS(Squads!$H:$H,$K8,Squads!$I:$I,$L8) -> 13
A9: AUT | B9: Austria | C9: =COUNTIF(Squads!$E:$E,$A9) -> 31 | D9: =COUNTIFS(Squads!$E:$E,$A9,Squads!$A:$A,$A9) -> 25 | F9: USA | G9: United States | H9: =COUNTIF(Squads!H:H,$F9) -> 38 | I9: =COUNTIFS(Squads!$H:$H,$F9,Squads!$A:$A,$F9) -> 8 | K9: ENG | L9: Newcastle | M9: =COUNTIFS(Squads!$H:$H,$K9,Squads!$I:$I,$L9) -> 13
A10: ESP | B10: Spain | C10: =COUNTIF(Squads!$E:$E,$A10) -> 31 | D10: =COUNTIFS(Squads!$E:$E,$A10,Squads!$A:$A,$A10) -> 19 | F10: TUR | G10: Türkiye | H10: =COUNTIF(Squads!H:H,$F10) -> 37 | I10: =COUNTIFS(Squads!$H:$H,$F10,Squads!$A:$A,$F10) -> 9 | K10: ESP | L10: Barcelona | M10: =COUNTIFS(Squads!$H:$H,$K10,Squads!$I:$I,$L10) -> 13
A11: CRO | B11: Croatia | C11: =COUNTIF(Squads!$E:$E,$A11) -> 29 | D11: =COUNTIFS(Squads!$E:$E,$A11,Squads!$A:$A,$A11) -> 26 | F11: MEX | G11: Mexico | H11: =COUNTIF(Squads!H:H,$F11) -> 35 | I11: =COUNTIFS(Squads!$H:$H,$F11,Squads!$A:$A,$F11) -> 13 | K11: ITA | L11: Juventus | M11: =COUNTIFS(Squads!$H:$H,$K11,Squads!$I:$I,$L11) -> 13
A12: COL | B12: Colombia | C12: =COUNTIF(Squads!$E:$E,$A12) -> 28 | D12: =COUNTIFS(Squads!$E:$E,$A12,Squads!$A:$A,$A12) -> 25 | F12: POR | G12: Portugal | H12: =COUNTIF(Squads!H:H,$F12) -> 35 | I12: N/A | K12: ENG | L12: Aston Villa | M12: =COUNTIFS(Squads!$H:$H,$K12,Squads!$I:$I,$L12) -> 12
A13: DEN | B13: Denmark | C13: =COUNTIF(Squads!$E:$E,$A13) -> 27 | D13: =COUNTIFS(Squads!$E:$E,$A13,Squads!$A:$A,$A13) -> 26 | F13: BRA | G13: Brazil | H13: =COUNTIF(Squads!H:H,$F13) -> 27 | I13: =COUNTIFS(Squads!$H:$H,$F13,Squads!$A:$A,$F13) -> 3 | K13: ENG | L13: Brighton | M13: =COUNTIFS(Squads!$H:$H,$K13,Squads!$I:$I,$L13) -> 12
A14: KSA | B14: Saudi Arabia | C14: =COUNTIF(Squads!$E:$E,$A14) -> 27 | D14: =COUNTIFS(Squads!$E:$E,$A14,Squads!$A:$A,$A14) -> 26 | F14: JOR | G14: Jordan | H14: =COUNTIF(Squads!H:H,$F14) -> 19 | I14: =COUNTIFS(Squads!$H:$H,$F14,Squads!$A:$A,$F14) -> 19 | K14: ENG | L14: Liverpool | M14: =COUNTIFS(Squads!$H:$H,$K14,Squads!$I:$I,$L14) -> 12
A15: CRC | B15: Costa Rica | C15: =COUNTIF(Squads!$E:$E,$A15) -> 26 | D15: =COUNTIFS(Squads!$E:$E,$A15,Squads!$A:$A,$A15) -> 26 | F15: THA | G15: Thailand | H15: =COUNTIF(Squads!H:H,$F15) -> 19 | I15: =COUNTIFS(Squads!$H:$H,$F15,Squads!$A:$A,$F15) -> 19 | K15: ENG | L15: Man City | M15: =COUNTIFS(Squads!$H:$H,$K15,Squads!$I:$I,$L15) -> 12
A16: EGY | B16: Egypt | C16: =COUNTIF(Squads!$E:$E,$A16) -> 26 | D16: =COUNTIFS(Squads!$E:$E,$A16,Squads!$A:$A,$A16) -> 25 | F16: BEL | G16: Belgium | H16: =COUNTIF(Squads!H:H,$F16) -> 18 | I16: N/A | K16: ESP | L16: Real Madrid | M16: =COUNTIFS(Squads!$H:$H,$K16,Squads!$I:$I,$L16) -> 12
A17: IRN | B17: Iran | C17: =COUNTIF(Squads!$E:$E,$A17) -> 26 | D17: =COUNTIFS(Squads!$E:$E,$A17,Squads!$A:$A,$A17) -> 26 | F17: EGY | G17: Egypt | H17: =COUNTIF(Squads!H:H,$F17) -> 18 | I17: =COUNTIFS(Squads!$H:$H,$F17,Squads!$A:$A,$F17) -> 17 | K17: FRA | L17: PSG | M17: =COUNTIFS(Squads!$H:$H,$K17,Squads!$I:$I,$L17) -> 12
A18: JPN | B18: Japan | C18: =COUNTIF(Squads!$E:$E,$A18) -> 26 | D18: =COUNTIFS(Squads!$E:$E,$A18,Squads!$A:$A,$A18) -> 25 | F18: AUS | G18: Australia | H18: =COUNTIF(Squads!H:H,$F18) -> 17 | I18: =COUNTIFS(Squads!$H:$H,$F18,Squads!$A:$A,$F18) -> 7 | K18: NED | L18: Ajax | M18: =COUNTIFS(Squads!$H:$H,$K18,Squads!$I:$I,$L18) -> 12
A19: KOR | B19: South Korea | C19: =COUNTIF(Squads!$E:$E,$A19) -> 26 | D19: =COUNTIFS(Squads!$E:$E,$A19,Squads!$A:$A,$A19) -> 25 | F19: AUT | G19: Austria | H19: =COUNTIF(Squads!H:H,$F19) -> 17 | I19: =COUNTIFS(Squads!$H:$H,$F19,Squads!$A:$A,$F19) -> 8 | K19: ITA | L19: Inter | M19: =COUNTIFS(Squads!$H:$H,$K19,Squads!$I:$I,$L19) -> 11
A20: NOR | B20: Norway | C20: =COUNTIF(Squads!$E:$E,$A20) -> 26 | D20: =COUNTIFS(Squads!$E:$E,$A20,Squads!$A:$A,$A20) -> 24 | F20: SCO | G20: Scotland | H20: =COUNTIF(Squads!H:H,$F20) -> 17 | I20: N/A | K20: ITA | L20: Napoli | M20: =COUNTIFS(Squads!$H:$H,$K20,Squads!$I:$I,$L20) -> 11
A21: UZB | B21: Uzbekistan | C21: =COUNTIF(Squads!$E:$E,$A21) -> 26 | D21: =COUNTIFS(Squads!$E:$E,$A21,Squads!$A:$A,$A21) -> 26 | F21: IRN | G21: Iran | H21: =COUNTIF(Squads!H:H,$F21) -> 16 | I21: =COUNTIFS(Squads!$H:$H,$F21,Squads!$A:$A,$F21) -> 14 | K21: POR | L21: FC Porto | M21: =COUNTIFS(Squads!$H:$H,$K21,Squads!$I:$I,$L21) -> 10
A22: JOR | B22: Jordan | C22: =COUNTIF(Squads!$E:$E,$A22) -> 25 | D22: =COUNTIFS(Squads!$E:$E,$A22,Squads!$A:$A,$A22) -> 25 | F22: CRC | G22: Costa Rica | H22: =COUNTIF(Squads!H:H,$F22) -> 14 | I22: =COUNTIFS(Squads!$H:$H,$F22,Squads!$A:$A,$F22) -> 14 | K22: ENG | L22: West Ham | M22: =COUNTIFS(Squads!$H:$H,$K22,Squads!$I:$I,$L22) -> 9
A23: SVK | B23: Slovakia | C23: =COUNTIF(Squads!$E:$E,$A23) -> 25 | D23: =COUNTIFS(Squads!$E:$E,$A23,Squads!$A:$A,$A23) -> 25 | F23: JPN | G23: Japan | H23: =COUNTIF(Squads!H:H,$F23) -> 13 | I23: =COUNTIFS(Squads!$H:$H,$F23,Squads!$A:$A,$F23) -> 5 | K23: GER | L23: RB Leipzig | M23: =COUNTIFS(Squads!$H:$H,$K23,Squads!$I:$I,$L23) -> 9
A24: USA | B24: United States | C24: =COUNTIF(Squads!$E:$E,$A24) -> 25 | D24: =COUNTIFS(Squads!$E:$E,$A24,Squads!$A:$A,$A24) -> 14 | F24: RUS | G24: Russia | H24: =COUNTIF(Squads!H:H,$F24) -> 12 | I24: N/A | K24: GER | L24: Stuttgart | M24: =COUNTIFS(Squads!$H:$H,$K24,Squads!$I:$I,$L24) -> 9
A25: ECU | B25: Ecuador | C25: =COUNTIF(Squads!$E:$E,$A25) -> 24 | D25: =COUNTIFS(Squads!$E:$E,$A25,Squads!$A:$A,$A25) -> 24 | F25: UKR | G25: Ukraine | H25: =COUNTIF(Squads!H:H,$F25) -> 12 | I25: =COUNTIFS(Squads!$H:$H,$F25,Squads!$A:$A,$F25) -> 11 | K25: ITA | L25: Lazio | M25: =COUNTIFS(Squads!$H:$H,$K25,Squads!$I:$I,$L25) -> 9
A26: UKR | B26: Ukraine | C26: =COUNTIF(Squads!$E:$E,$A26) -> 24 | D26: =COUNTIFS(Squads!$E:$E,$A26,Squads!$A:$A,$A26) -> 24 | F26: ARG | G26: Argentina | H26: =COUNTIF(Squads!H:H,$F26) -> 11 | I26: =COUNTIFS(Squads!$H:$H,$F26,Squads!$A:$A,$F26) -> 2 | K26: ITA | L26: Milan | M26: =COUNTIFS(Squads!$H:$H,$K26,Squads!$I:$I,$L26) -> 9
A27: URU | B27: Uruguay | C27: =COUNTIF(Squads!$E:$E,$A27) -> 24 | D27: =COUNTIFS(Squads!$E:$E,$A27,Squads!$A:$A,$A27) -> 24 | F27: CRO | G27: Croatia | H27: =COUNTIF(Squads!H:H,$F27) -> 11 | I27: =COUNTIFS(Squads!$H:$H,$F27,Squads!$A:$A,$F27) -> 5 | K27: NED | L27: AZ | M27: =COUNTIFS(Squads!$H:$H,$K27,Squads!$I:$I,$L27) -> 9
A28: AUS | B28: Australia | C28: =COUNTIF(Squads!$E:$E,$A28) -> 21 | D28: =COUNTIFS(Squads!$E:$E,$A28,Squads!$A:$A,$A28) -> 19 | F28: DEN | G28: Denmark | H28: =COUNTIF(Squads!H:H,$F28) -> 11 | I28: =COUNTIFS(Squads!$H:$H,$F28,Squads!$A:$A,$F28) -> 1 | K28: NED | L28: Feyenoord | M28: =COUNTIFS(Squads!$H:$H,$K28,Squads!$I:$I,$L28) -> 9
A29: CHI | B29: Chile | C29: =COUNTIF(Squads!$E:$E,$A29) -> 21 | D29: =COUNTIFS(Squads!$E:$E,$A29,Squads!$A:$A,$A29) -> 21 | F29: UZB | G29: Uzbekistan | H29: =COUNTIF(Squads!H:H,$F29) -> 11 | I29: =COUNTIFS(Squads!$H:$H,$F29,Squads!$A:$A,$F29) -> 11 | K29: NED | L29: PSV | M29: =COUNTIFS(Squads!$H:$H,$K29,Squads!$I:$I,$L29) -> 9
A30: MEX | B30: Mexico | C30: =COUNTIF(Squads!$E:$E,$A30) -> 21 | D30: =COUNTIFS(Squads!$E:$E,$A30,Squads!$A:$A,$A30) -> 21 | F30: GRE | G30: Greece | H30: =COUNTIF(Squads!H:H,$F30) -> 10 | I30: N/A | K30: AUT | L30: RB Salzburg | M30: =COUNTIFS(Squads!$H:$H,$K30,Squads!$I:$I,$L30) -> 8
A31: POL | B31: Poland | C31: =COUNTIF(Squads!$E:$E,$A31) -> 20 | D31: =COUNTIFS(Squads!$E:$E,$A31,Squads!$A:$A,$A31) -> 20 | F31: KOR | G31: South Korea | H31: =COUNTIF(Squads!H:H,$F31) -> 10 | I31: =COUNTIFS(Squads!$H:$H,$F31,Squads!$A:$A,$F31) -> 8 | K31: ENG | L31: Crystal Palace | M31: =COUNTIFS(Squads!$H:$H,$K31,Squads!$I:$I,$L31) -> 8
A32: THA | B32: Thailand | C32: =COUNTIF(Squads!$E:$E,$A32) -> 19 | D32: =COUNTIFS(Squads!$E:$E,$A32,Squads!$A:$A,$A32) -> 19 | F32: NOR | G32: Norway | H32: =COUNTIF(Squads!H:H,$F32) -> 9 | I32: =COUNTIFS(Squads!$H:$H,$F32,Squads!$A:$A,$F32) -> 5 | K32: GER | L32: Wolfsburg | M32: =COUNTIFS(Squads!$H:$H,$K32,Squads!$I:$I,$L32) -> 8
A33: NZL | B33: New Zealand | C33: =COUNTIF(Squads!$E:$E,$A33) -> 17 | D33: =COUNTIFS(Squads!$E:$E,$A33,Squads!$A:$A,$A33) -> 17 | F33: QAT | G33: Qatar | H33: =COUNTIF(Squads!H:H,$F33) -> 9 | I33: N/A | K33: JOR | L33: Al-Wehdat | M33: =COUNTIFS(Squads!$H:$H,$K33,Squads!$I:$I,$L33) -> 8
A34: PAR | B34: Paraguay | C34: =COUNTIF(Squads!$E:$E,$A34) -> 17 | D34: =COUNTIFS(Squads!$E:$E,$A34,Squads!$A:$A,$A34) -> 17 | F34: UAE | G34: United Arab Emirates | H34: =COUNTIF(Squads!H:H,$F34) -> 8 | I34: N/A | K34: KSA | L34: Al-Ittihad | M34: =COUNTIFS(Squads!$H:$H,$K34,Squads!$I:$I,$L34) -> 8
A35: MLI | B35: Mali | C35: =COUNTIF(Squads!$E:$E,$A35) -> 15 | D35: =COUNTIFS(Squads!$E:$E,$A35,Squads!$A:$A,$A35) -> 15 | F35: CZE | G35: Czechia | H35: =COUNTIF(Squads!H:H,$F35) -> 6 | I35: N/A | K35: KSA | L35: Al-Nassr (KSA) | M35: =COUNTIFS(Squads!$H:$H,$K35,Squads!$I:$I,$L35) -> 8
A36: TUR | B36: Türkiye | C36: =COUNTIF(Squads!$E:$E,$A36) -> 15 | D36: =COUNTIFS(Squads!$E:$E,$A36,Squads!$A:$A,$A36) -> 15 | F36: SUI | G36: Switzerland | H36: =COUNTIF(Squads!H:H,$F36) -> 6 | I36: N/A | K36: MEX | L36: América | M36: =COUNTIFS(Squads!$H:$H,$K36,Squads!$I:$I,$L36) -> 8
A37: BIH | B37: Bosnia & Herzegovina | C37: =COUNTIF(Squads!$E:$E,$A37) -> 14 | D37: =COUNTIFS(Squads!$E:$E,$A37,Squads!$A:$A,$A37) -> 14 | F37: TUN | G37: Tunisia | H37: =COUNTIF(Squads!H:H,$F37) -> 6 | I37: =COUNTIFS(Squads!$H:$H,$F37,Squads!$A:$A,$F37) -> 6 | K37: POR | L37: SL Benfica | M37: =COUNTIFS(Squads!$H:$H,$K37,Squads!$I:$I,$L37) -> 8
A38: IRL | B38: Republic of Ireland | C38: =COUNTIF(Squads!$E:$E,$A38) -> 14 | D38: =COUNTIFS(Squads!$E:$E,$A38,Squads!$A:$A,$A38) -> 14 | F38: CHI | G38: Chile | H38: =COUNTIF(Squads!H:H,$F38) -> 5 | I38: =COUNTIFS(Squads!$H:$H,$F38,Squads!$A:$A,$F38) -> 5 | K38: TUR | L38: Fenerbahçe | M38: =COUNTIFS(Squads!$H:$H,$K38,Squads!$I:$I,$L38) -> 8
A39: BEL | B39: Belgium | C39: =COUNTIF(Squads!$E:$E,$A39) -> 13 | D39: N/A | F39: ECU | G39: Ecuador | H39: =COUNTIF(Squads!H:H,$F39) -> 5 | I39: =COUNTIFS(Squads!$H:$H,$F39,Squads!$A:$A,$F39) -> 5 | K39: TUR | L39: Galatasaray | M39: =COUNTIFS(Squads!$H:$H,$K39,Squads!$I:$I,$L39) -> 8
A40: CAN | B40: Canada | C40: =COUNTIF(Squads!$E:$E,$A40) -> 13 | D40: =COUNTIFS(Squads!$E:$E,$A40,Squads!$A:$A,$A40) -> 11 | F40: SVK | G40: Slovakia | H40: =COUNTIF(Squads!H:H,$F40) -> 5 | I40: =COUNTIFS(Squads!$H:$H,$F40,Squads!$A:$A,$F40) -> 3 | K40: UKR | L40: Shakhtar | M40: =COUNTIFS(Squads!$H:$H,$K40,Squads!$I:$I,$L40) -> 8
A41: ALB | B41: Albania | C41: =COUNTIF(Squads!$E:$E,$A41) -> 11 | D41: =COUNTIFS(Squads!$E:$E,$A41,Squads!$A:$A,$A41) -> 11 | F41: MAR | G41: Morocco | H41: =COUNTIF(Squads!H:H,$F41) -> 4 | I41: =COUNTIFS(Squads!$H:$H,$F41,Squads!$A:$A,$F41) -> 3 | K41: EGY | L41: Al-Ahly | M41: =COUNTIFS(Squads!$H:$H,$K41,Squads!$I:$I,$L41) -> 7
A42: CIV | B42: Ivory Coast | C42: =COUNTIF(Squads!$E:$E,$A42) -> 11 | D42: =COUNTIFS(Squads!$E:$E,$A42,Squads!$A:$A,$A42) -> 11 | F42: SWE | G42: Sweden | H42: =COUNTIF(Squads!H:H,$F42) -> 4 | I42: N/A | K42: ENG | L42: Everton | M42: =COUNTIFS(Squads!$H:$H,$K42,Squads!$I:$I,$L42) -> 7
A43: SEN | B43: Senegal | C43: =COUNTIF(Squads!$E:$E,$A43) -> 11 | D43: =COUNTIFS(Squads!$E:$E,$A43,Squads!$A:$A,$A43) -> 11 | F43: ANG | G43: Angola | H43: =COUNTIF(Squads!H:H,$F43) -> 3 | I43: =COUNTIFS(Squads!$H:$H,$F43,Squads!$A:$A,$F43) -> 3 | K43: ENG | L43: Leicester | M43: =COUNTIFS(Squads!$H:$H,$K43,Squads!$I:$I,$L43) -> 7
A44: TUN | B44: Tunisia | C44: =COUNTIF(Squads!$E:$E,$A44) -> 11 | D44: =COUNTIFS(Squads!$E:$E,$A44,Squads!$A:$A,$A44) -> 11 | F44: NZL | G44: New Zealand | H44: =COUNTIF(Squads!H:H,$F44) -> 3 | I44: =COUNTIFS(Squads!$H:$H,$F44,Squads!$A:$A,$F44) -> 3 | K44: ESP | L44: Real Sociedad | M44: =COUNTIFS(Squads!$H:$H,$K44,Squads!$I:$I,$L44) -> 7
A45: ANG | B45: Angola | C45: =COUNTIF(Squads!$E:$E,$A45) -> 10 | D45: =COUNTIFS(Squads!$E:$E,$A45,Squads!$A:$A,$A45) -> 10 | F45: PAR | G45: Paraguay | H45: =COUNTIF(Squads!H:H,$F45) -> 3 | I45: =COUNTIFS(Squads!$H:$H,$F45,Squads!$A:$A,$F45) -> 3 | K45: FRA | L45: Lens | M45: =COUNTIFS(Squads!$H:$H,$K45,Squads!$I:$I,$L45) -> 7
A46: POR | B46: Portugal | C46: =COUNTIF(Squads!$E:$E,$A46) -> 10 | D46: N/A | F46: POL | G46: Poland | H46: =COUNTIF(Squads!H:H,$F46) -> 3 | I46: =COUNTIFS(Squads!$H:$H,$F46,Squads!$A:$A,$F46) -> 1 | K46: FRA | L46: Lyon | M46: =COUNTIFS(Squads!$H:$H,$K46,Squads!$I:$I,$L46) -> 7
A47: SUI | B47: Switzerland | C47: =COUNTIF(Squads!$E:$E,$A47) -> 10 | D47: N/A | F47: COL | G47: Colombia | H47: =COUNTIF(Squads!H:H,$F47) -> 2 | I47: =COUNTIFS(Squads!$H:$H,$F47,Squads!$A:$A,$F47) -> 0 | K47: GER | L47: Eintracht Frankfurt | M47: =COUNTIFS(Squads!$H:$H,$K47,Squads!$I:$I,$L47) -> 7
A48: MAR | B48: Morocco | C48: =COUNTIF(Squads!$E:$E,$A48) -> 8 | D48: =COUNTIFS(Squads!$E:$E,$A48,Squads!$A:$A,$A48) -> 7 | F48: IRQ | G48: Iraq | H48: =COUNTIF(Squads!H:H,$F48) -> 2 | I48: N/A | K48: ITA | L48: Atalanta | M48: =COUNTIFS(Squads!$H:$H,$K48,Squads!$I:$I,$L48) -> 7
A49: SWE | B49: Sweden | C49: =COUNTIF(Squads!$E:$E,$A49) -> 8 | D49: N/A | F49: SRB | G49: Serbia | H49: =COUNTIF(Squads!H:H,$F49) -> 2 | I49: N/A | K49: ITA | L49: Roma | M49: =COUNTIFS(Squads!$H:$H,$K49,Squads!$I:$I,$L49) -> 7
A50: ALG | B50: Algeria | C50: =COUNTIF(Squads!$E:$E,$A50) -> 7 | D50: =COUNTIFS(Squads!$E:$E,$A50,Squads!$A:$A,$A50) -> 7 | F50: CAN | G50: Canada | H50: =COUNTIF(Squads!H:H,$F50) -> 1 | I50: =COUNTIFS(Squads!$H:$H,$F50,Squads!$A:$A,$F50) -> 0 | K50: KSA | L50: Al-Ahli (KSA) | M50: =COUNTIFS(Squads!$H:$H,$K50,Squads!$I:$I,$L50) -> 7
A51: NGA | B51: Nigeria | C51: =COUNTIF(Squads!$E:$E,$A51) -> 7 | D51: =COUNTIFS(Squads!$E:$E,$A51,Squads!$A:$A,$A51) -> 7 | F51: CHN | G51: China | H51: =COUNTIF(Squads!H:H,$F51) -> 1 | I51: N/A | K51: KSA | L51: Al-Hilal (KSA) | M51: =COUNTIFS(Squads!$H:$H,$K51,Squads!$I:$I,$L51) -> 7
A52: JAM | B52: Jamaica | C52: =COUNTIF(Squads!$E:$E,$A52) -> 5 | D52: =COUNTIFS(Squads!$E:$E,$A52,Squads!$A:$A,$A52) -> 5 | F52: CYP | G52: Cyprus | H52: =COUNTIF(Squads!H:H,$F52) -> 1 | I52: N/A | K52: SCO | L52: Celtic | M52: =COUNTIFS(Squads!$H:$H,$K52,Squads!$I:$I,$L52) -> 7
A53: GRE | B53: Greece | C53: =COUNTIF(Squads!$E:$E,$A53) -> 3 | D53: N/A | F53: HUN | G53: Hungary | H53: =COUNTIF(Squads!H:H,$F53) -> 1 | I53: N/A | K53: AUS | L53: Wellington Phoenix | M53: =COUNTIFS(Squads!$H:$H,$K53,Squads!$I:$I,$L53) -> 6
A54: SRB | B54: Serbia | C54: =COUNTIF(Squads!$E:$E,$A54) -> 3 | D54: N/A | F54: ISR | G54: Israel | H54: =COUNTIF(Squads!H:H,$F54) -> 1 | I54: N/A | K54: ENG | L54: Bournemouth | M54: =COUNTIFS(Squads!$H:$H,$K54,Squads!$I:$I,$L54) -> 6
A55: COD | B55: DR Congo | C55: =COUNTIF(Squads!$E:$E,$A55) -> 2 | D55: =COUNTIFS(Squads!$E:$E,$A55,Squads!$A:$A,$A55) -> 2 | F55: JAM | G55: Jamaica | H55: =COUNTIF(Squads!H:H,$F55) -> 1 | I55: =COUNTIFS(Squads!$H:$H,$F55,Squads!$A:$A,$F55) -> 1 | K55: ENG | L55: Burnley | M55: =COUNTIFS(Squads!$H:$H,$K55,Squads!$I:$I,$L55) -> 6
A56: CRM | B56: Crimea | C56: =COUNTIF(Squads!$E:$E,$A56) -> 1 | D56: N/A | F56: KAZ | G56: Kazakhstan | H56: =COUNTIF(Squads!H:H,$F56) -> 1 | I56: N/A | K56: ENG | L56: Middlesbrough | M56: =COUNTIFS(Squads!$H:$H,$K56,Squads!$I:$I,$L56) -> 6
A57: LUX | B57: Luxembourg | C57: =COUNTIF(Squads!$E:$E,$A57) -> 1 | D57: N/A | F57: LVA | G57: Latvia | H57: =COUNTIF(Squads!H:H,$F57) -> 1 | I57: N/A | K57: GER | L57: Freiburg | M57: =COUNTIFS(Squads!$H:$H,$K57,Squads!$I:$I,$L57) -> 6
A58: RSA | B58: South Africa | C58: =COUNTIF(Squads!$E:$E,$A58) -> 1 | D58: N/A | F58: MLI | G58: Mali | H58: =COUNTIF(Squads!H:H,$F58) -> 1 | I58: =COUNTIFS(Squads!$H:$H,$F58,Squads!$A:$A,$F58) -> 1 | K58: GER | L58: Mainz | M58: =COUNTIFS(Squads!$H:$H,$K58,Squads!$I:$I,$L58) -> 6
A59: SCO | B59: Scotland | C59: =COUNTIF(Squads!$E:$E,$A59) -> 1 | D59: N/A | F59: ROU | G59: Romania | H59: =COUNTIF(Squads!H:H,$F59) -> 1 | I59: N/A | K59: GER | L59: Union Berlin | M59: =COUNTIFS(Squads!$H:$H,$K59,Squads!$I:$I,$L59) -> 6
A60: SUR | B60: Suriname | C60: =COUNTIF(Squads!$E:$E,$A60) -> 1 | D60: =COUNTIFS(Squads!$E:$E,$A60,Squads!$A:$A,$A60) -> 1 | F60: RSA | G60: South Africa | H60: =COUNTIF(Squads!H:H,$F60) -> 1 | I60: N/A | K60: ITA | L60: Torino | M60: =COUNTIFS(Squads!$H:$H,$K60,Squads!$I:$I,$L60) -> 6
A61: SVN | B61: Slovenia | C61: =COUNTIF(Squads!$E:$E,$A61) -> 1 | D61: N/A | F61: TAN | G61: Tanzania | H61: =COUNTIF(Squads!H:H,$F61) -> 1 | I61: N/A | K61: ITA | L61: Udinese | M61: =COUNTIFS(Squads!$H:$H,$K61,Squads!$I:$I,$L61) -> 6
F62: TRI | G62: Trinidad & Tobago | H62: =COUNTIF(Squads!H:H,$F62) -> 1 | I62: N/A | K62: JOR | L62: Al-Faisaly (JOR) | M62: =COUNTIFS(Squads!$H:$H,$K62,Squads!$I:$I,$L62) -> 6
F63: ALB | G63: Albania | H63: =COUNTIF(Squads!H:H,$F63) -> 0 | I63: =COUNTIFS(Squads!$H:$H,$F63,Squads!$A:$A,$F63) -> 0 | K63: KSA | L63: Al-Ettifaq | M63: =COUNTIFS(Squads!$H:$H,$K63,Squads!$I:$I,$L63) -> 6
F64: ALG | G64: Algeria | H64: =COUNTIF(Squads!H:H,$F64) -> 0 | I64: =COUNTIFS(Squads!$H:$H,$F64,Squads!$A:$A,$F64) -> 0 | K64: MEX | L64: Tigres | M64: =COUNTIFS(Squads!$H:$H,$K64,Squads!$I:$I,$L64) -> 6
F65: BIH | G65: Bosnia & Herzegovina | H65: =COUNTIF(Squads!H:H,$F65) -> 0 | I65: =COUNTIFS(Squads!$H:$H,$F65,Squads!$A:$A,$F65) -> 0 | K65: POR | L65: Sporting CP | M65: =COUNTIFS(Squads!$H:$H,$K65,Squads!$I:$I,$L65) -> 6
F66: CIV | G66: Ivory Coast | H66: =COUNTIF(Squads!H:H,$F66) -> 0 | I66: =COUNTIFS(Squads!$H:$H,$F66,Squads!$A:$A,$F66) -> 0 | K66: TUR | L66: Beşiktaş | M66: =COUNTIFS(Squads!$H:$H,$K66,Squads!$I:$I,$L66) -> 6
F67: COD | G67: DR Congo | H67: =COUNTIF(Squads!H:H,$F67) -> 0 | I67: =COUNTIFS(Squads!$H:$H,$F67,Squads!$A:$A,$F67) -> 0 | K67: BEL | L67: Anderlecht | M67: =COUNTIFS(Squads!$H:$H,$K67,Squads!$I:$I,$L67) -> 5
F68: IRL | G68: Republic of Ireland | H68: =COUNTIF(Squads!H:H,$F68) -> 0 | I68: =COUNTIFS(Squads!$H:$H,$F68,Squads!$A:$A,$F68) -> 0 | K68: BRA | L68: Internacional | M68: =COUNTIFS(Squads!$H:$H,$K68,Squads!$I:$I,$L68) -> 5
F69: NGA | G69: Nigeria | H69: =COUNTIF(Squads!H:H,$F69) -> 0 | I69: =COUNTIFS(Squads!$H:$H,$F69,Squads!$A:$A,$F69) -> 0 | K69: CRC | L69: Saprissa | M69: =COUNTIFS(Squads!$H:$H,$K69,Squads!$I:$I,$L69) -> 5
F70: SEN | G70: Senegal | H70: =COUNTIF(Squads!H:H,$F70) -> 0 | I70: =COUNTIFS(Squads!$H:$H,$F70,Squads!$A:$A,$F70) -> 0 | K70: ESP | L70: Real Betis | M70: =COUNTIFS(Squads!$H:$H,$K70,Squads!$I:$I,$L70) -> 5
F71: SUR | G71: Suriname | H71: =COUNTIF(Squads!H:H,$F71) -> 0 | I71: =COUNTIFS(Squads!$H:$H,$F71,Squads!$A:$A,$F71) -> 0 | K71: FRA | L71: Marseille | M71: =COUNTIFS(Squads!$H:$H,$K71,Squads!$I:$I,$L71) -> 5
F72: URU | G72: Uruguay | H72: =COUNTIF(Squads!H:H,$F72) -> 0 | I72: =COUNTIFS(Squads!$H:$H,$F72,Squads!$A:$A,$F72) -> 0 | K72: FRA | L72: Montpellier | M72: =COUNTIFS(Squads!$H:$H,$K72,Squads!$I:$I,$L72) -> 5
K73: GER | L73: Borussia M'gladbach | M73: =COUNTIFS(Squads!$H:$H,$K73,Squads!$I:$I,$L73) -> 5
K74: GER | L74: Hoffenheim | M74: =COUNTIFS(Squads!$H:$H,$K74,Squads!$I:$I,$L74) -> 5
K75: ITA | L75: Bologna | M75: =COUNTIFS(Squads!$H:$H,$K75,Squads!$I:$I,$L75) -> 5
K76: ITA | L76: Sassuolo | M76: =COUNTIFS(Squads!$H:$H,$K76,Squads!$I:$I,$L76) -> 5
K77: NED | L77: FC Utrecht | M77: =COUNTIFS(Squads!$H:$H,$K77,Squads!$I:$I,$L77) -> 5
K78: POR | L78: Sp. Braga | M78: =COUNTIFS(Squads!$H:$H,$K78,Squads!$I:$I,$L78) -> 5
K79: UZB | L79: Nasaf | M79: =COUNTIFS(Squads!$H:$H,$K79,Squads!$I:$I,$L79) -> 5
K80: AUT | L80: SK Rapid | M80: =COUNTIFS(Squads!$H:$H,$K80,Squads!$I:$I,$L80) -> 4
K81: AUT | L81: SK Sturm | M81: =COUNTIFS(Squads!$H:$H,$K81,Squads!$I:$I,$L81) -> 4
K82: BEL | L82: Club Brugge | M82: =COUNTIFS(Squads!$H:$H,$K82,Squads!$I:$I,$L82) -> 4
K83: BRA | L83: Flamengo | M83: =COUNTIFS(Squads!$H:$H,$K83,Squads!$I:$I,$L83) -> 4
K84: BRA | L84: Palmeiras | M84: =COUNTIFS(Squads!$H:$H,$K84,Squads!$I:$I,$L84) -> 4
... K425: UZB | L425: So'g'diyona | M425: =COUNTIFS(Squads!$H:$H,$K425,Squads!$I:$I,$L425) -> 1

Sheet Attribute Rank GK
A1: NATION | B1: Name | C1: Aer | E1: Cmd | G1: Com | I1: Ecc | K1: Han | M1: Kic | O1: 1v1 | Q1: Ref | S1: TRO | U1: Pun | W1: Thr
A2: ALG | B2: Algeria | C2: =AVERAGEIF(Goalkeeping!$A:$A,$A2,Goalkeeping!E:E) -> 12 | D2: =_xlfn.RANK.EQ(C2,C$2:C$49,0) -> 42 | E2: =AVERAGEIF(Goalkeeping!$A:$A,$A2,Goalkeeping!F:F) -> 12.333333 | F2: =_xlfn.RANK.EQ(E2,E$2:E$49,0) -> 26 | G2: =AVERAGEIF(Goalkeeping!$A:$A,$A2,Goalkeeping!G:G) -> 12.333333 | H2: =_xlfn.RANK.EQ(G2,G$2:G$49,0) -> 21 | I2: =AVERAGEIF(Goalkeeping!$A:$A,$A2,Goalkeeping!H:H) -> 8.6666667 | J2: =_xlfn.RANK.EQ(I2,I$2:I$49,0) -> 23 | K2: =AVERAGEIF(Goalkeeping!$A:$A,$A2,Goalkeeping!I:I) -> 13.333333 | L2: =_xlfn.RANK.EQ(K2,K$2:K$49,0) -> 17 | M2: =AVERAGEIF(Goalkeeping!$A:$A,$A2,Goalkeeping!J:J) -> 13.666667 | N2: =_xlfn.RANK.EQ(M2,M$2:M$49,0) -> 11 | O2: =AVERAGEIF(Goalkeeping!$A:$A,$A2,Goalkeeping!K:K) -> 12.333333 | P2: =_xlfn.RANK.EQ(O2,O$2:O$49,0) -> 38 | Q2: =AVERAGEIF(Goalkeeping!$A:$A,$A2,Goalkeeping!L:L) -> 13.666667 | R2: =_xlfn.RANK.EQ(Q2,Q$2:Q$49,0) -> 33 | S2: =AVERAGEIF(Goalkeeping!$A:$A,$A2,Goalkeeping!M:M) -> 8.6666667 | T2: =_xlfn.RANK.EQ(S2,S$2:S$49,0) -> 46 | U2: =AVERAGEIF(Goalkeeping!$A:$A,$A2,Goalkeeping!N:N) -> 9 | V2: =_xlfn.RANK.EQ(U2,U$2:U$49,0) -> 37 | W2: =AVERAGEIF(Goalkeeping!$A:$A,$A2,Goalkeeping!O:O) -> 10.333333 | X2: =_xlfn.RANK.EQ(W2,W$2:W$49,0) -> 44
A3: AUT | B3: Austria | C3: =AVERAGEIF(Goalkeeping!$A:$A,$A3,Goalkeeping!E:E) -> 14 | D3: =_xlfn.RANK.EQ(C3,C$2:C$49,0) -> 21 | E3: =AVERAGEIF(Goalkeeping!$A:$A,$A3,Goalkeeping!F:F) -> 14.666667 | F3: =_xlfn.RANK.EQ(E3,E$2:E$49,0) -> 4 | G3: =AVERAGEIF(Goalkeeping!$A:$A,$A3,Goalkeeping!G:G) -> 13 | H3: =_xlfn.RANK.EQ(G3,G$2:G$49,0) -> 13 | I3: =AVERAGEIF(Goalkeeping!$A:$A,$A3,Goalkeeping!H:H) -> 7.3333333 | J3: =_xlfn.RANK.EQ(I3,I$2:I$49,0) -> 35 | K3: =AVERAGEIF(Goalkeeping!$A:$A,$A3,Goalkeeping!I:I) -> 14 | L3: =_xlfn.RANK.EQ(K3,K$2:K$49,0) -> 7 | M3: =AVERAGEIF(Goalkeeping!$A:$A,$A3,Goalkeeping!J:J) -> 13 | N3: =_xlfn.RANK.EQ(M3,M$2:M$49,0) -> 16 | O3: =AVERAGEIF(Goalkeeping!$A:$A,$A3,Goalkeeping!K:K) -> 14 | P3: =_xlfn.RANK.EQ(O3,O$2:O$49,0) -> 20 | Q3: =AVERAGEIF(Goalkeeping!$A:$A,$A3,Goalkeeping!L:L) -> 15.666667 | R3: =_xlfn.RANK.EQ(Q3,Q$2:Q$49,0) -> 8 | S3: =AVERAGEIF(Goalkeeping!$A:$A,$A3,Goalkeeping!M:M) -> 12 | T3: =_xlfn.RANK.EQ(S3,S$2:S$49,0) -> 14 | U3: =AVERAGEIF(Goalkeeping!$A:$A,$A3,Goalkeeping!N:N) -> 9 | V3: =_xlfn.RANK.EQ(U3,U$2:U$49,0) -> 37 | W3: =AVERAGEIF(Goalkeeping!$A:$A,$A3,Goalkeeping!O:O) -> 13.666667 | X3: =_xlfn.RANK.EQ(W3,W$2:W$49,0) -> 8
A4: USA | B4: United States | C4: =AVERAGEIF(Goalkeeping!$A:$A,$A4,Goalkeeping!E:E) -> 14.333333 | D4: =_xlfn.RANK.EQ(C4,C$2:C$49,0) -> 14 | E4: =AVERAGEIF(Goalkeeping!$A:$A,$A4,Goalkeeping!F:F) -> 13.666667 | F4: =_xlfn.RANK.EQ(E4,E$2:E$49,0) -> 11 | G4: =AVERAGEIF(Goalkeeping!$A:$A,$A4,Goalkeeping!G:G) -> 13 | H4: =_xlfn.RANK.EQ(G4,G$2:G$49,0) -> 13 | I4: =AVERAGEIF(Goalkeeping!$A:$A,$A4,Goalkeeping!H:H) -> 6 | J4: =_xlfn.RANK.EQ(I4,I$2:I$49,0) -> 41 | K4: =AVERAGEIF(Goalkeeping!$A:$A,$A4,Goalkeeping!I:I) -> 12 | L4: =_xlfn.RANK.EQ(K4,K$2:K$49,0) -> 40 | M4: =AVERAGEIF(Goalkeeping!$A:$A,$A4,Goalkeeping!J:J) -> 11.333333 | N4: =_xlfn.RANK.EQ(M4,M$2:M$49,0) -> 34 | O4: =AVERAGEIF(Goalkeeping!$A:$A,$A4,Goalkeeping!K:K) -> 15.333333 | P4: =_xlfn.RANK.EQ(O4,O$2:O$49,0) -> 8 | Q4: =AVERAGEIF(Goalkeeping!$A:$A,$A4,Goalkeeping!L:L) -> 15.333333 | R4: =_xlfn.RANK.EQ(Q4,Q$2:Q$49,0) -> 14 | S4: =AVERAGEIF(Goalkeeping!$A:$A,$A4,Goalkeeping!M:M) -> 12 | T4: =_xlfn.RANK.EQ(S4,S$2:S$49,0) -> 14 | U4: =AVERAGEIF(Goalkeeping!$A:$A,$A4,Goalkeeping!N:N) -> 10 | V4: =_xlfn.RANK.EQ(U4,U$2:U$49,0) -> 27 | W4: =AVERAGEIF(Goalkeeping!$A:$A,$A4,Goalkeeping!O:O) -> 12.666667 | X4: =_xlfn.RANK.EQ(W4,W$2:W$49,0) -> 18
A5: UZB | B5: Uzbekistan | C5: =AVERAGEIF(Goalkeeping!$A:$A,$A5,Goalkeeping!E:E) -> 12.333333 | D5: =_xlfn.RANK.EQ(C5,C$2:C$49,0) -> 40 | E5: =AVERAGEIF(Goalkeeping!$A:$A,$A5,Goalkeeping!F:F) -> 10 | F5: =_xlfn.RANK.EQ(E5,E$2:E$49,0) -> 46 | G5: =AVERAGEIF(Goalkeeping!$A:$A,$A5,Goalkeeping!G:G) -> 11.666667 | H5: =_xlfn.RANK.EQ(G5,G$2:G$49,0) -> 32 | I5: =AVERAGEIF(Goalkeeping!$A:$A,$A5,Goalkeeping!H:H) -> 7.3333333 | J5: =_xlfn.RANK.EQ(I5,I$2:I$49,0) -> 35 | K5: =AVERAGEIF(Goalkeeping!$A:$A,$A5,Goalkeeping!I:I) -> 14 | L5: =_xlfn.RANK.EQ(K5,K$2:K$49,0) -> 7 | M5: =AVERAGEIF(Goalkeeping!$A:$A,$A5,Goalkeeping!J:J) -> 11.333333 | N5: =_xlfn.RANK.EQ(M5,M$2:M$49,0) -> 34 | O5: =AVERAGEIF(Goalkeeping!$A:$A,$A5,Goalkeeping!K:K) -> 10.333333 | P5: =_xlfn.RANK.EQ(O5,O$2:O$49,0) -> 47 | Q5: =AVERAGEIF(Goalkeeping!$A:$A,$A5,Goalkeeping!L:L) -> 13.666667 | R5: =_xlfn.RANK.EQ(Q5,Q$2:Q$49,0) -> 33 | S5: =AVERAGEIF(Goalkeeping!$A:$A,$A5,Goalkeeping!M:M) -> 9 | T5: =_xlfn.RANK.EQ(S5,S$2:S$49,0) -> 44 | U5: =AVERAGEIF(Goalkeeping!$A:$A,$A5,Goalkeeping!N:N) -> 8 | V5: =_xlfn.RANK.EQ(U5,U$2:U$49,0) -> 43 | W5: =AVERAGEIF(Goalkeeping!$A:$A,$A5,Goalkeeping!O:O) -> 9.6666667 | X5: =_xlfn.RANK.EQ(W5,W$2:W$49,0) -> 46
A6: BIH | B6: Bosnia & Herzegovina | C6: =AVERAGEIF(Goalkeeping!$A:$A,$A6,Goalkeeping!E:E) -> 14.333333 | D6: =_xlfn.RANK.EQ(C6,C$2:C$49,0) -> 14 | E6: =AVERAGEIF(Goalkeeping!$A:$A,$A6,Goalkeeping!F:F) -> 13 | F6: =_xlfn.RANK.EQ(E6,E$2:E$49,0) -> 19 | G6: =AVERAGEIF(Goalkeeping!$A:$A,$A6,Goalkeeping!G:G) -> 12 | H6: =_xlfn.RANK.EQ(G6,G$2:G$49,0) -> 28 | I6: =AVERAGEIF(Goalkeeping!$A:$A,$A6,Goalkeeping!H:H) -> 8.6666667 | J6: =_xlfn.RANK.EQ(I6,I$2:I$49,0) -> 23 | K6: =AVERAGEIF(Goalkeeping!$A:$A,$A6,Goalkeeping!I:I) -> 12.666667 | L6: =_xlfn.RANK.EQ(K6,K$2:K$49,0) -> 31 | M6: =AVERAGEIF(Goalkeeping!$A:$A,$A6,Goalkeeping!J:J) -> 11.333333 | N6: =_xlfn.RANK.EQ(M6,M$2:M$49,0) -> 34 | O6: =AVERAGEIF(Goalkeeping!$A:$A,$A6,Goalkeeping!K:K) -> 14.666667 | P6: =_xlfn.RANK.EQ(O6,O$2:O$49,0) -> 12 | Q6: =AVERAGEIF(Goalkeeping!$A:$A,$A6,Goalkeeping!L:L) -> 14.333333 | R6: =_xlfn.RANK.EQ(Q6,Q$2:Q$49,0) -> 24 | S6: =AVERAGEIF(Goalkeeping!$A:$A,$A6,Goalkeeping!M:M) -> 11.333333 | T6: =_xlfn.RANK.EQ(S6,S$2:S$49,0) -> 20 | U6: =AVERAGEIF(Goalkeeping!$A:$A,$A6,Goalkeeping!N:N) -> 10 | V6: =_xlfn.RANK.EQ(U6,U$2:U$49,0) -> 27 | W6: =AVERAGEIF(Goalkeeping!$A:$A,$A6,Goalkeeping!O:O) -> 12.333333 | X6: =_xlfn.RANK.EQ(W6,W$2:W$49,0) -> 20
A7: CAN | B7: Canada | C7: =AVERAGEIF(Goalkeeping!$A:$A,$A7,Goalkeeping!E:E) -> 13.666667 | D7: =_xlfn.RANK.EQ(C7,C$2:C$49,0) -> 28 | E7: =AVERAGEIF(Goalkeeping!$A:$A,$A7,Goalkeeping!F:F) -> 10.666667 | F7: =_xlfn.RANK.EQ(E7,E$2:E$49,0) -> 43 | G7: =AVERAGEIF(Goalkeeping!$A:$A,$A7,Goalkeeping!G:G) -> 11.666667 | H7: =_xlfn.RANK.EQ(G7,G$2:G$49,0) -> 32 | I7: =AVERAGEIF(Goalkeeping!$A:$A,$A7,Goalkeeping!H:H) -> 8.3333333 | J7: =_xlfn.RANK.EQ(I7,I$2:I$49,0) -> 28 | K7: =AVERAGEIF(Goalkeeping!$A:$A,$A7,Goalkeeping!I:I) -> 11.666667 | L7: =_xlfn.RANK.EQ(K7,K$2:K$49,0) -> 42 | M7: =AVERAGEIF(Goalkeeping!$A:$A,$A7,Goalkeeping!J:J) -> 12.333333 | N7: =_xlfn.RANK.EQ(M7,M$2:M$49,0) -> 22 | O7: =AVERAGEIF(Goalkeeping!$A:$A,$A7,Goalkeeping!K:K) -> 12.666667 | P7: =_xlfn.RANK.EQ(O7,O$2:O$49,0) -> 35 | Q7: =AVERAGEIF(Goalkeeping!$A:$A,$A7,Goalkeeping!L:L) -> 14 | R7: =_xlfn.RANK.EQ(Q7,Q$2:Q$49,0) -> 29 | S7: =AVERAGEIF(Goalkeeping!$A:$A,$A7,Goalkeeping!M:M) -> 11 | T7: =_xlfn.RANK.EQ(S7,S$2:S$49,0) -> 24 | U7: =AVERAGEIF(Goalkeeping!$A:$A,$A7,Goalkeeping!N:N) -> 12.333333 | V7: =_xlfn.RANK.EQ(U7,U$2:U$49,0) -> 7 | W7: =AVERAGEIF(Goalkeeping!$A:$A,$A7,Goalkeeping!O:O) -> 11 | X7: =_xlfn.RANK.EQ(W7,W$2:W$49,0) -> 38
A8: ECU | B8: Ecuador | C8: =AVERAGEIF(Goalkeeping!$A:$A,$A8,Goalkeeping!E:E) -> 15.666667 | D8: =_xlfn.RANK.EQ(C8,C$2:C$49,0) -> 5 | E8: =AVERAGEIF(Goalkeeping!$A:$A,$A8,Goalkeeping!F:F) -> 13.666667 | F8: =_xlfn.RANK.EQ(E8,E$2:E$49,0) -> 11 | G8: =AVERAGEIF(Goalkeeping!$A:$A,$A8,Goalkeeping!G:G) -> 11 | H8: =_xlfn.RANK.EQ(G8,G$2:G$49,0) -> 37 | I8: =AVERAGEIF(Goalkeeping!$A:$A,$A8,Goalkeeping!H:H) -> 11.333333 | J8: =_xlfn.RANK.EQ(I8,I$2:I$49,0) -> 7 | K8: =AVERAGEIF(Goalkeeping!$A:$A,$A8,Goalkeeping!I:I) -> 12 | L8: =_xlfn.RANK.EQ(K8,K$2:K$49,0) -> 40 | M8: =AVERAGEIF(Goalkeeping!$A:$A,$A8,Goalkeeping!J:J) -> 8.3333333 | N8: =_xlfn.RANK.EQ(M8,M$2:M$49,0) -> 48 | O8: =AVERAGEIF(Goalkeeping!$A:$A,$A8,Goalkeeping!K:K) -> 13.666667 | P8: =_xlfn.RANK.EQ(O8,O$2:O$49,0) -> 25 | Q8: =AVERAGEIF(Goalkeeping!$A:$A,$A8,Goalkeeping!L:L) -> 15.666667 | R8: =_xlfn.RANK.EQ(Q8,Q$2:Q$49,0) -> 8 | S8: =AVERAGEIF(Goalkeeping!$A:$A,$A8,Goalkeeping!M:M) -> 10.333333 | T8: =_xlfn.RANK.EQ(S8,S$2:S$49,0) -> 31 | U8: =AVERAGEIF(Goalkeeping!$A:$A,$A8,Goalkeeping!N:N) -> 12.666667 | V8: =_xlfn.RANK.EQ(U8,U$2:U$49,0) -> 4 | W8: =AVERAGEIF(Goalkeeping!$A:$A,$A8,Goalkeeping!O:O) -> 11 | X8: =_xlfn.RANK.EQ(W8,W$2:W$49,0) -> 38
A9: EGY | B9: Egypt | C9: =AVERAGEIF(Goalkeeping!$A:$A,$A9,Goalkeeping!E:E) -> 12.666667 | D9: =_xlfn.RANK.EQ(C9,C$2:C$49,0) -> 36 | E9: =AVERAGEIF(Goalkeeping!$A:$A,$A9,Goalkeeping!F:F) -> 12 | F9: =_xlfn.RANK.EQ(E9,E$2:E$49,0) -> 31 | G9: =AVERAGEIF(Goalkeeping!$A:$A,$A9,Goalkeeping!G:G) -> 11.333333 | H9: =_xlfn.RANK.EQ(G9,G$2:G$49,0) -> 35 | I9: =AVERAGEIF(Goalkeeping!$A:$A,$A9,Goalkeeping!H:H) -> 8.6666667 | J9: =_xlfn.RANK.EQ(I9,I$2:I$49,0) -> 23 | K9: =AVERAGEIF(Goalkeeping!$A:$A,$A9,Goalkeeping!I:I) -> 13 | L9: =_xlfn.RANK.EQ(K9,K$2:K$49,0) -> 24 | M9: =AVERAGEIF(Goalkeeping!$A:$A,$A9,Goalkeeping!J:J) -> 13.666667 | N9: =_xlfn.RANK.EQ(M9,M$2:M$49,0) -> 11 | O9: =AVERAGEIF(Goalkeeping!$A:$A,$A9,Goalkeeping!K:K) -> 14 | P9: =_xlfn.RANK.EQ(O9,O$2:O$49,0) -> 20 | Q9: =AVERAGEIF(Goalkeeping!$A:$A,$A9,Goalkeeping!L:L) -> 15.333333 | R9: =_xlfn.RANK.EQ(Q9,Q$2:Q$49,0) -> 14 | S9: =AVERAGEIF(Goalkeeping!$A:$A,$A9,Goalkeeping!M:M) -> 10.333333 | T9: =_xlfn.RANK.EQ(S9,S$2:S$49,0) -> 31 | U9: =AVERAGEIF(Goalkeeping!$A:$A,$A9,Goalkeeping!N:N) -> 8.3333333 | V9: =_xlfn.RANK.EQ(U9,U$2:U$49,0) -> 42 | W9: =AVERAGEIF(Goalkeeping!$A:$A,$A9,Goalkeeping!O:O) -> 11 | X9: =_xlfn.RANK.EQ(W9,W$2:W$49,0) -> 38
A10: ALB | B10: Albania | C10: =AVERAGEIF(Goalkeeping!$A:$A,$A10,Goalkeeping!E:E) -> 12.333333 | D10: =_xlfn.RANK.EQ(C10,C$2:C$49,0) -> 40 | E10: =AVERAGEIF(Goalkeeping!$A:$A,$A10,Goalkeeping!F:F) -> 11 | F10: =_xlfn.RANK.EQ(E10,E$2:E$49,0) -> 40 | G10: =AVERAGEIF(Goalkeeping!$A:$A,$A10,Goalkeeping!G:G) -> 10.666667 | H10: =_xlfn.RANK.EQ(G10,G$2:G$49,0) -> 40 | I10: =AVERAGEIF(Goalkeeping!$A:$A,$A10,Goalkeeping!H:H) -> 8.6666667 | J10: =_xlfn.RANK.EQ(I10,I$2:I$49,0) -> 23 | K10: =AVERAGEIF(Goalkeeping!$A:$A,$A10,Goalkeeping!I:I) -> 12.333333 | L10: =_xlfn.RANK.EQ(K10,K$2:K$49,0) -> 36 | M10: =AVERAGEIF(Goalkeeping!$A:$A,$A10,Goalkeeping!J:J) -> 12 | N10: =_xlfn.RANK.EQ(M10,M$2:M$49,0) -> 24 | O10: =AVERAGEIF(Goalkeeping!$A:$A,$A10,Goalkeeping!K:K) -> 13.666667 | P10: =_xlfn.RANK.EQ(O10,O$2:O$49,0) -> 25 | Q10: =AVERAGEIF(Goalkeeping!$A:$A,$A10,Goalkeeping!L:L) -> 14 | R10: =_xlfn.RANK.EQ(Q10,Q$2:Q$49,0) -> 29 | S10: =AVERAGEIF(Goalkeeping!$A:$A,$A10,Goalkeeping!M:M) -> 11 | T10: =_xlfn.RANK.EQ(S10,S$2:S$49,0) -> 24 | U10: =AVERAGEIF(Goalkeeping!$A:$A,$A10,Goalkeeping!N:N) -> 12 | V10: =_xlfn.RANK.EQ(U10,U$2:U$49,0) -> 9 | W10: =AVERAGEIF(Goalkeeping!$A:$A,$A10,Goalkeeping!O:O) -> 11.666667 | X10: =_xlfn.RANK.EQ(W10,W$2:W$49,0) -> 30
A11: IRN | B11: Iran | C11: =AVERAGEIF(Goalkeeping!$A:$A,$A11,Goalkeeping!E:E) -> 16 | D11: =_xlfn.RANK.EQ(C11,C$2:C$49,0) -> 3 | E11: =AVERAGEIF(Goalkeeping!$A:$A,$A11,Goalkeeping!F:F) -> 12 | F11: =_xlfn.RANK.EQ(E11,E$2:E$49,0) -> 31 | G11: =AVERAGEIF(Goalkeeping!$A:$A,$A11,Goalkeeping!G:G) -> 12 | H11: =_xlfn.RANK.EQ(G11,G$2:G$49,0) -> 28 | I11: =AVERAGEIF(Goalkeeping!$A:$A,$A11,Goalkeeping!H:H) -> 11.333333 | J11: =_xlfn.RANK.EQ(I11,I$2:I$49,0) -> 7 | K11: =AVERAGEIF(Goalkeeping!$A:$A,$A11,Goalkeeping!I:I) -> 13.333333 | L11: =_xlfn.RANK.EQ(K11,K$2:K$49,0) -> 17 | M11: =AVERAGEIF(Goalkeeping!$A:$A,$A11,Goalkeeping!J:J) -> 11.333333 | N11: =_xlfn.RANK.EQ(M11,M$2:M$49,0) -> 34 | O11: =AVERAGEIF(Goalkeeping!$A:$A,$A11,Goalkeeping!K:K) -> 13.333333 | P11: =_xlfn.RANK.EQ(O11,O$2:O$49,0) -> 30 | Q11: =AVERAGEIF(Goalkeeping!$A:$A,$A11,Goalkeeping!L:L) -> 13.666667 | R11: =_xlfn.RANK.EQ(Q11,Q$2:Q$49,0) -> 33 | S11: =AVERAGEIF(Goalkeeping!$A:$A,$A11,Goalkeeping!M:M) -> 14.333333 | T11: =_xlfn.RANK.EQ(S11,S$2:S$49,0) -> 2 | U11: =AVERAGEIF(Goalkeeping!$A:$A,$A11,Goalkeeping!N:N) -> 12 | V11: =_xlfn.RANK.EQ(U11,U$2:U$49,0) -> 9 | W11: =AVERAGEIF(Goalkeeping!$A:$A,$A11,Goalkeeping!O:O) -> 15.666667 | X11: =_xlfn.RANK.EQ(W11,W$2:W$49,0) -> 1
A12: CIV | B12: Ivory Coast | C12: =AVERAGEIF(Goalkeeping!$A:$A,$A12,Goalkeeping!E:E) -> 14 | D12: =_xlfn.RANK.EQ(C12,C$2:C$49,0) -> 21 | E12: =AVERAGEIF(Goalkeeping!$A:$A,$A12,Goalkeeping!F:F) -> 11 | F12: =_xlfn.RANK.EQ(E12,E$2:E$49,0) -> 40 | G12: =AVERAGEIF(Goalkeeping!$A:$A,$A12,Goalkeeping!G:G) -> 11.333333 | H12: =_xlfn.RANK.EQ(G12,G$2:G$49,0) -> 35 | I12: =AVERAGEIF(Goalkeeping!$A:$A,$A12,Goalkeeping!H:H) -> 13 | J12: =_xlfn.RANK.EQ(I12,I$2:I$49,0) -> 3 | K12: =AVERAGEIF(Goalkeeping!$A:$A,$A12,Goalkeeping!I:I) -> 11.333333 | L12: =_xlfn.RANK.EQ(K12,K$2:K$49,0) -> 44 | M12: =AVERAGEIF(Goalkeeping!$A:$A,$A12,Goalkeeping!J:J) -> 12 | N12: =_xlfn.RANK.EQ(M12,M$2:M$49,0) -> 24 | O12: =AVERAGEIF(Goalkeeping!$A:$A,$A12,Goalkeeping!K:K) -> 14 | P12: =_xlfn.RANK.EQ(O12,O$2:O$49,0) -> 20 | Q12: =AVERAGEIF(Goalkeeping!$A:$A,$A12,Goalkeeping!L:L) -> 15.666667 | R12: =_xlfn.RANK.EQ(Q12,Q$2:Q$49,0) -> 8 | S12: =AVERAGEIF(Goalkeeping!$A:$A,$A12,Goalkeeping!M:M) -> 12 | T12: =_xlfn.RANK.EQ(S12,S$2:S$49,0) -> 14 | U12: =AVERAGEIF(Goalkeeping!$A:$A,$A12,Goalkeeping!N:N) -> 10.333333 | V12: =_xlfn.RANK.EQ(U12,U$2:U$49,0) -> 22 | W12: =AVERAGEIF(Goalkeeping!$A:$A,$A12,Goalkeeping!O:O) -> 12.333333 | X12: =_xlfn.RANK.EQ(W12,W$2:W$49,0) -> 20
A13: MEX | B13: Mexico | C13: =AVERAGEIF(Goalkeeping!$A:$A,$A13,Goalkeeping!E:E) -> 14 | D13: =_xlfn.RANK.EQ(C13,C$2:C$49,0) -> 21 | E13: =AVERAGEIF(Goalkeeping!$A:$A,$A13,Goalkeeping!F:F) -> 12.666667 | F13: =_xlfn.RANK.EQ(E13,E$2:E$49,0) -> 21 | G13: =AVERAGEIF(Goalkeeping!$A:$A,$A13,Goalkeeping!G:G) -> 13.333333 | H13: =_xlfn.RANK.EQ(G13,G$2:G$49,0) -> 7 | I13: =AVERAGEIF(Goalkeeping!$A:$A,$A13,Goalkeeping!H:H) -> 7.6666667 | J13: =_xlfn.RANK.EQ(I13,I$2:I$49,0) -> 31 | K13: =AVERAGEIF(Goalkeeping!$A:$A,$A13,Goalkeeping!I:I) -> 13.666667 | L13: =_xlfn.RANK.EQ(K13,K$2:K$49,0) -> 11 | M13: =AVERAGEIF(Goalkeeping!$A:$A,$A13,Goalkeeping!J:J) -> 11.333333 | N13: =_xlfn.RANK.EQ(M13,M$2:M$49,0) -> 34 | O13: =AVERAGEIF(Goalkeeping!$A:$A,$A13,Goalkeeping!K:K) -> 13.666667 | P13: =_xlfn.RANK.EQ(O13,O$2:O$49,0) -> 25 | Q13: =AVERAGEIF(Goalkeeping!$A:$A,$A13,Goalkeeping!L:L) -> 16 | R13: =_xlfn.RANK.EQ(Q13,Q$2:Q$49,0) -> 4 | S13: =AVERAGEIF(Goalkeeping!$A:$A,$A13,Goalkeeping!M:M) -> 11 | T13: =_xlfn.RANK.EQ(S13,S$2:S$49,0) -> 24 | U13: =AVERAGEIF(Goalkeeping!$A:$A,$A13,Goalkeeping!N:N) -> 12.666667 | V13: =_xlfn.RANK.EQ(U13,U$2:U$49,0) -> 4 | W13: =AVERAGEIF(Goalkeeping!$A:$A,$A13,Goalkeeping!O:O) -> 13.333333 | X13: =_xlfn.RANK.EQ(W13,W$2:W$49,0) -> 12
... A49: THA | B49: Thailand | C49: =AVERAGEIF(Goalkeeping!$A:$A,$A49,Goalkeeping!E:E) -> 11 | D49: =_xlfn.RANK.EQ(C49,C$2:C$49,0) -> 46 | E49: =AVERAGEIF(Goalkeeping!$A:$A,$A49,Goalkeeping!F:F) -> 11.333333 | F49: =_xlfn.RANK.EQ(E49,E$2:E$49,0) -> 38 | G49: =AVERAGEIF(Goalkeeping!$A:$A,$A49,Goalkeeping!G:G) -> 10.333333 | H49: =_xlfn.RANK.EQ(G49,G$2:G$49,0) -> 43 | I49: =AVERAGEIF(Goalkeeping!$A:$A,$A49,Goalkeeping!H:H) -> 6 | J49: =_xlfn.RANK.EQ(I49,I$2:I$49,0) -> 41 | K49: =AVERAGEIF(Goalkeeping!$A:$A,$A49,Goalkeeping!I:I) -> 13.333333 | L49: =_xlfn.RANK.EQ(K49,K$2:K$49,0) -> 17 | M49: =AVERAGEIF(Goalkeeping!$A:$A,$A49,Goalkeeping!J:J) -> 12.666667 | N49: =_xlfn.RANK.EQ(M49,M$2:M$49,0) -> 19 | O49: =AVERAGEIF(Goalkeeping!$A:$A,$A49,Goalkeeping!K:K) -> 12 | P49: =_xlfn.RANK.EQ(O49,O$2:O$49,0) -> 42 | Q49: =AVERAGEIF(Goalkeeping!$A:$A,$A49,Goalkeeping!L:L) -> 13.333333 | R49: =_xlfn.RANK.EQ(Q49,Q$2:Q$49,0) -> 39 | S49: =AVERAGEIF(Goalkeeping!$A:$A,$A49,Goalkeeping!M:M) -> 9.6666667 | T49: =_xlfn.RANK.EQ(S49,S$2:S$49,0) -> 35 | U49: =AVERAGEIF(Goalkeeping!$A:$A,$A49,Goalkeeping!N:N) -> 11 | V49: =_xlfn.RANK.EQ(U49,U$2:U$49,0) -> 16 | W49: =AVERAGEIF(Goalkeeping!$A:$A,$A49,Goalkeeping!O:O) -> 9.6666667 | X49: =_xlfn.RANK.EQ(W49,W$2:W$49,0) -> 46

Sheet Attribute Rank MEN
A1: NATION | B1: Name | C1: Agg | E1: Ant | G1: Bra | I1: Cmp | K1: Cnt | M1: Dec | O1: Det | Q1: Fla | S1: Ldr | U1: OtB | W1: Pos | Y1: Tea | AA1: Vis | AC1: Wor
A2: ALG | B2: Algeria | C2: =AVERAGEIF(Mental!$A:$A,$A2,Mental!E:E) -> 11.961538 | D2: =_xlfn.RANK.EQ(C2,C$2:C$49,0) -> 25 | E2: =AVERAGEIF(Mental!$A:$A,$A2,Mental!F:F) -> 13.076923 | F2: =_xlfn.RANK.EQ(E2,E$2:E$49,0) -> 27 | G2: =AVERAGEIF(Mental!$A:$A,$A2,Mental!G:G) -> 13.346154 | H2: =_xlfn.RANK.EQ(G2,G$2:G$49,0) -> 9 | I2: =AVERAGEIF(Mental!$A:$A,$A2,Mental!H:H) -> 12.961538 | J2: =_xlfn.RANK.EQ(I2,I$2:I$49,0) -> 20 | K2: =AVERAGEIF(Mental!$A:$A,$A2,Mental!I:I) -> 12.115385 | L2: =_xlfn.RANK.EQ(K2,K$2:K$49,0) -> 29 | M2: =AVERAGEIF(Mental!$A:$A,$A2,Mental!J:J) -> 12.730769 | N2: =_xlfn.RANK.EQ(M2,M$2:M$49,0) -> 17 | O2: =AVERAGEIF(Mental!$A:$A,$A2,Mental!K:K) -> 14.423077 | P2: =_xlfn.RANK.EQ(O2,O$2:O$49,0) -> 16 | Q2: =AVERAGEIF(Mental!$A:$A,$A2,Mental!L:L) -> 12.384615 | R2: =_xlfn.RANK.EQ(Q2,Q$2:Q$49,0) -> 4 | S2: =AVERAGEIF(Mental!$A:$A,$A2,Mental!M:M) -> 9.7307692 | T2: =_xlfn.RANK.EQ(S2,S$2:S$49,0) -> 30 | U2: =AVERAGEIF(Mental!$A:$A,$A2,Mental!N:N) -> 11.923077 | V2: =_xlfn.RANK.EQ(U2,U$2:U$49,0) -> 7 | W2: =AVERAGEIF(Mental!$A:$A,$A2,Mental!O:O) -> 11.230769 | X2: =_xlfn.RANK.EQ(W2,W$2:W$49,0) -> 28 | Y2: =AVERAGEIF(Mental!$A:$A,$A2,Mental!P:P) -> 12.923077 | Z2: =_xlfn.RANK.EQ(Y2,Y$2:Y$49,0) -> 22 | AA2: =AVERAGEIF(Mental!$A:$A,$A2,Mental!Q:Q) -> 12.692308 | AB2: =_xlfn.RANK.EQ(AA2,AA$2:AA$49,0) -> 13 | AC2: =AVERAGEIF(Mental!$A:$A,$A2,Mental!R:R) -> 12.961538 | AD2: =_xlfn.RANK.EQ(AC2,AC$2:AC$49,0) -> 31
A3: AUT | B3: Austria | C3: =AVERAGEIF(Mental!$A:$A,$A3,Mental!E:E) -> 11.923077 | D3: =_xlfn.RANK.EQ(C3,C$2:C$49,0) -> 26 | E3: =AVERAGEIF(Mental!$A:$A,$A3,Mental!F:F) -> 13.115385 | F3: =_xlfn.RANK.EQ(E3,E$2:E$49,0) -> 26 | G3: =AVERAGEIF(Mental!$A:$A,$A3,Mental!G:G) -> 13.653846 | H3: =_xlfn.RANK.EQ(G3,G$2:G$49,0) -> 4 | I3: =AVERAGEIF(Mental!$A:$A,$A3,Mental!H:H) -> 13.076923 | J3: =_xlfn.RANK.EQ(I3,I$2:I$49,0) -> 17 | K3: =AVERAGEIF(Mental!$A:$A,$A3,Mental!I:I) -> 12.576923 | L3: =_xlfn.RANK.EQ(K3,K$2:K$49,0) -> 17 | M3: =AVERAGEIF(Mental!$A:$A,$A3,Mental!J:J) -> 12.307692 | N3: =_xlfn.RANK.EQ(M3,M$2:M$49,0) -> 33 | O3: =AVERAGEIF(Mental!$A:$A,$A3,Mental!K:K) -> 15.230769 | P3: =_xlfn.RANK.EQ(O3,O$2:O$49,0) -> 3 | Q3: =AVERAGEIF(Mental!$A:$A,$A3,Mental!L:L) -> 10.038462 | R3: =_xlfn.RANK.EQ(Q3,Q$2:Q$49,0) -> 39 | S3: =AVERAGEIF(Mental!$A:$A,$A3,Mental!M:M) -> 10.769231 | T3: =_xlfn.RANK.EQ(S3,S$2:S$49,0) -> 14 | U3: =AVERAGEIF(Mental!$A:$A,$A3,Mental!N:N) -> 11.153846 | V3: =_xlfn.RANK.EQ(U3,U$2:U$49,0) -> 30 | W3: =AVERAGEIF(Mental!$A:$A,$A3,Mental!O:O) -> 11.807692 | X3: =_xlfn.RANK.EQ(W3,W$2:W$49,0) -> 6 | Y3: =AVERAGEIF(Mental!$A:$A,$A3,Mental!P:P) -> 14 | Z3: =_xlfn.RANK.EQ(Y3,Y$2:Y$49,0) -> 4 | AA3: =AVERAGEIF(Mental!$A:$A,$A3,Mental!Q:Q) -> 12.153846 | AB3: =_xlfn.RANK.EQ(AA3,AA$2:AA$49,0) -> 24 | AC3: =AVERAGEIF(Mental!$A:$A,$A3,Mental!R:R) -> 14.115385 | AD3: =_xlfn.RANK.EQ(AC3,AC$2:AC$49,0) -> 8
A4: USA | B4: United States | C4: =AVERAGEIF(Mental!$A:$A,$A4,Mental!E:E) -> 12.5 | D4: =_xlfn.RANK.EQ(C4,C$2:C$49,0) -> 12 | E4: =AVERAGEIF(Mental!$A:$A,$A4,Mental!F:F) -> 13.615385 | F4: =_xlfn.RANK.EQ(E4,E$2:E$49,0) -> 19 | G4: =AVERAGEIF(Mental!$A:$A,$A4,Mental!G:G) -> 13.384615 | H4: =_xlfn.RANK.EQ(G4,G$2:G$49,0) -> 8 | I4: =AVERAGEIF(Mental!$A:$A,$A4,Mental!H:H) -> 12.807692 | J4: =_xlfn.RANK.EQ(I4,I$2:I$49,0) -> 22 | K4: =AVERAGEIF(Mental!$A:$A,$A4,Mental!I:I) -> 12.461538 | L4: =_xlfn.RANK.EQ(K4,K$2:K$49,0) -> 20 | M4: =AVERAGEIF(Mental!$A:$A,$A4,Mental!J:J) -> 12.038462 | N4: =_xlfn.RANK.EQ(M4,M$2:M$49,0) -> 38 | O4: =AVERAGEIF(Mental!$A:$A,$A4,Mental!K:K) -> 13.961538 | P4: =_xlfn.RANK.EQ(O4,O$2:O$49,0) -> 22 | Q4: =AVERAGEIF(Mental!$A:$A,$A4,Mental!L:L) -> 10.730769 | R4: =_xlfn.RANK.EQ(Q4,Q$2:Q$49,0) -> 30 | S4: =AVERAGEIF(Mental!$A:$A,$A4,Mental!M:M) -> 10.384615 | T4: =_xlfn.RANK.EQ(S4,S$2:S$49,0) -> 20 | U4: =AVERAGEIF(Mental!$A:$A,$A4,Mental!N:N) -> 11.730769 | V4: =_xlfn.RANK.EQ(U4,U$2:U$49,0) -> 11 | W4: =AVERAGEIF(Mental!$A:$A,$A4,Mental!O:O) -> 11.576923 | X4: =_xlfn.RANK.EQ(W4,W$2:W$49,0) -> 14 | Y4: =AVERAGEIF(Mental!$A:$A,$A4,Mental!P:P) -> 13 | Z4: =_xlfn.RANK.EQ(Y4,Y$2:Y$49,0) -> 21 | AA4: =AVERAGEIF(Mental!$A:$A,$A4,Mental!Q:Q) -> 12.153846 | AB4: =_xlfn.RANK.EQ(AA4,AA$2:AA$49,0) -> 24 | AC4: =AVERAGEIF(Mental!$A:$A,$A4,Mental!R:R) -> 13.730769 | AD4: =_xlfn.RANK.EQ(AC4,AC$2:AC$49,0) -> 15
A5: UZB | B5: Uzbekistan | C5: =AVERAGEIF(Mental!$A:$A,$A5,Mental!E:E) -> 10.538462 | D5: =_xlfn.RANK.EQ(C5,C$2:C$49,0) -> 46 | E5: =AVERAGEIF(Mental!$A:$A,$A5,Mental!F:F) -> 11.884615 | F5: =_xlfn.RANK.EQ(E5,E$2:E$49,0) -> 44 | G5: =AVERAGEIF(Mental!$A:$A,$A5,Mental!G:G) -> 10.769231 | H5: =_xlfn.RANK.EQ(G5,G$2:G$49,0) -> 47 | I5: =AVERAGEIF(Mental!$A:$A,$A5,Mental!H:H) -> 12.076923 | J5: =_xlfn.RANK.EQ(I5,I$2:I$49,0) -> 40 | K5: =AVERAGEIF(Mental!$A:$A,$A5,Mental!I:I) -> 11.653846 | L5: =_xlfn.RANK.EQ(K5,K$2:K$49,0) -> 39 | M5: =AVERAGEIF(Mental!$A:$A,$A5,Mental!J:J) -> 12.653846 | N5: =_xlfn.RANK.EQ(M5,M$2:M$49,0) -> 21 | O5: =AVERAGEIF(Mental!$A:$A,$A5,Mental!K:K) -> 12.230769 | P5: =_xlfn.RANK.EQ(O5,O$2:O$49,0) -> 47 | Q5: =AVERAGEIF(Mental!$A:$A,$A5,Mental!L:L) -> 9.3076923 | R5: =_xlfn.RANK.EQ(Q5,Q$2:Q$49,0) -> 46 | S5: =AVERAGEIF(Mental!$A:$A,$A5,Mental!M:M) -> 8.5 | T5: =_xlfn.RANK.EQ(S5,S$2:S$49,0) -> 47 | U5: =AVERAGEIF(Mental!$A:$A,$A5,Mental!N:N) -> 9.9230769 | V5: =_xlfn.RANK.EQ(U5,U$2:U$49,0) -> 47 | W5: =AVERAGEIF(Mental!$A:$A,$A5,Mental!O:O) -> 10.730769 | X5: =_xlfn.RANK.EQ(W5,W$2:W$49,0) -> 37 | Y5: =AVERAGEIF(Mental!$A:$A,$A5,Mental!P:P) -> 11.076923 | Z5: =_xlfn.RANK.EQ(Y5,Y$2:Y$49,0) -> 45 | AA5: =AVERAGEIF(Mental!$A:$A,$A5,Mental!Q:Q) -> 11 | AB5: =_xlfn.RANK.EQ(AA5,AA$2:AA$49,0) -> 40 | AC5: =AVERAGEIF(Mental!$A:$A,$A5,Mental!R:R) -> 11.730769 | AD5: =_xlfn.RANK.EQ(AC5,AC$2:AC$49,0) -> 44
A6: BIH | B6: Bosnia & Herzegovina | C6: =AVERAGEIF(Mental!$A:$A,$A6,Mental!E:E) -> 12.115385 | D6: =_xlfn.RANK.EQ(C6,C$2:C$49,0) -> 20 | E6: =AVERAGEIF(Mental!$A:$A,$A6,Mental!F:F) -> 13.884615 | F6: =_xlfn.RANK.EQ(E6,E$2:E$49,0) -> 11 | G6: =AVERAGEIF(Mental!$A:$A,$A6,Mental!G:G) -> 12.692308 | H6: =_xlfn.RANK.EQ(G6,G$2:G$49,0) -> 26 | I6: =AVERAGEIF(Mental!$A:$A,$A6,Mental!H:H) -> 13.115385 | J6: =_xlfn.RANK.EQ(I6,I$2:I$49,0) -> 16 | K6: =AVERAGEIF(Mental!$A:$A,$A6,Mental!I:I) -> 12.615385 | L6: =_xlfn.RANK.EQ(K6,K$2:K$49,0) -> 16 | M6: =AVERAGEIF(Mental!$A:$A,$A6,Mental!J:J) -> 12.461538 | N6: =_xlfn.RANK.EQ(M6,M$2:M$49,0) -> 27 | O6: =AVERAGEIF(Mental!$A:$A,$A6,Mental!K:K) -> 14.692308 | P6: =_xlfn.RANK.EQ(O6,O$2:O$49,0) -> 10 | Q6: =AVERAGEIF(Mental!$A:$A,$A6,Mental!L:L) -> 11.076923 | R6: =_xlfn.RANK.EQ(Q6,Q$2:Q$49,0) -> 21 | S6: =AVERAGEIF(Mental!$A:$A,$A6,Mental!M:M) -> 10.269231 | T6: =_xlfn.RANK.EQ(S6,S$2:S$49,0) -> 21 | U6: =AVERAGEIF(Mental!$A:$A,$A6,Mental!N:N) -> 11.576923 | V6: =_xlfn.RANK.EQ(U6,U$2:U$49,0) -> 18 | W6: =AVERAGEIF(Mental!$A:$A,$A6,Mental!O:O) -> 11.307692 | X6: =_xlfn.RANK.EQ(W6,W$2:W$49,0) -> 25 | Y6: =AVERAGEIF(Mental!$A:$A,$A6,Mental!P:P) -> 13.115385 | Z6: =_xlfn.RANK.EQ(Y6,Y$2:Y$49,0) -> 20 | AA6: =AVERAGEIF(Mental!$A:$A,$A6,Mental!Q:Q) -> 12.076923 | AB6: =_xlfn.RANK.EQ(AA6,AA$2:AA$49,0) -> 28 | AC6: =AVERAGEIF(Mental!$A:$A,$A6,Mental!R:R) -> 13.192308 | AD6: =_xlfn.RANK.EQ(AC6,AC$2:AC$49,0) -> 25
A7: CAN | B7: Canada | C7: =AVERAGEIF(Mental!$A:$A,$A7,Mental!E:E) -> 11.769231 | D7: =_xlfn.RANK.EQ(C7,C$2:C$49,0) -> 31 | E7: =AVERAGEIF(Mental!$A:$A,$A7,Mental!F:F) -> 12.307692 | F7: =_xlfn.RANK.EQ(E7,E$2:E$49,0) -> 40 | G7: =AVERAGEIF(Mental!$A:$A,$A7,Mental!G:G) -> 12.653846 | H7: =_xlfn.RANK.EQ(G7,G$2:G$49,0) -> 27 | I7: =AVERAGEIF(Mental!$A:$A,$A7,Mental!H:H) -> 12.230769 | J7: =_xlfn.RANK.EQ(I7,I$2:I$49,0) -> 38 | K7: =AVERAGEIF(Mental!$A:$A,$A7,Mental!I:I) -> 11.884615 | L7: =_xlfn.RANK.EQ(K7,K$2:K$49,0) -> 34 | M7: =AVERAGEIF(Mental!$A:$A,$A7,Mental!J:J) -> 11.884615 | N7: =_xlfn.RANK.EQ(M7,M$2:M$49,0) -> 42 | O7: =AVERAGEIF(Mental!$A:$A,$A7,Mental!K:K) -> 12.769231 | P7: =_xlfn.RANK.EQ(O7,O$2:O$49,0) -> 41 | Q7: =AVERAGEIF(Mental!$A:$A,$A7,Mental!L:L) -> 10.192308 | R7: =_xlfn.RANK.EQ(Q7,Q$2:Q$49,0) -> 36 | S7: =AVERAGEIF(Mental!$A:$A,$A7,Mental!M:M) -> 10.769231 | T7: =_xlfn.RANK.EQ(S7,S$2:S$49,0) -> 14 | U7: =AVERAGEIF(Mental!$A:$A,$A7,Mental!N:N) -> 10.461538 | V7: =_xlfn.RANK.EQ(U7,U$2:U$49,0) -> 42 | W7: =AVERAGEIF(Mental!$A:$A,$A7,Mental!O:O) -> 11.153846 | X7: =_xlfn.RANK.EQ(W7,W$2:W$49,0) -> 31 | Y7: =AVERAGEIF(Mental!$A:$A,$A7,Mental!P:P) -> 12.538462 | Z7: =_xlfn.RANK.EQ(Y7,Y$2:Y$49,0) -> 29 | AA7: =AVERAGEIF(Mental!$A:$A,$A7,Mental!Q:Q) -> 11.307692 | AB7: =_xlfn.RANK.EQ(AA7,AA$2:AA$49,0) -> 35 | AC7: =AVERAGEIF(Mental!$A:$A,$A7,Mental!R:R) -> 13.038462 | AD7: =_xlfn.RANK.EQ(AC7,AC$2:AC$49,0) -> 29
A8: ECU | B8: Ecuador | C8: =AVERAGEIF(Mental!$A:$A,$A8,Mental!E:E) -> 12.538462 | D8: =_xlfn.RANK.EQ(C8,C$2:C$49,0) -> 11 | E8: =AVERAGEIF(Mental!$A:$A,$A8,Mental!F:F) -> 12.269231 | F8: =_xlfn.RANK.EQ(E8,E$2:E$49,0) -> 41 | G8: =AVERAGEIF(Mental!$A:$A,$A8,Mental!G:G) -> 12.461538 | H8: =_xlfn.RANK.EQ(G8,G$2:G$49,0) -> 33 | I8: =AVERAGEIF(Mental!$A:$A,$A8,Mental!H:H) -> 12.269231 | J8: =_xlfn.RANK.EQ(I8,I$2:I$49,0) -> 35 | K8: =AVERAGEIF(Mental!$A:$A,$A8,Mental!I:I) -> 11.423077 | L8: =_xlfn.RANK.EQ(K8,K$2:K$49,0) -> 43 | M8: =AVERAGEIF(Mental!$A:$A,$A8,Mental!J:J) -> 11.923077 | N8: =_xlfn.RANK.EQ(M8,M$2:M$49,0) -> 40 | O8: =AVERAGEIF(Mental!$A:$A,$A8,Mental!K:K) -> 13.230769 | P8: =_xlfn.RANK.EQ(O8,O$2:O$49,0) -> 36 | Q8: =AVERAGEIF(Mental!$A:$A,$A8,Mental!L:L) -> 11.346154 | R8: =_xlfn.RANK.EQ(Q8,Q$2:Q$49,0) -> 17 | S8: =AVERAGEIF(Mental!$A:$A,$A8,Mental!M:M) -> 9.4230769 | T8: =_xlfn.RANK.EQ(S8,S$2:S$49,0) -> 38 | U8: =AVERAGEIF(Mental!$A:$A,$A8,Mental!N:N) -> 11.653846 | V8: =_xlfn.RANK.EQ(U8,U$2:U$49,0) -> 14 | W8: =AVERAGEIF(Mental!$A:$A,$A8,Mental!O:O) -> 11.230769 | X8: =_xlfn.RANK.EQ(W8,W$2:W$49,0) -> 28 | Y8: =AVERAGEIF(Mental!$A:$A,$A8,Mental!P:P) -> 11.884615 | Z8: =_xlfn.RANK.EQ(Y8,Y$2:Y$49,0) -> 43 | AA8: =AVERAGEIF(Mental!$A:$A,$A8,Mental!Q:Q) -> 10.730769 | AB8: =_xlfn.RANK.EQ(AA8,AA$2:AA$49,0) -> 44 | AC8: =AVERAGEIF(Mental!$A:$A,$A8,Mental!R:R) -> 12.307692 | AD8: =_xlfn.RANK.EQ(AC8,AC$2:AC$49,0) -> 41
A9: EGY | B9: Egypt | C9: =AVERAGEIF(Mental!$A:$A,$A9,Mental!E:E) -> 10.884615 | D9: =_xlfn.RANK.EQ(C9,C$2:C$49,0) -> 43 | E9: =AVERAGEIF(Mental!$A:$A,$A9,Mental!F:F) -> 12.769231 | F9: =_xlfn.RANK.EQ(E9,E$2:E$49,0) -> 31 | G9: =AVERAGEIF(Mental!$A:$A,$A9,Mental!G:G) -> 12.538462 | H9: =_xlfn.RANK.EQ(G9,G$2:G$49,0) -> 32 | I9: =AVERAGEIF(Mental!$A:$A,$A9,Mental!H:H) -> 12.307692 | J9: =_xlfn.RANK.EQ(I9,I$2:I$49,0) -> 34 | K9: =AVERAGEIF(Mental!$A:$A,$A9,Mental!I:I) -> 12.423077 | L9: =_xlfn.RANK.EQ(K9,K$2:K$49,0) -> 21 | M9: =AVERAGEIF(Mental!$A:$A,$A9,Mental!J:J) -> 12.384615 | N9: =_xlfn.RANK.EQ(M9,M$2:M$49,0) -> 31 | O9: =AVERAGEIF(Mental!$A:$A,$A9,Mental!K:K) -> 13.961538 | P9: =_xlfn.RANK.EQ(O9,O$2:O$49,0) -> 22 | Q9: =AVERAGEIF(Mental!$A:$A,$A9,Mental!L:L) -> 9.6923077 | R9: =_xlfn.RANK.EQ(Q9,Q$2:Q$49,0) -> 43 | S9: =AVERAGEIF(Mental!$A:$A,$A9,Mental!M:M) -> 9.5769231 | T9: =_xlfn.RANK.EQ(S9,S$2:S$49,0) -> 36 | U9: =AVERAGEIF(Mental!$A:$A,$A9,Mental!N:N) -> 10.923077 | V9: =_xlfn.RANK.EQ(U9,U$2:U$49,0) -> 36 | W9: =AVERAGEIF(Mental!$A:$A,$A9,Mental!O:O) -> 11.461538 | X9: =_xlfn.RANK.EQ(W9,W$2:W$49,0) -> 19 | Y9: =AVERAGEIF(Mental!$A:$A,$A9,Mental!P:P) -> 12.423077 | Z9: =_xlfn.RANK.EQ(Y9,Y$2:Y$49,0) -> 33 | AA9: =AVERAGEIF(Mental!$A:$A,$A9,Mental!Q:Q) -> 11.538462 | AB9: =_xlfn.RANK.EQ(AA9,AA$2:AA$49,0) -> 33 | AC9: =AVERAGEIF(Mental!$A:$A,$A9,Mental!R:R) -> 12.846154 | AD9: =_xlfn.RANK.EQ(AC9,AC$2:AC$49,0) -> 34
A10: ALB | B10: Albania | C10: =AVERAGEIF(Mental!$A:$A,$A10,Mental!E:E) -> 11.576923 | D10: =_xlfn.RANK.EQ(C10,C$2:C$49,0) -> 34 | E10: =AVERAGEIF(Mental!$A:$A,$A10,Mental!F:F) -> 12.846154 | F10: =_xlfn.RANK.EQ(E10,E$2:E$49,0) -> 30 | G10: =AVERAGEIF(Mental!$A:$A,$A10,Mental!G:G) -> 12.115385 | H10: =_xlfn.RANK.EQ(G10,G$2:G$49,0) -> 39 | I10: =AVERAGEIF(Mental!$A:$A,$A10,Mental!H:H) -> 12.269231 | J10: =_xlfn.RANK.EQ(I10,I$2:I$49,0) -> 35 | K10: =AVERAGEIF(Mental!$A:$A,$A10,Mental!I:I) -> 11.807692 | L10: =_xlfn.RANK.EQ(K10,K$2:K$49,0) -> 36 | M10: =AVERAGEIF(Mental!$A:$A,$A10,Mental!J:J) -> 11.653846 | N10: =_xlfn.RANK.EQ(M10,M$2:M$49,0) -> 45 | O10: =AVERAGEIF(Mental!$A:$A,$A10,Mental!K:K) -> 13.653846 | P10: =_xlfn.RANK.EQ(O10,O$2:O$49,0) -> 29 | Q10: =AVERAGEIF(Mental!$A:$A,$A10,Mental!L:L) -> 11.269231 | R10: =_xlfn.RANK.EQ(Q10,Q$2:Q$49,0) -> 20 | S10: =AVERAGEIF(Mental!$A:$A,$A10,Mental!M:M) -> 9.6153846 | T10: =_xlfn.RANK.EQ(S10,S$2:S$49,0) -> 33 | U10: =AVERAGEIF(Mental!$A:$A,$A10,Mental!N:N) -> 10.730769 | V10: =_xlfn.RANK.EQ(U10,U$2:U$49,0) -> 39 | W10: =AVERAGEIF(Mental!$A:$A,$A10,Mental!O:O) -> 10.923077 | X10: =_xlfn.RANK.EQ(W10,W$2:W$49,0) -> 33 | Y10: =AVERAGEIF(Mental!$A:$A,$A10,Mental!P:P) -> 12.269231 | Z10: =_xlfn.RANK.EQ(Y10,Y$2:Y$49,0) -> 36 | AA10: =AVERAGEIF(Mental!$A:$A,$A10,Mental!Q:Q) -> 11.192308 | AB10: =_xlfn.RANK.EQ(AA10,AA$2:AA$49,0) -> 39 | AC10: =AVERAGEIF(Mental!$A:$A,$A10,Mental!R:R) -> 13.038462 | AD10: =_xlfn.RANK.EQ(AC10,AC$2:AC$49,0) -> 29
A11: IRN | B11: Iran | C11: =AVERAGEIF(Mental!$A:$A,$A11,Mental!E:E) -> 12.576923 | D11: =_xlfn.RANK.EQ(C11,C$2:C$49,0) -> 10 | E11: =AVERAGEIF(Mental!$A:$A,$A11,Mental!F:F) -> 11.615385 | F11: =_xlfn.RANK.EQ(E11,E$2:E$49,0) -> 46 | G11: =AVERAGEIF(Mental!$A:$A,$A11,Mental!G:G) -> 12.153846 | H11: =_xlfn.RANK.EQ(G11,G$2:G$49,0) -> 37 | I11: =AVERAGEIF(Mental!$A:$A,$A11,Mental!H:H) -> 10.5 | J11: =_xlfn.RANK.EQ(I11,I$2:I$49,0) -> 47 | K11: =AVERAGEIF(Mental!$A:$A,$A11,Mental!I:I) -> 11 | L11: =_xlfn.RANK.EQ(K11,K$2:K$49,0) -> 46 | M11: =AVERAGEIF(Mental!$A:$A,$A11,Mental!J:J) -> 12.115385 | N11: =_xlfn.RANK.EQ(M11,M$2:M$49,0) -> 37 | O11: =AVERAGEIF(Mental!$A:$A,$A11,Mental!K:K) -> 12.692308 | P11: =_xlfn.RANK.EQ(O11,O$2:O$49,0) -> 42 | Q11: =AVERAGEIF(Mental!$A:$A,$A11,Mental!L:L) -> 9.5 | R11: =_xlfn.RANK.EQ(Q11,Q$2:Q$49,0) -> 44 | S11: =AVERAGEIF(Mental!$A:$A,$A11,Mental!M:M) -> 9.9230769 | T11: =_xlfn.RANK.EQ(S11,S$2:S$49,0) -> 26 | U11: =AVERAGEIF(Mental!$A:$A,$A11,Mental!N:N) -> 10.884615 | V11: =_xlfn.RANK.EQ(U11,U$2:U$49,0) -> 37 | W11: =AVERAGEIF(Mental!$A:$A,$A11,Mental!O:O) -> 10.576923 | X11: =_xlfn.RANK.EQ(W11,W$2:W$49,0) -> 39 | Y11: =AVERAGEIF(Mental!$A:$A,$A11,Mental!P:P) -> 11.769231 | Z11: =_xlfn.RANK.EQ(Y11,Y$2:Y$49,0) -> 44 | AA11: =AVERAGEIF(Mental!$A:$A,$A11,Mental!Q:Q) -> 11 | AB11: =_xlfn.RANK.EQ(AA11,AA$2:AA$49,0) -> 40 | AC11: =AVERAGEIF(Mental!$A:$A,$A11,Mental!R:R) -> 12.269231 | AD11: =_xlfn.RANK.EQ(AC11,AC$2:AC$49,0) -> 43
A12: CIV | B12: Ivory Coast | C12: =AVERAGEIF(Mental!$A:$A,$A12,Mental!E:E) -> 12.461538 | D12: =_xlfn.RANK.EQ(C12,C$2:C$49,0) -> 13 | E12: =AVERAGEIF(Mental!$A:$A,$A12,Mental!F:F) -> 14.038462 | F12: =_xlfn.RANK.EQ(E12,E$2:E$49,0) -> 5 | G12: =AVERAGEIF(Mental!$A:$A,$A12,Mental!G:G) -> 13.192308 | H12: =_xlfn.RANK.EQ(G12,G$2:G$49,0) -> 13 | I12: =AVERAGEIF(Mental!$A:$A,$A12,Mental!H:H) -> 13.461538 | J12: =_xlfn.RANK.EQ(I12,I$2:I$49,0) -> 10 | K12: =AVERAGEIF(Mental!$A:$A,$A12,Mental!I:I) -> 12.423077 | L12: =_xlfn.RANK.EQ(K12,K$2:K$49,0) -> 21 | M12: =AVERAGEIF(Mental!$A:$A,$A12,Mental!J:J) -> 12.5 | N12: =_xlfn.RANK.EQ(M12,M$2:M$49,0) -> 25 | O12: =AVERAGEIF(Mental!$A:$A,$A12,Mental!K:K) -> 14.192308 | P12: =_xlfn.RANK.EQ(O12,O$2:O$49,0) -> 18 | Q12: =AVERAGEIF(Mental!$A:$A,$A12,Mental!L:L) -> 12.269231 | R12: =_xlfn.RANK.EQ(Q12,Q$2:Q$49,0) -> 6 | S12: =AVERAGEIF(Mental!$A:$A,$A12,Mental!M:M) -> 9.9615385 | T12: =_xlfn.RANK.EQ(S12,S$2:S$49,0) -> 25 | U12: =AVERAGEIF(Mental!$A:$A,$A12,Mental!N:N) -> 11.846154 | V12: =_xlfn.RANK.EQ(U12,U$2:U$49,0) -> 9 | W12: =AVERAGEIF(Mental!$A:$A,$A12,Mental!O:O) -> 11.461538 | X12: =_xlfn.RANK.EQ(W12,W$2:W$49,0) -> 19 | Y12: =AVERAGEIF(Mental!$A:$A,$A12,Mental!P:P) -> 12.769231 | Z12: =_xlfn.RANK.EQ(Y12,Y$2:Y$49,0) -> 26 | AA12: =AVERAGEIF(Mental!$A:$A,$A12,Mental!Q:Q) -> 12.5 | AB12: =_xlfn.RANK.EQ(AA12,AA$2:AA$49,0) -> 15 | AC12: =AVERAGEIF(Mental!$A:$A,$A12,Mental!R:R) -> 13.730769 | AD12: =_xlfn.RANK.EQ(AC12,AC$2:AC$49,0) -> 15
A13: MEX | B13: Mexico | C13: =AVERAGEIF(Mental!$A:$A,$A13,Mental!E:E) -> 11.346154 | D13: =_xlfn.RANK.EQ(C13,C$2:C$49,0) -> 36 | E13: =AVERAGEIF(Mental!$A:$A,$A13,Mental!F:F) -> 13.653846 | F13: =_xlfn.RANK.EQ(E13,E$2:E$49,0) -> 17 | G13: =AVERAGEIF(Mental!$A:$A,$A13,Mental!G:G) -> 12.346154 | H13: =_xlfn.RANK.EQ(G13,G$2:G$49,0) -> 35 | I13: =AVERAGEIF(Mental!$A:$A,$A13,Mental!H:H) -> 13.038462 | J13: =_xlfn.RANK.EQ(I13,I$2:I$49,0) -> 19 | K13: =AVERAGEIF(Mental!$A:$A,$A13,Mental!I:I) -> 12.884615 | L13: =_xlfn.RANK.EQ(K13,K$2:K$49,0) -> 14 | M13: =AVERAGEIF(Mental!$A:$A,$A13,Mental!J:J) -> 12.961538 | N13: =_xlfn.RANK.EQ(M13,M$2:M$49,0) -> 13 | O13: =AVERAGEIF(Mental!$A:$A,$A13,Mental!K:K) -> 13.153846 | P13: =_xlfn.RANK.EQ(O13,O$2:O$49,0) -> 40 | Q13: =AVERAGEIF(Mental!$A:$A,$A13,Mental!L:L) -> 11.346154 | R13: =_xlfn.RANK.EQ(Q13,Q$2:Q$49,0) -> 17 | S13: =AVERAGEIF(Mental!$A:$A,$A13,Mental!M:M) -> 10.461538 | T13: =_xlfn.RANK.EQ(S13,S$2:S$49,0) -> 17 | U13: =AVERAGEIF(Mental!$A:$A,$A13,Mental!N:N) -> 11.730769 | V13: =_xlfn.RANK.EQ(U13,U$2:U$49,0) -> 11 | W13: =AVERAGEIF(Mental!$A:$A,$A13,Mental!O:O) -> 11.307692 | X13: =_xlfn.RANK.EQ(W13,W$2:W$49,0) -> 25 | Y13: =AVERAGEIF(Mental!$A:$A,$A13,Mental!P:P) -> 12.269231 | Z13: =_xlfn.RANK.EQ(Y13,Y$2:Y$49,0) -> 36 | AA13: =AVERAGEIF(Mental!$A:$A,$A13,Mental!Q:Q) -> 12.346154 | AB13: =_xlfn.RANK.EQ(AA13,AA$2:AA$49,0) -> 20 | AC13: =AVERAGEIF(Mental!$A:$A,$A13,Mental!R:R) -> 13.230769 | AD13: =_xlfn.RANK.EQ(AC13,AC$2:AC$49,0) -> 24
... A49: THA | B49: Thailand | C49: =AVERAGEIF(Mental!$A:$A,$A49,Mental!E:E) -> 10.653846 | D49: =_xlfn.RANK.EQ(C49,C$2:C$49,0) -> 45 | E49: =AVERAGEIF(Mental!$A:$A,$A49,Mental!F:F) -> 12.346154 | F49: =_xlfn.RANK.EQ(E49,E$2:E$49,0) -> 39 | G49: =AVERAGEIF(Mental!$A:$A,$A49,Mental!G:G) -> 11.269231 | H49: =_xlfn.RANK.EQ(G49,G$2:G$49,0) -> 45 | I49: =AVERAGEIF(Mental!$A:$A,$A49,Mental!H:H) -> 11.230769 | J49: =_xlfn.RANK.EQ(I49,I$2:I$49,0) -> 45 | K49: =AVERAGEIF(Mental!$A:$A,$A49,Mental!I:I) -> 11.653846 | L49: =_xlfn.RANK.EQ(K49,K$2:K$49,0) -> 39 | M49: =AVERAGEIF(Mental!$A:$A,$A49,Mental!J:J) -> 11.692308 | N49: =_xlfn.RANK.EQ(M49,M$2:M$49,0) -> 43 | O49: =AVERAGEIF(Mental!$A:$A,$A49,Mental!K:K) -> 14.076923 | P49: =_xlfn.RANK.EQ(O49,O$2:O$49,0) -> 19 | Q49: =AVERAGEIF(Mental!$A:$A,$A49,Mental!L:L) -> 11.038462 | R49: =_xlfn.RANK.EQ(Q49,Q$2:Q$49,0) -> 22 | S49: =AVERAGEIF(Mental!$A:$A,$A49,Mental!M:M) -> 7.0384615 | T49: =_xlfn.RANK.EQ(S49,S$2:S$49,0) -> 48 | U49: =AVERAGEIF(Mental!$A:$A,$A49,Mental!N:N) -> 10.038462 | V49: =_xlfn.RANK.EQ(U49,U$2:U$49,0) -> 46 | W49: =AVERAGEIF(Mental!$A:$A,$A49,Mental!O:O) -> 9.3076923 | X49: =_xlfn.RANK.EQ(W49,W$2:W$49,0) -> 48 | Y49: =AVERAGEIF(Mental!$A:$A,$A49,Mental!P:P) -> 10.846154 | Z49: =_xlfn.RANK.EQ(Y49,Y$2:Y$49,0) -> 47 | AA49: =AVERAGEIF(Mental!$A:$A,$A49,Mental!Q:Q) -> 10.076923 | AB49: =_xlfn.RANK.EQ(AA49,AA$2:AA$49,0) -> 47 | AC49: =AVERAGEIF(Mental!$A:$A,$A49,Mental!R:R) -> 11.115385 | AD49: =_xlfn.RANK.EQ(AC49,AC$2:AC$49,0) -> 47

Sheet Attribute Rank PHY
A1: NATION | B1: Name | C1: Acc | E1: Agi | G1: Bal | I1: Jum | K1: Nat | M1: Pac | O1: Sta | Q1: Str
A2: ALG | B2: Algeria | C2: =AVERAGEIF(Physical!$A:$A,$A2,Physical!E:E) -> 13.115385 | D2: =_xlfn.RANK.EQ(C2,C$2:C$49,0) -> 25 | E2: =AVERAGEIF(Physical!$A:$A,$A2,Physical!F:F) -> 13.461538 | F2: =_xlfn.RANK.EQ(E2,E$2:E$49,0) -> 19 | G2: =AVERAGEIF(Physical!$A:$A,$A2,Physical!G:G) -> 12.923077 | H2: =_xlfn.RANK.EQ(G2,G$2:G$49,0) -> 22 | I2: =AVERAGEIF(Physical!$A:$A,$A2,Physical!H:H) -> 9.9230769 | J2: =_xlfn.RANK.EQ(I2,I$2:I$49,0) -> 45 | K2: =AVERAGEIF(Physical!$A:$A,$A2,Physical!I:I) -> 13.692308 | L2: =_xlfn.RANK.EQ(K2,K$2:K$49,0) -> 25 | M2: =AVERAGEIF(Physical!$A:$A,$A2,Physical!J:J) -> 13.115385 | N2: =_xlfn.RANK.EQ(M2,M$2:M$49,0) -> 25 | O2: =AVERAGEIF(Physical!$A:$A,$A2,Physical!K:K) -> 12.769231 | P2: =_xlfn.RANK.EQ(O2,O$2:O$49,0) -> 32 | Q2: =AVERAGEIF(Physical!$A:$A,$A2,Physical!L:L) -> 11.576923 | R2: =_xlfn.RANK.EQ(Q2,Q$2:Q$49,0) -> 32
A3: AUT | B3: Austria | C3: =AVERAGEIF(Physical!$A:$A,$A3,Physical!E:E) -> 13.076923 | D3: =_xlfn.RANK.EQ(C3,C$2:C$49,0) -> 26 | E3: =AVERAGEIF(Physical!$A:$A,$A3,Physical!F:F) -> 12.730769 | F3: =_xlfn.RANK.EQ(E3,E$2:E$49,0) -> 39 | G3: =AVERAGEIF(Physical!$A:$A,$A3,Physical!G:G) -> 13.653846 | H3: =_xlfn.RANK.EQ(G3,G$2:G$49,0) -> 7 | I3: =AVERAGEIF(Physical!$A:$A,$A3,Physical!H:H) -> 12.884615 | J3: =_xlfn.RANK.EQ(I3,I$2:I$49,0) -> 6 | K3: =AVERAGEIF(Physical!$A:$A,$A3,Physical!I:I) -> 13.653846 | L3: =_xlfn.RANK.EQ(K3,K$2:K$49,0) -> 26 | M3: =AVERAGEIF(Physical!$A:$A,$A3,Physical!J:J) -> 13.615385 | N3: =_xlfn.RANK.EQ(M3,M$2:M$49,0) -> 14 | O3: =AVERAGEIF(Physical!$A:$A,$A3,Physical!K:K) -> 14.115385 | P3: =_xlfn.RANK.EQ(O3,O$2:O$49,0) -> 5 | Q3: =AVERAGEIF(Physical!$A:$A,$A3,Physical!L:L) -> 13.307692 | R3: =_xlfn.RANK.EQ(Q3,Q$2:Q$49,0) -> 4
A4: USA | B4: United States | C4: =AVERAGEIF(Physical!$A:$A,$A4,Physical!E:E) -> 13.615385 | D4: =_xlfn.RANK.EQ(C4,C$2:C$49,0) -> 13 | E4: =AVERAGEIF(Physical!$A:$A,$A4,Physical!F:F) -> 13.576923 | F4: =_xlfn.RANK.EQ(E4,E$2:E$49,0) -> 15 | G4: =AVERAGEIF(Physical!$A:$A,$A4,Physical!G:G) -> 12.769231 | H4: =_xlfn.RANK.EQ(G4,G$2:G$49,0) -> 26 | I4: =AVERAGEIF(Physical!$A:$A,$A4,Physical!H:H) -> 11.461538 | J4: =_xlfn.RANK.EQ(I4,I$2:I$49,0) -> 23 | K4: =AVERAGEIF(Physical!$A:$A,$A4,Physical!I:I) -> 13.653846 | L4: =_xlfn.RANK.EQ(K4,K$2:K$49,0) -> 26 | M4: =AVERAGEIF(Physical!$A:$A,$A4,Physical!J:J) -> 13.384615 | N4: =_xlfn.RANK.EQ(M4,M$2:M$49,0) -> 20 | O4: =AVERAGEIF(Physical!$A:$A,$A4,Physical!K:K) -> 13.692308 | P4: =_xlfn.RANK.EQ(O4,O$2:O$49,0) -> 14 | Q4: =AVERAGEIF(Physical!$A:$A,$A4,Physical!L:L) -> 12.269231 | R4: =_xlfn.RANK.EQ(Q4,Q$2:Q$49,0) -> 20
A5: UZB | B5: Uzbekistan | C5: =AVERAGEIF(Physical!$A:$A,$A5,Physical!E:E) -> 12.961538 | D5: =_xlfn.RANK.EQ(C5,C$2:C$49,0) -> 31 | E5: =AVERAGEIF(Physical!$A:$A,$A5,Physical!F:F) -> 12.807692 | F5: =_xlfn.RANK.EQ(E5,E$2:E$49,0) -> 37 | G5: =AVERAGEIF(Physical!$A:$A,$A5,Physical!G:G) -> 11.307692 | H5: =_xlfn.RANK.EQ(G5,G$2:G$49,0) -> 45 | I5: =AVERAGEIF(Physical!$A:$A,$A5,Physical!H:H) -> 10 | J5: =_xlfn.RANK.EQ(I5,I$2:I$49,0) -> 44 | K5: =AVERAGEIF(Physical!$A:$A,$A5,Physical!I:I) -> 13.269231 | L5: =_xlfn.RANK.EQ(K5,K$2:K$49,0) -> 34 | M5: =AVERAGEIF(Physical!$A:$A,$A5,Physical!J:J) -> 12.846154 | N5: =_xlfn.RANK.EQ(M5,M$2:M$49,0) -> 32 | O5: =AVERAGEIF(Physical!$A:$A,$A5,Physical!K:K) -> 10.653846 | P5: =_xlfn.RANK.EQ(O5,O$2:O$49,0) -> 46 | Q5: =AVERAGEIF(Physical!$A:$A,$A5,Physical!L:L) -> 9.1153846 | R5: =_xlfn.RANK.EQ(Q5,Q$2:Q$49,0) -> 47
A6: BIH | B6: Bosnia & Herzegovina | C6: =AVERAGEIF(Physical!$A:$A,$A6,Physical!E:E) -> 12.576923 | D6: =_xlfn.RANK.EQ(C6,C$2:C$49,0) -> 37 | E6: =AVERAGEIF(Physical!$A:$A,$A6,Physical!F:F) -> 12.615385 | F6: =_xlfn.RANK.EQ(E6,E$2:E$49,0) -> 40 | G6: =AVERAGEIF(Physical!$A:$A,$A6,Physical!G:G) -> 12.615385 | H6: =_xlfn.RANK.EQ(G6,G$2:G$49,0) -> 30 | I6: =AVERAGEIF(Physical!$A:$A,$A6,Physical!H:H) -> 12.230769 | J6: =_xlfn.RANK.EQ(I6,I$2:I$49,0) -> 9 | K6: =AVERAGEIF(Physical!$A:$A,$A6,Physical!I:I) -> 13.807692 | L6: =_xlfn.RANK.EQ(K6,K$2:K$49,0) -> 23 | M6: =AVERAGEIF(Physical!$A:$A,$A6,Physical!J:J) -> 12.5 | N6: =_xlfn.RANK.EQ(M6,M$2:M$49,0) -> 38 | O6: =AVERAGEIF(Physical!$A:$A,$A6,Physical!K:K) -> 12.384615 | P6: =_xlfn.RANK.EQ(O6,O$2:O$49,0) -> 39 | Q6: =AVERAGEIF(Physical!$A:$A,$A6,Physical!L:L) -> 11.961538 | R6: =_xlfn.RANK.EQ(Q6,Q$2:Q$49,0) -> 26
A7: CAN | B7: Canada | C7: =AVERAGEIF(Physical!$A:$A,$A7,Physical!E:E) -> 13 | D7: =_xlfn.RANK.EQ(C7,C$2:C$49,0) -> 28 | E7: =AVERAGEIF(Physical!$A:$A,$A7,Physical!F:F) -> 12.961538 | F7: =_xlfn.RANK.EQ(E7,E$2:E$49,0) -> 31 | G7: =AVERAGEIF(Physical!$A:$A,$A7,Physical!G:G) -> 12.230769 | H7: =_xlfn.RANK.EQ(G7,G$2:G$49,0) -> 38 | I7: =AVERAGEIF(Physical!$A:$A,$A7,Physical!H:H) -> 11.038462 | J7: =_xlfn.RANK.EQ(I7,I$2:I$49,0) -> 35 | K7: =AVERAGEIF(Physical!$A:$A,$A7,Physical!I:I) -> 13.346154 | L7: =_xlfn.RANK.EQ(K7,K$2:K$49,0) -> 32 | M7: =AVERAGEIF(Physical!$A:$A,$A7,Physical!J:J) -> 12.923077 | N7: =_xlfn.RANK.EQ(M7,M$2:M$49,0) -> 29 | O7: =AVERAGEIF(Physical!$A:$A,$A7,Physical!K:K) -> 13 | P7: =_xlfn.RANK.EQ(O7,O$2:O$49,0) -> 27 | Q7: =AVERAGEIF(Physical!$A:$A,$A7,Physical!L:L) -> 12.192308 | R7: =_xlfn.RANK.EQ(Q7,Q$2:Q$49,0) -> 23
A8: ECU | B8: Ecuador | C8: =AVERAGEIF(Physical!$A:$A,$A8,Physical!E:E) -> 13.730769 | D8: =_xlfn.RANK.EQ(C8,C$2:C$49,0) -> 11 | E8: =AVERAGEIF(Physical!$A:$A,$A8,Physical!F:F) -> 13.576923 | F8: =_xlfn.RANK.EQ(E8,E$2:E$49,0) -> 15 | G8: =AVERAGEIF(Physical!$A:$A,$A8,Physical!G:G) -> 13 | H8: =_xlfn.RANK.EQ(G8,G$2:G$49,0) -> 19 | I8: =AVERAGEIF(Physical!$A:$A,$A8,Physical!H:H) -> 10.769231 | J8: =_xlfn.RANK.EQ(I8,I$2:I$49,0) -> 38 | K8: =AVERAGEIF(Physical!$A:$A,$A8,Physical!I:I) -> 14.115385 | L8: =_xlfn.RANK.EQ(K8,K$2:K$49,0) -> 13 | M8: =AVERAGEIF(Physical!$A:$A,$A8,Physical!J:J) -> 13.538462 | N8: =_xlfn.RANK.EQ(M8,M$2:M$49,0) -> 16 | O8: =AVERAGEIF(Physical!$A:$A,$A8,Physical!K:K) -> 14 | P8: =_xlfn.RANK.EQ(O8,O$2:O$49,0) -> 7 | Q8: =AVERAGEIF(Physical!$A:$A,$A8,Physical!L:L) -> 12.5 | R8: =_xlfn.RANK.EQ(Q8,Q$2:Q$49,0) -> 15
A9: EGY | B9: Egypt | C9: =AVERAGEIF(Physical!$A:$A,$A9,Physical!E:E) -> 12.307692 | D9: =_xlfn.RANK.EQ(C9,C$2:C$49,0) -> 44 | E9: =AVERAGEIF(Physical!$A:$A,$A9,Physical!F:F) -> 13.192308 | F9: =_xlfn.RANK.EQ(E9,E$2:E$49,0) -> 26 | G9: =AVERAGEIF(Physical!$A:$A,$A9,Physical!G:G) -> 12.269231 | H9: =_xlfn.RANK.EQ(G9,G$2:G$49,0) -> 37 | I9: =AVERAGEIF(Physical!$A:$A,$A9,Physical!H:H) -> 10.269231 | J9: =_xlfn.RANK.EQ(I9,I$2:I$49,0) -> 40 | K9: =AVERAGEIF(Physical!$A:$A,$A9,Physical!I:I) -> 13.615385 | L9: =_xlfn.RANK.EQ(K9,K$2:K$49,0) -> 28 | M9: =AVERAGEIF(Physical!$A:$A,$A9,Physical!J:J) -> 12.769231 | N9: =_xlfn.RANK.EQ(M9,M$2:M$49,0) -> 34 | O9: =AVERAGEIF(Physical!$A:$A,$A9,Physical!K:K) -> 12.269231 | P9: =_xlfn.RANK.EQ(O9,O$2:O$49,0) -> 41 | Q9: =AVERAGEIF(Physical!$A:$A,$A9,Physical!L:L) -> 10.730769 | R9: =_xlfn.RANK.EQ(Q9,Q$2:Q$49,0) -> 41
A10: ALB | B10: Albania | C10: =AVERAGEIF(Physical!$A:$A,$A10,Physical!E:E) -> 13 | D10: =_xlfn.RANK.EQ(C10,C$2:C$49,0) -> 28 | E10: =AVERAGEIF(Physical!$A:$A,$A10,Physical!F:F) -> 13.230769 | F10: =_xlfn.RANK.EQ(E10,E$2:E$49,0) -> 25 | G10: =AVERAGEIF(Physical!$A:$A,$A10,Physical!G:G) -> 12.384615 | H10: =_xlfn.RANK.EQ(G10,G$2:G$49,0) -> 35 | I10: =AVERAGEIF(Physical!$A:$A,$A10,Physical!H:H) -> 11.423077 | J10: =_xlfn.RANK.EQ(I10,I$2:I$49,0) -> 25 | K10: =AVERAGEIF(Physical!$A:$A,$A10,Physical!I:I) -> 13.461538 | L10: =_xlfn.RANK.EQ(K10,K$2:K$49,0) -> 29 | M10: =AVERAGEIF(Physical!$A:$A,$A10,Physical!J:J) -> 12.730769 | N10: =_xlfn.RANK.EQ(M10,M$2:M$49,0) -> 35 | O10: =AVERAGEIF(Physical!$A:$A,$A10,Physical!K:K) -> 12.961538 | P10: =_xlfn.RANK.EQ(O10,O$2:O$49,0) -> 30 | Q10: =AVERAGEIF(Physical!$A:$A,$A10,Physical!L:L) -> 11.423077 | R10: =_xlfn.RANK.EQ(Q10,Q$2:Q$49,0) -> 33
A11: IRN | B11: Iran | C11: =AVERAGEIF(Physical!$A:$A,$A11,Physical!E:E) -> 12.346154 | D11: =_xlfn.RANK.EQ(C11,C$2:C$49,0) -> 43 | E11: =AVERAGEIF(Physical!$A:$A,$A11,Physical!F:F) -> 11.692308 | F11: =_xlfn.RANK.EQ(E11,E$2:E$49,0) -> 48 | G11: =AVERAGEIF(Physical!$A:$A,$A11,Physical!G:G) -> 11.961538 | H11: =_xlfn.RANK.EQ(G11,G$2:G$49,0) -> 41 | I11: =AVERAGEIF(Physical!$A:$A,$A11,Physical!H:H) -> 12.192308 | J11: =_xlfn.RANK.EQ(I11,I$2:I$49,0) -> 10 | K11: =AVERAGEIF(Physical!$A:$A,$A11,Physical!I:I) -> 12.153846 | L11: =_xlfn.RANK.EQ(K11,K$2:K$49,0) -> 48 | M11: =AVERAGEIF(Physical!$A:$A,$A11,Physical!J:J) -> 12 | N11: =_xlfn.RANK.EQ(M11,M$2:M$49,0) -> 46 | O11: =AVERAGEIF(Physical!$A:$A,$A11,Physical!K:K) -> 11.192308 | P11: =_xlfn.RANK.EQ(O11,O$2:O$49,0) -> 45 | Q11: =AVERAGEIF(Physical!$A:$A,$A11,Physical!L:L) -> 10.730769 | R11: =_xlfn.RANK.EQ(Q11,Q$2:Q$49,0) -> 41
A12: CIV | B12: Ivory Coast | C12: =AVERAGEIF(Physical!$A:$A,$A12,Physical!E:E) -> 14.307692 | D12: =_xlfn.RANK.EQ(C12,C$2:C$49,0) -> 1 | E12: =AVERAGEIF(Physical!$A:$A,$A12,Physical!F:F) -> 14.423077 | F12: =_xlfn.RANK.EQ(E12,E$2:E$49,0) -> 3 | G12: =AVERAGEIF(Physical!$A:$A,$A12,Physical!G:G) -> 13.153846 | H12: =_xlfn.RANK.EQ(G12,G$2:G$49,0) -> 17 | I12: =AVERAGEIF(Physical!$A:$A,$A12,Physical!H:H) -> 12.038462 | J12: =_xlfn.RANK.EQ(I12,I$2:I$49,0) -> 13 | K12: =AVERAGEIF(Physical!$A:$A,$A12,Physical!I:I) -> 14.576923 | L12: =_xlfn.RANK.EQ(K12,K$2:K$49,0) -> 3 | M12: =AVERAGEIF(Physical!$A:$A,$A12,Physical!J:J) -> 14.461538 | N12: =_xlfn.RANK.EQ(M12,M$2:M$49,0) -> 2 | O12: =AVERAGEIF(Physical!$A:$A,$A12,Physical!K:K) -> 14.269231 | P12: =_xlfn.RANK.EQ(O12,O$2:O$49,0) -> 2 | Q12: =AVERAGEIF(Physical!$A:$A,$A12,Physical!L:L) -> 13.653846 | R12: =_xlfn.RANK.EQ(Q12,Q$2:Q$49,0) -> 2
A13: MEX | B13: Mexico | C13: =AVERAGEIF(Physical!$A:$A,$A13,Physical!E:E) -> 13.423077 | D13: =_xlfn.RANK.EQ(C13,C$2:C$49,0) -> 16 | E13: =AVERAGEIF(Physical!$A:$A,$A13,Physical!F:F) -> 13.961538 | F13: =_xlfn.RANK.EQ(E13,E$2:E$49,0) -> 11 | G13: =AVERAGEIF(Physical!$A:$A,$A13,Physical!G:G) -> 12.769231 | H13: =_xlfn.RANK.EQ(G13,G$2:G$49,0) -> 26 | I13: =AVERAGEIF(Physical!$A:$A,$A13,Physical!H:H) -> 10.807692 | J13: =_xlfn.RANK.EQ(I13,I$2:I$49,0) -> 37 | K13: =AVERAGEIF(Physical!$A:$A,$A13,Physical!I:I) -> 13.038462 | L13: =_xlfn.RANK.EQ(K13,K$2:K$49,0) -> 40 | M13: =AVERAGEIF(Physical!$A:$A,$A13,Physical!J:J) -> 13.423077 | N13: =_xlfn.RANK.EQ(M13,M$2:M$49,0) -> 19 | O13: =AVERAGEIF(Physical!$A:$A,$A13,Physical!K:K) -> 13.807692 | P13: =_xlfn.RANK.EQ(O13,O$2:O$49,0) -> 11 | Q13: =AVERAGEIF(Physical!$A:$A,$A13,Physical!L:L) -> 10.769231 | R13: =_xlfn.RANK.EQ(Q13,Q$2:Q$49,0) -> 40
... A49: THA | B49: Thailand | C49: =AVERAGEIF(Physical!$A:$A,$A49,Physical!E:E) -> 12.307692 | D49: =_xlfn.RANK.EQ(C49,C$2:C$49,0) -> 44 | E49: =AVERAGEIF(Physical!$A:$A,$A49,Physical!F:F) -> 12.384615 | F49: =_xlfn.RANK.EQ(E49,E$2:E$49,0) -> 43 | G49: =AVERAGEIF(Physical!$A:$A,$A49,Physical!G:G) -> 9.5 | H49: =_xlfn.RANK.EQ(G49,G$2:G$49,0) -> 47 | I49: =AVERAGEIF(Physical!$A:$A,$A49,Physical!H:H) -> 10.115385 | J49: =_xlfn.RANK.EQ(I49,I$2:I$49,0) -> 42 | K49: =AVERAGEIF(Physical!$A:$A,$A49,Physical!I:I) -> 12.846154 | L49: =_xlfn.RANK.EQ(K49,K$2:K$49,0) -> 42 | M49: =AVERAGEIF(Physical!$A:$A,$A49,Physical!J:J) -> 11.769231 | N49: =_xlfn.RANK.EQ(M49,M$2:M$49,0) -> 47 | O49: =AVERAGEIF(Physical!$A:$A,$A49,Physical!K:K) -> 11.615385 | P49: =_xlfn.RANK.EQ(O49,O$2:O$49,0) -> 44 | Q49: =AVERAGEIF(Physical!$A:$A,$A49,Physical!L:L) -> 10.038462 | R49: =_xlfn.RANK.EQ(Q49,Q$2:Q$49,0) -> 45

Sheet Attribute Rank TEC
A1: NATION | B1: Name | C1: Cor | E1: Cro | G1: Dri | I1: Fin | K1: Fir | M1: Fre | O1: Hea | Q1: Lon | S1: L Th | U1: Mar | W1: Pas | Y1: Pen | AA1: Tck | AC1: Tec
A2: ALG | B2: Algeria | C2: =AVERAGEIF(Technical!$A:$A,$A2,Technical!E:E) -> 9.4347826 | D2: =_xlfn.RANK.EQ(C2,C$2:C$49,0) -> 5 | E2: =AVERAGEIF(Technical!$A:$A,$A2,Technical!F:F) -> 11.565217 | F2: =_xlfn.RANK.EQ(E2,E$2:E$49,0) -> 5 | G2: =AVERAGEIF(Technical!$A:$A,$A2,Technical!G:G) -> 13.173913 | H2: =_xlfn.RANK.EQ(G2,G$2:G$49,0) -> 5 | I2: =AVERAGEIF(Technical!$A:$A,$A2,Technical!H:H) -> 9.9130435 | J2: =_xlfn.RANK.EQ(I2,I$2:I$49,0) -> 29 | K2: =AVERAGEIF(Technical!$A:$A,$A2,Technical!I:I) -> 13.653846 | L2: =_xlfn.RANK.EQ(K2,K$2:K$49,0) -> 6 | M2: =AVERAGEIF(Technical!$A:$A,$A2,Technical!J:J) -> 10.043478 | N2: =_xlfn.RANK.EQ(M2,M$2:M$49,0) -> 4 | O2: =AVERAGEIF(Technical!$A:$A,$A2,Technical!K:K) -> 9.4782609 | P2: =_xlfn.RANK.EQ(O2,O$2:O$49,0) -> 46 | Q2: =AVERAGEIF(Technical!$A:$A,$A2,Technical!L:L) -> 10.434783 | R2: =_xlfn.RANK.EQ(Q2,Q$2:Q$49,0) -> 17 | S2: =AVERAGEIF(Technical!$A:$A,$A2,Technical!M:M) -> 6.4782609 | T2: =_xlfn.RANK.EQ(S2,S$2:S$49,0) -> 41 | U2: =AVERAGEIF(Technical!$A:$A,$A2,Technical!N:N) -> 10.043478 | V2: =_xlfn.RANK.EQ(U2,U$2:U$49,0) -> 25 | W2: =AVERAGEIF(Technical!$A:$A,$A2,Technical!O:O) -> 13.076923 | X2: =_xlfn.RANK.EQ(W2,W$2:W$49,0) -> 11 | Y2: =AVERAGEIF(Technical!$A:$A,$A2,Technical!P:P) -> 10.478261 | Z2: =_xlfn.RANK.EQ(Y2,Y$2:Y$49,0) -> 10 | AA2: =AVERAGEIF(Technical!$A:$A,$A2,Technical!Q:Q) -> 10.391304 | AB2: =_xlfn.RANK.EQ(AA2,AA$2:AA$49,0) -> 32 | AC2: =AVERAGEIF(Technical!$A:$A,$A2,Technical!R:R) -> 14.217391 | AD2: =_xlfn.RANK.EQ(AC2,AC$2:AC$49,0) -> 4
A3: AUT | B3: Austria | C3: =AVERAGEIF(Technical!$A:$A,$A3,Technical!E:E) -> 7.6956522 | D3: =_xlfn.RANK.EQ(C3,C$2:C$49,0) -> 36 | E3: =AVERAGEIF(Technical!$A:$A,$A3,Technical!F:F) -> 9.3043478 | F3: =_xlfn.RANK.EQ(E3,E$2:E$49,0) -> 43 | G3: =AVERAGEIF(Technical!$A:$A,$A3,Technical!G:G) -> 11.434783 | H3: =_xlfn.RANK.EQ(G3,G$2:G$49,0) -> 34 | I3: =AVERAGEIF(Technical!$A:$A,$A3,Technical!H:H) -> 8.7391304 | J3: =_xlfn.RANK.EQ(I3,I$2:I$49,0) -> 45 | K3: =AVERAGEIF(Technical!$A:$A,$A3,Technical!I:I) -> 12.384615 | L3: =_xlfn.RANK.EQ(K3,K$2:K$49,0) -> 28 | M3: =AVERAGEIF(Technical!$A:$A,$A3,Technical!J:J) -> 9.5217391 | N3: =_xlfn.RANK.EQ(M3,M$2:M$49,0) -> 8 | O3: =AVERAGEIF(Technical!$A:$A,$A3,Technical!K:K) -> 11.347826 | P3: =_xlfn.RANK.EQ(O3,O$2:O$49,0) -> 12 | Q3: =AVERAGEIF(Technical!$A:$A,$A3,Technical!L:L) -> 10.173913 | R3: =_xlfn.RANK.EQ(Q3,Q$2:Q$49,0) -> 26 | S3: =AVERAGEIF(Technical!$A:$A,$A3,Technical!M:M) -> 7.8695652 | T3: =_xlfn.RANK.EQ(S3,S$2:S$49,0) -> 13 | U3: =AVERAGEIF(Technical!$A:$A,$A3,Technical!N:N) -> 10.434783 | V3: =_xlfn.RANK.EQ(U3,U$2:U$49,0) -> 13 | W3: =AVERAGEIF(Technical!$A:$A,$A3,Technical!O:O) -> 12.192308 | X3: =_xlfn.RANK.EQ(W3,W$2:W$49,0) -> 37 | Y3: =AVERAGEIF(Technical!$A:$A,$A3,Technical!P:P) -> 9.9130435 | Z3: =_xlfn.RANK.EQ(Y3,Y$2:Y$49,0) -> 20 | AA3: =AVERAGEIF(Technical!$A:$A,$A3,Technical!Q:Q) -> 11.521739 | AB3: =_xlfn.RANK.EQ(AA3,AA$2:AA$49,0) -> 7 | AC3: =AVERAGEIF(Technical!$A:$A,$A3,Technical!R:R) -> 13.043478 | AD3: =_xlfn.RANK.EQ(AC3,AC$2:AC$49,0) -> 30
A4: USA | B4: United States | C4: =AVERAGEIF(Technical!$A:$A,$A4,Technical!E:E) -> 8.173913 | D4: =_xlfn.RANK.EQ(C4,C$2:C$49,0) -> 27 | E4: =AVERAGEIF(Technical!$A:$A,$A4,Technical!F:F) -> 10.521739 | F4: =_xlfn.RANK.EQ(E4,E$2:E$49,0) -> 20 | G4: =AVERAGEIF(Technical!$A:$A,$A4,Technical!G:G) -> 12.73913 | H4: =_xlfn.RANK.EQ(G4,G$2:G$49,0) -> 8 | I4: =AVERAGEIF(Technical!$A:$A,$A4,Technical!H:H) -> 10.217391 | J4: =_xlfn.RANK.EQ(I4,I$2:I$49,0) -> 22 | K4: =AVERAGEIF(Technical!$A:$A,$A4,Technical!I:I) -> 12.653846 | L4: =_xlfn.RANK.EQ(K4,K$2:K$49,0) -> 21 | M4: =AVERAGEIF(Technical!$A:$A,$A4,Technical!J:J) -> 8.7391304 | N4: =_xlfn.RANK.EQ(M4,M$2:M$49,0) -> 22 | O4: =AVERAGEIF(Technical!$A:$A,$A4,Technical!K:K) -> 11.347826 | P4: =_xlfn.RANK.EQ(O4,O$2:O$49,0) -> 12 | Q4: =AVERAGEIF(Technical!$A:$A,$A4,Technical!L:L) -> 9.7826087 | R4: =_xlfn.RANK.EQ(Q4,Q$2:Q$49,0) -> 36 | S4: =AVERAGEIF(Technical!$A:$A,$A4,Technical!M:M) -> 8.0434783 | T4: =_xlfn.RANK.EQ(S4,S$2:S$49,0) -> 11 | U4: =AVERAGEIF(Technical!$A:$A,$A4,Technical!N:N) -> 10.173913 | V4: =_xlfn.RANK.EQ(U4,U$2:U$49,0) -> 22 | W4: =AVERAGEIF(Technical!$A:$A,$A4,Technical!O:O) -> 12.5 | X4: =_xlfn.RANK.EQ(W4,W$2:W$49,0) -> 24 | Y4: =AVERAGEIF(Technical!$A:$A,$A4,Technical!P:P) -> 10.26087 | Z4: =_xlfn.RANK.EQ(Y4,Y$2:Y$49,0) -> 14 | AA4: =AVERAGEIF(Technical!$A:$A,$A4,Technical!Q:Q) -> 10.521739 | AB4: =_xlfn.RANK.EQ(AA4,AA$2:AA$49,0) -> 29 | AC4: =AVERAGEIF(Technical!$A:$A,$A4,Technical!R:R) -> 13.173913 | AD4: =_xlfn.RANK.EQ(AC4,AC$2:AC$49,0) -> 27
A5: UZB | B5: Uzbekistan | C5: =AVERAGEIF(Technical!$A:$A,$A5,Technical!E:E) -> 7.7826087 | D5: =_xlfn.RANK.EQ(C5,C$2:C$49,0) -> 31 | E5: =AVERAGEIF(Technical!$A:$A,$A5,Technical!F:F) -> 9.2608696 | F5: =_xlfn.RANK.EQ(E5,E$2:E$49,0) -> 44 | G5: =AVERAGEIF(Technical!$A:$A,$A5,Technical!G:G) -> 10.652174 | H5: =_xlfn.RANK.EQ(G5,G$2:G$49,0) -> 44 | I5: =AVERAGEIF(Technical!$A:$A,$A5,Technical!H:H) -> 8.9130435 | J5: =_xlfn.RANK.EQ(I5,I$2:I$49,0) -> 44 | K5: =AVERAGEIF(Technical!$A:$A,$A5,Technical!I:I) -> 11.307692 | L5: =_xlfn.RANK.EQ(K5,K$2:K$49,0) -> 46 | M5: =AVERAGEIF(Technical!$A:$A,$A5,Technical!J:J) -> 7.3913043 | N5: =_xlfn.RANK.EQ(M5,M$2:M$49,0) -> 42 | O5: =AVERAGEIF(Technical!$A:$A,$A5,Technical!K:K) -> 10.173913 | P5: =_xlfn.RANK.EQ(O5,O$2:O$49,0) -> 40 | Q5: =AVERAGEIF(Technical!$A:$A,$A5,Technical!L:L) -> 8.826087 | R5: =_xlfn.RANK.EQ(Q5,Q$2:Q$49,0) -> 44 | S5: =AVERAGEIF(Technical!$A:$A,$A5,Technical!M:M) -> 6.0869565 | T5: =_xlfn.RANK.EQ(S5,S$2:S$49,0) -> 46 | U5: =AVERAGEIF(Technical!$A:$A,$A5,Technical!N:N) -> 9.8695652 | V5: =_xlfn.RANK.EQ(U5,U$2:U$49,0) -> 31 | W5: =AVERAGEIF(Technical!$A:$A,$A5,Technical!O:O) -> 11.423077 | X5: =_xlfn.RANK.EQ(W5,W$2:W$49,0) -> 45 | Y5: =AVERAGEIF(Technical!$A:$A,$A5,Technical!P:P) -> 8.1304348 | Z5: =_xlfn.RANK.EQ(Y5,Y$2:Y$49,0) -> 43 | AA5: =AVERAGEIF(Technical!$A:$A,$A5,Technical!Q:Q) -> 10.26087 | AB5: =_xlfn.RANK.EQ(AA5,AA$2:AA$49,0) -> 34 | AC5: =AVERAGEIF(Technical!$A:$A,$A5,Technical!R:R) -> 12.434783 | AD5: =_xlfn.RANK.EQ(AC5,AC$2:AC$49,0) -> 40
A6: BIH | B6: Bosnia & Herzegovina | C6: =AVERAGEIF(Technical!$A:$A,$A6,Technical!E:E) -> 8.2173913 | D6: =_xlfn.RANK.EQ(C6,C$2:C$49,0) -> 26 | E6: =AVERAGEIF(Technical!$A:$A,$A6,Technical!F:F) -> 11.26087 | F6: =_xlfn.RANK.EQ(E6,E$2:E$49,0) -> 8 | G6: =AVERAGEIF(Technical!$A:$A,$A6,Technical!G:G) -> 11.73913 | H6: =_xlfn.RANK.EQ(G6,G$2:G$49,0) -> 24 | I6: =AVERAGEIF(Technical!$A:$A,$A6,Technical!H:H) -> 9.6086957 | J6: =_xlfn.RANK.EQ(I6,I$2:I$49,0) -> 36 | K6: =AVERAGEIF(Technical!$A:$A,$A6,Technical!I:I) -> 12.615385 | L6: =_xlfn.RANK.EQ(K6,K$2:K$49,0) -> 23 | M6: =AVERAGEIF(Technical!$A:$A,$A6,Technical!J:J) -> 9.173913 | N6: =_xlfn.RANK.EQ(M6,M$2:M$49,0) -> 16 | O6: =AVERAGEIF(Technical!$A:$A,$A6,Technical!K:K) -> 11.173913 | P6: =_xlfn.RANK.EQ(O6,O$2:O$49,0) -> 15 | Q6: =AVERAGEIF(Technical!$A:$A,$A6,Technical!L:L) -> 10.565217 | R6: =_xlfn.RANK.EQ(Q6,Q$2:Q$49,0) -> 14 | S6: =AVERAGEIF(Technical!$A:$A,$A6,Technical!M:M) -> 6.6086957 | T6: =_xlfn.RANK.EQ(S6,S$2:S$49,0) -> 39 | U6: =AVERAGEIF(Technical!$A:$A,$A6,Technical!N:N) -> 9.6956522 | V6: =_xlfn.RANK.EQ(U6,U$2:U$49,0) -> 34 | W6: =AVERAGEIF(Technical!$A:$A,$A6,Technical!O:O) -> 12.730769 | X6: =_xlfn.RANK.EQ(W6,W$2:W$49,0) -> 20 | Y6: =AVERAGEIF(Technical!$A:$A,$A6,Technical!P:P) -> 10.217391 | Z6: =_xlfn.RANK.EQ(Y6,Y$2:Y$49,0) -> 15 | AA6: =AVERAGEIF(Technical!$A:$A,$A6,Technical!Q:Q) -> 10.652174 | AB6: =_xlfn.RANK.EQ(AA6,AA$2:AA$49,0) -> 27 | AC6: =AVERAGEIF(Technical!$A:$A,$A6,Technical!R:R) -> 13.217391 | AD6: =_xlfn.RANK.EQ(AC6,AC$2:AC$49,0) -> 25
A7: CAN | B7: Canada | C7: =AVERAGEIF(Technical!$A:$A,$A7,Technical!E:E) -> 8.173913 | D7: =_xlfn.RANK.EQ(C7,C$2:C$49,0) -> 27 | E7: =AVERAGEIF(Technical!$A:$A,$A7,Technical!F:F) -> 10.130435 | F7: =_xlfn.RANK.EQ(E7,E$2:E$49,0) -> 32 | G7: =AVERAGEIF(Technical!$A:$A,$A7,Technical!G:G) -> 11.304348 | H7: =_xlfn.RANK.EQ(G7,G$2:G$49,0) -> 36 | I7: =AVERAGEIF(Technical!$A:$A,$A7,Technical!H:H) -> 9.6956522 | J7: =_xlfn.RANK.EQ(I7,I$2:I$49,0) -> 34 | K7: =AVERAGEIF(Technical!$A:$A,$A7,Technical!I:I) -> 11.461538 | L7: =_xlfn.RANK.EQ(K7,K$2:K$49,0) -> 41 | M7: =AVERAGEIF(Technical!$A:$A,$A7,Technical!J:J) -> 8.3478261 | N7: =_xlfn.RANK.EQ(M7,M$2:M$49,0) -> 30 | O7: =AVERAGEIF(Technical!$A:$A,$A7,Technical!K:K) -> 10.826087 | P7: =_xlfn.RANK.EQ(O7,O$2:O$49,0) -> 21 | Q7: =AVERAGEIF(Technical!$A:$A,$A7,Technical!L:L) -> 10 | R7: =_xlfn.RANK.EQ(Q7,Q$2:Q$49,0) -> 30 | S7: =AVERAGEIF(Technical!$A:$A,$A7,Technical!M:M) -> 7.3478261 | T7: =_xlfn.RANK.EQ(S7,S$2:S$49,0) -> 23 | U7: =AVERAGEIF(Technical!$A:$A,$A7,Technical!N:N) -> 10.086957 | V7: =_xlfn.RANK.EQ(U7,U$2:U$49,0) -> 24 | W7: =AVERAGEIF(Technical!$A:$A,$A7,Technical!O:O) -> 12.307692 | X7: =_xlfn.RANK.EQ(W7,W$2:W$49,0) -> 32 | Y7: =AVERAGEIF(Technical!$A:$A,$A7,Technical!P:P) -> 9.3478261 | Z7: =_xlfn.RANK.EQ(Y7,Y$2:Y$49,0) -> 32 | AA7: =AVERAGEIF(Technical!$A:$A,$A7,Technical!Q:Q) -> 10.826087 | AB7: =_xlfn.RANK.EQ(AA7,AA$2:AA$49,0) -> 19 | AC7: =AVERAGEIF(Technical!$A:$A,$A7,Technical!R:R) -> 12.086957 | AD7: =_xlfn.RANK.EQ(AC7,AC$2:AC$49,0) -> 42
A8: ECU | B8: Ecuador | C8: =AVERAGEIF(Technical!$A:$A,$A8,Technical!E:E) -> 6.7826087 | D8: =_xlfn.RANK.EQ(C8,C$2:C$49,0) -> 44 | E8: =AVERAGEIF(Technical!$A:$A,$A8,Technical!F:F) -> 9.7391304 | F8: =_xlfn.RANK.EQ(E8,E$2:E$49,0) -> 40 | G8: =AVERAGEIF(Technical!$A:$A,$A8,Technical!G:G) -> 11.826087 | H8: =_xlfn.RANK.EQ(G8,G$2:G$49,0) -> 22 | I8: =AVERAGEIF(Technical!$A:$A,$A8,Technical!H:H) -> 9.4782609 | J8: =_xlfn.RANK.EQ(I8,I$2:I$49,0) -> 38 | K8: =AVERAGEIF(Technical!$A:$A,$A8,Technical!I:I) -> 12.461538 | L8: =_xlfn.RANK.EQ(K8,K$2:K$49,0) -> 26 | M8: =AVERAGEIF(Technical!$A:$A,$A8,Technical!J:J) -> 7.9565217 | N8: =_xlfn.RANK.EQ(M8,M$2:M$49,0) -> 37 | O8: =AVERAGEIF(Technical!$A:$A,$A8,Technical!K:K) -> 10.826087 | P8: =_xlfn.RANK.EQ(O8,O$2:O$49,0) -> 21 | Q8: =AVERAGEIF(Technical!$A:$A,$A8,Technical!L:L) -> 10.043478 | R8: =_xlfn.RANK.EQ(Q8,Q$2:Q$49,0) -> 27 | S8: =AVERAGEIF(Technical!$A:$A,$A8,Technical!M:M) -> 8.2173913 | T8: =_xlfn.RANK.EQ(S8,S$2:S$49,0) -> 9 | U8: =AVERAGEIF(Technical!$A:$A,$A8,Technical!N:N) -> 10.565217 | V8: =_xlfn.RANK.EQ(U8,U$2:U$49,0) -> 10 | W8: =AVERAGEIF(Technical!$A:$A,$A8,Technical!O:O) -> 12.307692 | X8: =_xlfn.RANK.EQ(W8,W$2:W$49,0) -> 32 | Y8: =AVERAGEIF(Technical!$A:$A,$A8,Technical!P:P) -> 9.0434783 | Z8: =_xlfn.RANK.EQ(Y8,Y$2:Y$49,0) -> 36 | AA8: =AVERAGEIF(Technical!$A:$A,$A8,Technical!Q:Q) -> 11.521739 | AB8: =_xlfn.RANK.EQ(AA8,AA$2:AA$49,0) -> 7 | AC8: =AVERAGEIF(Technical!$A:$A,$A8,Technical!R:R) -> 13.26087 | AD8: =_xlfn.RANK.EQ(AC8,AC$2:AC$49,0) -> 24
A9: EGY | B9: Egypt | C9: =AVERAGEIF(Technical!$A:$A,$A9,Technical!E:E) -> 8.4347826 | D9: =_xlfn.RANK.EQ(C9,C$2:C$49,0) -> 20 | E9: =AVERAGEIF(Technical!$A:$A,$A9,Technical!F:F) -> 9.8695652 | F9: =_xlfn.RANK.EQ(E9,E$2:E$49,0) -> 36 | G9: =AVERAGEIF(Technical!$A:$A,$A9,Technical!G:G) -> 11.565217 | H9: =_xlfn.RANK.EQ(G9,G$2:G$49,0) -> 30 | I9: =AVERAGEIF(Technical!$A:$A,$A9,Technical!H:H) -> 9.4782609 | J9: =_xlfn.RANK.EQ(I9,I$2:I$49,0) -> 38 | K9: =AVERAGEIF(Technical!$A:$A,$A9,Technical!I:I) -> 12 | L9: =_xlfn.RANK.EQ(K9,K$2:K$49,0) -> 34 | M9: =AVERAGEIF(Technical!$A:$A,$A9,Technical!J:J) -> 8.4782609 | N9: =_xlfn.RANK.EQ(M9,M$2:M$49,0) -> 26 | O9: =AVERAGEIF(Technical!$A:$A,$A9,Technical!K:K) -> 10.782609 | P9: =_xlfn.RANK.EQ(O9,O$2:O$49,0) -> 26 | Q9: =AVERAGEIF(Technical!$A:$A,$A9,Technical!L:L) -> 11.130435 | R9: =_xlfn.RANK.EQ(Q9,Q$2:Q$49,0) -> 6 | S9: =AVERAGEIF(Technical!$A:$A,$A9,Technical!M:M) -> 6.2608696 | T9: =_xlfn.RANK.EQ(S9,S$2:S$49,0) -> 42 | U9: =AVERAGEIF(Technical!$A:$A,$A9,Technical!N:N) -> 10.434783 | V9: =_xlfn.RANK.EQ(U9,U$2:U$49,0) -> 13 | W9: =AVERAGEIF(Technical!$A:$A,$A9,Technical!O:O) -> 12.423077 | X9: =_xlfn.RANK.EQ(W9,W$2:W$49,0) -> 28 | Y9: =AVERAGEIF(Technical!$A:$A,$A9,Technical!P:P) -> 10.043478 | Z9: =_xlfn.RANK.EQ(Y9,Y$2:Y$49,0) -> 18 | AA9: =AVERAGEIF(Technical!$A:$A,$A9,Technical!Q:Q) -> 11.695652 | AB9: =_xlfn.RANK.EQ(AA9,AA$2:AA$49,0) -> 5 | AC9: =AVERAGEIF(Technical!$A:$A,$A9,Technical!R:R) -> 13 | AD9: =_xlfn.RANK.EQ(AC9,AC$2:AC$49,0) -> 31
A10: ALB | B10: Albania | C10: =AVERAGEIF(Technical!$A:$A,$A10,Technical!E:E) -> 8.3913043 | D10: =_xlfn.RANK.EQ(C10,C$2:C$49,0) -> 22 | E10: =AVERAGEIF(Technical!$A:$A,$A10,Technical!F:F) -> 9.8695652 | F10: =_xlfn.RANK.EQ(E10,E$2:E$49,0) -> 36 | G10: =AVERAGEIF(Technical!$A:$A,$A10,Technical!G:G) -> 11.565217 | H10: =_xlfn.RANK.EQ(G10,G$2:G$49,0) -> 30 | I10: =AVERAGEIF(Technical!$A:$A,$A10,Technical!H:H) -> 10.086957 | J10: =_xlfn.RANK.EQ(I10,I$2:I$49,0) -> 25 | K10: =AVERAGEIF(Technical!$A:$A,$A10,Technical!I:I) -> 11.846154 | L10: =_xlfn.RANK.EQ(K10,K$2:K$49,0) -> 36 | M10: =AVERAGEIF(Technical!$A:$A,$A10,Technical!J:J) -> 8.5652174 | N10: =_xlfn.RANK.EQ(M10,M$2:M$49,0) -> 23 | O10: =AVERAGEIF(Technical!$A:$A,$A10,Technical!K:K) -> 10.608696 | P10: =_xlfn.RANK.EQ(O10,O$2:O$49,0) -> 30 | Q10: =AVERAGEIF(Technical!$A:$A,$A10,Technical!L:L) -> 10.304348 | R10: =_xlfn.RANK.EQ(Q10,Q$2:Q$49,0) -> 23 | S10: =AVERAGEIF(Technical!$A:$A,$A10,Technical!M:M) -> 6.6521739 | T10: =_xlfn.RANK.EQ(S10,S$2:S$49,0) -> 37 | U10: =AVERAGEIF(Technical!$A:$A,$A10,Technical!N:N) -> 9.4782609 | V10: =_xlfn.RANK.EQ(U10,U$2:U$49,0) -> 40 | W10: =AVERAGEIF(Technical!$A:$A,$A10,Technical!O:O) -> 11.807692 | X10: =_xlfn.RANK.EQ(W10,W$2:W$49,0) -> 42 | Y10: =AVERAGEIF(Technical!$A:$A,$A10,Technical!P:P) -> 9.2608696 | Z10: =_xlfn.RANK.EQ(Y10,Y$2:Y$49,0) -> 34 | AA10: =AVERAGEIF(Technical!$A:$A,$A10,Technical!Q:Q) -> 9.826087 | AB10: =_xlfn.RANK.EQ(AA10,AA$2:AA$49,0) -> 41 | AC10: =AVERAGEIF(Technical!$A:$A,$A10,Technical!R:R) -> 12.73913 | AD10: =_xlfn.RANK.EQ(AC10,AC$2:AC$49,0) -> 34
A11: IRN | B11: Iran | C11: =AVERAGEIF(Technical!$A:$A,$A11,Technical!E:E) -> 6.6086957 | D11: =_xlfn.RANK.EQ(C11,C$2:C$49,0) -> 47 | E11: =AVERAGEIF(Technical!$A:$A,$A11,Technical!F:F) -> 9.2608696 | F11: =_xlfn.RANK.EQ(E11,E$2:E$49,0) -> 44 | G11: =AVERAGEIF(Technical!$A:$A,$A11,Technical!G:G) -> 10.173913 | H11: =_xlfn.RANK.EQ(G11,G$2:G$49,0) -> 46 | I11: =AVERAGEIF(Technical!$A:$A,$A11,Technical!H:H) -> 9.0434783 | J11: =_xlfn.RANK.EQ(I11,I$2:I$49,0) -> 43 | K11: =AVERAGEIF(Technical!$A:$A,$A11,Technical!I:I) -> 12.346154 | L11: =_xlfn.RANK.EQ(K11,K$2:K$49,0) -> 30 | M11: =AVERAGEIF(Technical!$A:$A,$A11,Technical!J:J) -> 7.0434783 | N11: =_xlfn.RANK.EQ(M11,M$2:M$49,0) -> 47 | O11: =AVERAGEIF(Technical!$A:$A,$A11,Technical!K:K) -> 10.869565 | P11: =_xlfn.RANK.EQ(O11,O$2:O$49,0) -> 20 | Q11: =AVERAGEIF(Technical!$A:$A,$A11,Technical!L:L) -> 8.7826087 | R11: =_xlfn.RANK.EQ(Q11,Q$2:Q$49,0) -> 46 | S11: =AVERAGEIF(Technical!$A:$A,$A11,Technical!M:M) -> 6.6521739 | T11: =_xlfn.RANK.EQ(S11,S$2:S$49,0) -> 37 | U11: =AVERAGEIF(Technical!$A:$A,$A11,Technical!N:N) -> 9.3043478 | V11: =_xlfn.RANK.EQ(U11,U$2:U$49,0) -> 43 | W11: =AVERAGEIF(Technical!$A:$A,$A11,Technical!O:O) -> 12.346154 | X11: =_xlfn.RANK.EQ(W11,W$2:W$49,0) -> 31 | Y11: =AVERAGEIF(Technical!$A:$A,$A11,Technical!P:P) -> 7.826087 | Z11: =_xlfn.RANK.EQ(Y11,Y$2:Y$49,0) -> 45 | AA11: =AVERAGEIF(Technical!$A:$A,$A11,Technical!Q:Q) -> 10.130435 | AB11: =_xlfn.RANK.EQ(AA11,AA$2:AA$49,0) -> 36 | AC11: =AVERAGEIF(Technical!$A:$A,$A11,Technical!R:R) -> 12.173913 | AD11: =_xlfn.RANK.EQ(AC11,AC$2:AC$49,0) -> 41
A12: CIV | B12: Ivory Coast | C12: =AVERAGEIF(Technical!$A:$A,$A12,Technical!E:E) -> 7.2173913 | D12: =_xlfn.RANK.EQ(C12,C$2:C$49,0) -> 41 | E12: =AVERAGEIF(Technical!$A:$A,$A12,Technical!F:F) -> 10.347826 | F12: =_xlfn.RANK.EQ(E12,E$2:E$49,0) -> 26 | G12: =AVERAGEIF(Technical!$A:$A,$A12,Technical!G:G) -> 13.347826 | H12: =_xlfn.RANK.EQ(G12,G$2:G$49,0) -> 4 | I12: =AVERAGEIF(Technical!$A:$A,$A12,Technical!H:H) -> 10.869565 | J12: =_xlfn.RANK.EQ(I12,I$2:I$49,0) -> 8 | K12: =AVERAGEIF(Technical!$A:$A,$A12,Technical!I:I) -> 12.884615 | L12: =_xlfn.RANK.EQ(K12,K$2:K$49,0) -> 14 | M12: =AVERAGEIF(Technical!$A:$A,$A12,Technical!J:J) -> 8.173913 | N12: =_xlfn.RANK.EQ(M12,M$2:M$49,0) -> 33 | O12: =AVERAGEIF(Technical!$A:$A,$A12,Technical!K:K) -> 11.695652 | P12: =_xlfn.RANK.EQ(O12,O$2:O$49,0) -> 8 | Q12: =AVERAGEIF(Technical!$A:$A,$A12,Technical!L:L) -> 10.391304 | R12: =_xlfn.RANK.EQ(Q12,Q$2:Q$49,0) -> 19 | S12: =AVERAGEIF(Technical!$A:$A,$A12,Technical!M:M) -> 7.826087 | T12: =_xlfn.RANK.EQ(S12,S$2:S$49,0) -> 15 | U12: =AVERAGEIF(Technical!$A:$A,$A12,Technical!N:N) -> 10.73913 | V12: =_xlfn.RANK.EQ(U12,U$2:U$49,0) -> 5 | W12: =AVERAGEIF(Technical!$A:$A,$A12,Technical!O:O) -> 12.615385 | X12: =_xlfn.RANK.EQ(W12,W$2:W$49,0) -> 22 | Y12: =AVERAGEIF(Technical!$A:$A,$A12,Technical!P:P) -> 9.6956522 | Z12: =_xlfn.RANK.EQ(Y12,Y$2:Y$49,0) -> 25 | AA12: =AVERAGEIF(Technical!$A:$A,$A12,Technical!Q:Q) -> 11.043478 | AB12: =_xlfn.RANK.EQ(AA12,AA$2:AA$49,0) -> 14 | AC12: =AVERAGEIF(Technical!$A:$A,$A12,Technical!R:R) -> 13.869565 | AD12: =_xlfn.RANK.EQ(AC12,AC$2:AC$49,0) -> 11
A13: MEX | B13: Mexico | C13: =AVERAGEIF(Technical!$A:$A,$A13,Technical!E:E) -> 8.3913043 | D13: =_xlfn.RANK.EQ(C13,C$2:C$49,0) -> 22 | E13: =AVERAGEIF(Technical!$A:$A,$A13,Technical!F:F) -> 11.217391 | F13: =_xlfn.RANK.EQ(E13,E$2:E$49,0) -> 10 | G13: =AVERAGEIF(Technical!$A:$A,$A13,Technical!G:G) -> 11.652174 | H13: =_xlfn.RANK.EQ(G13,G$2:G$49,0) -> 27 | I13: =AVERAGEIF(Technical!$A:$A,$A13,Technical!H:H) -> 11.391304 | J13: =_xlfn.RANK.EQ(I13,I$2:I$49,0) -> 4 | K13: =AVERAGEIF(Technical!$A:$A,$A13,Technical!I:I) -> 12.961538 | L13: =_xlfn.RANK.EQ(K13,K$2:K$49,0) -> 12 | M13: =AVERAGEIF(Technical!$A:$A,$A13,Technical!J:J) -> 9.1304348 | N13: =_xlfn.RANK.EQ(M13,M$2:M$49,0) -> 17 | O13: =AVERAGEIF(Technical!$A:$A,$A13,Technical!K:K) -> 11.130435 | P13: =_xlfn.RANK.EQ(O13,O$2:O$49,0) -> 17 | Q13: =AVERAGEIF(Technical!$A:$A,$A13,Technical!L:L) -> 11.130435 | R13: =_xlfn.RANK.EQ(Q13,Q$2:Q$49,0) -> 6 | S13: =AVERAGEIF(Technical!$A:$A,$A13,Technical!M:M) -> 9.826087 | T13: =_xlfn.RANK.EQ(S13,S$2:S$49,0) -> 1 | U13: =AVERAGEIF(Technical!$A:$A,$A13,Technical!N:N) -> 9.7826087 | V13: =_xlfn.RANK.EQ(U13,U$2:U$49,0) -> 32 | W13: =AVERAGEIF(Technical!$A:$A,$A13,Technical!O:O) -> 13.038462 | X13: =_xlfn.RANK.EQ(W13,W$2:W$49,0) -> 12 | Y13: =AVERAGEIF(Technical!$A:$A,$A13,Technical!P:P) -> 10.086957 | Z13: =_xlfn.RANK.EQ(Y13,Y$2:Y$49,0) -> 17 | AA13: =AVERAGEIF(Technical!$A:$A,$A13,Technical!Q:Q) -> 10.086957 | AB13: =_xlfn.RANK.EQ(AA13,AA$2:AA$49,0) -> 37 | AC13: =AVERAGEIF(Technical!$A:$A,$A13,Technical!R:R) -> 13.956522 | AD13: =_xlfn.RANK.EQ(AC13,AC$2:AC$49,0) -> 8
... A49: THA | B49: Thailand | C49: =AVERAGEIF(Technical!$A:$A,$A49,Technical!E:E) -> 6.6521739 | D49: =_xlfn.RANK.EQ(C49,C$2:C$49,0) -> 46 | E49: =AVERAGEIF(Technical!$A:$A,$A49,Technical!F:F) -> 8.8695652 | F49: =_xlfn.RANK.EQ(E49,E$2:E$49,0) -> 46 | G49: =AVERAGEIF(Technical!$A:$A,$A49,Technical!G:G) -> 10.73913 | H49: =_xlfn.RANK.EQ(G49,G$2:G$49,0) -> 43 | I49: =AVERAGEIF(Technical!$A:$A,$A49,Technical!H:H) -> 9.3478261 | J49: =_xlfn.RANK.EQ(I49,I$2:I$49,0) -> 40 | K49: =AVERAGEIF(Technical!$A:$A,$A49,Technical!I:I) -> 11.461538 | L49: =_xlfn.RANK.EQ(K49,K$2:K$49,0) -> 41 | M49: =AVERAGEIF(Technical!$A:$A,$A49,Technical!J:J) -> 7.3043478 | N49: =_xlfn.RANK.EQ(M49,M$2:M$49,0) -> 45 | O49: =AVERAGEIF(Technical!$A:$A,$A49,Technical!K:K) -> 9.3913043 | P49: =_xlfn.RANK.EQ(O49,O$2:O$49,0) -> 47 | Q49: =AVERAGEIF(Technical!$A:$A,$A49,Technical!L:L) -> 7.7391304 | R49: =_xlfn.RANK.EQ(Q49,Q$2:Q$49,0) -> 48 | S49: =AVERAGEIF(Technical!$A:$A,$A49,Technical!M:M) -> 5.6086957 | T49: =_xlfn.RANK.EQ(S49,S$2:S$49,0) -> 47 | U49: =AVERAGEIF(Technical!$A:$A,$A49,Technical!N:N) -> 8.0434783 | V49: =_xlfn.RANK.EQ(U49,U$2:U$49,0) -> 48 | W49: =AVERAGEIF(Technical!$A:$A,$A49,Technical!O:O) -> 10.653846 | X49: =_xlfn.RANK.EQ(W49,W$2:W$49,0) -> 47 | Y49: =AVERAGEIF(Technical!$A:$A,$A49,Technical!P:P) -> 8.3913043 | Z49: =_xlfn.RANK.EQ(Y49,Y$2:Y$49,0) -> 42 | AA49: =AVERAGEIF(Technical!$A:$A,$A49,Technical!Q:Q) -> 9.3478261 | AB49: =_xlfn.RANK.EQ(AA49,AA$2:AA$49,0) -> 45 | AC49: =AVERAGEIF(Technical!$A:$A,$A49,Technical!R:R) -> 11.304348 | AD49: =_xlfn.RANK.EQ(AC49,AC$2:AC$49,0) -> 47

Sheet Attacking
A1: NATION | B1: Name | C1: Position | D1: Average | E1: Cro | F1: Dri | G1: Fre | H1: Fin | I1: Fir | J1: Fla | K1: Lon | L1: OtB | M1: Pas | N1: Vis
A2: ALG | B2: Youcef Atal | C2: D/WB/M (R) | D2: =AVERAGE(E2:N2) -> 12.3 | E2: 12 | F2: 14 | G2: 8 | H2: 11 | I2: 13 | J2: 16 | K2: 12 | L2: 13 | M2: 12 | N2: 12
A3: ALG | B3: Rayan Aït-Nouri | C3: D/WB (L) | D3: =AVERAGE(E3:N3) -> 12.5 | E3: 14 | F3: 15 | G3: 7 | H3: 10 | I3: 14 | J3: 16 | K3: 9 | L3: 14 | M3: 13 | N3: 13
A4: ALG | B4: Ahmed Touba | C4: D (LC), DM | D4: =AVERAGE(E4:N4) -> 9.5 | E4: 10 | F4: 11 | G4: 8 | H4: 7 | I4: 12 | J4: 12 | K4: 7 | L4: 11 | M4: 10 | N4: 7
A5: ALG | B5: Ramy Bensebaïni | C5: D (LC), WB (L) | D5: =AVERAGE(E5:N5) -> 11.8 | E5: 13 | F5: 11 | G5: 11 | H5: 10 | I5: 13 | J5: 13 | K5: 8 | L5: 14 | M5: 13 | N5: 12
A6: ALG | B6: Ismaël Bennacer | C6: DM, M (C) | D6: =AVERAGE(E6:N6) -> 13.5 | E6: 12 | F6: 15 | G6: 13 | H6: 9 | I6: 16 | J6: 13 | K6: 14 | L6: 12 | M6: 16 | N6: 15
A7: ALG | B7: Farès Chaïbi | C7: M (C), AM (RLC) | D7: =AVERAGE(E7:N7) -> 14.5 | E7: 13 | F7: 15 | G7: 16 | H7: 12 | I7: 15 | J7: 16 | K7: 12 | L7: 14 | M7: 16 | N7: 16
A8: ALG | B8: Amine Gouiri | C8: M/AM (L), ST (C) | D8: =AVERAGE(E8:N8) -> 15 | E8: 12 | F8: 15 | G8: 14 | H8: 15 | I8: 16 | J8: 16 | K8: 16 | L8: 17 | M8: 14 | N8: 15
A9: ALG | B9: Enzo Crivelli | C9: AM (L), ST (C) | D9: =AVERAGE(E9:N9) -> 10.5 | E9: 10 | F9: 10 | G9: 7 | H9: 12 | I9: 12 | J9: 10 | K9: 9 | L9: 13 | M9: 12 | N9: 10
A10: ALG | B10: Mohamed Belloumi | C10: AM (R) | D10: =AVERAGE(E10:N10) -> 13.2 | E10: 13 | F10: 15 | G10: 9 | H10: 13 | I10: 14 | J10: 16 | K10: 13 | L10: 13 | M10: 12 | N10: 14
A11: ALG | B11: Enzo Sternal | C11: AM (LC), ST (C) | D11: =AVERAGE(E11:N11) -> 12.9 | E11: 12 | F11: 15 | G11: 10 | H11: 14 | I11: 14 | J11: 16 | K11: 12 | L11: 12 | M11: 11 | N11: 13
A12: ALG | B12: Yacine Adli | C12: DM, M/AM (C) | D12: =AVERAGE(E12:N12) -> 12.6 | E12: 11 | F12: 13 | G12: 12 | H12: 11 | I12: 15 | J12: 13 | K12: 13 | L12: 10 | M12: 14 | N12: 14
A13: ALG | B13: Hicham Boudaoui | C13: DM, M (RC) | D13: =AVERAGE(E13:N13) -> 12.7 | E13: 12 | F13: 14 | G13: 9 | H13: 8 | I13: 14 | J13: 16 | K13: 11 | L13: 13 | M13: 15 | N13: 15
... A1104: THA | B1104: Manuel Bihr | C1104: D (C), DM | D1104: =AVERAGE(E1104:N1104) -> 7.9 | E1104: 6 | F1104: 8 | G1104: 4 | H1104: 5 | I1104: 10 | J1104: 10 | K1104: 5 | L1104: 9 | M1104: 11 | N1104: 11

Sheet Defending
A1: NATION | B1: Name | C1: Position | D1: Average | E1: Acc | F1: Ant | G1: Hea | H1: Jum | I1: Mar | J1: Pac | K1: Pos | L1: Sta | M1: Str | N1: Tck
A2: ALG | B2: Youcef Atal | C2: D/WB/M (R) | D2: =AVERAGE(E2:N2) -> 10.9 | E2: 15 | F2: 11 | G2: 5 | H2: 5 | I2: 10 | J2: 15 | K2: 12 | L2: 14 | M2: 10 | N2: 12
A3: ALG | B3: Rayan Aït-Nouri | C3: D/WB (L) | D3: =AVERAGE(E3:N3) -> 13 | E3: 14 | F3: 13 | G3: 11 | H3: 11 | I3: 13 | J3: 15 | K3: 14 | L3: 13 | M3: 12 | N3: 14
A4: ALG | B4: Ahmed Touba | C4: D (LC), DM | D4: =AVERAGE(E4:N4) -> 12.8 | E4: 12 | F4: 11 | G4: 14 | H4: 14 | I4: 13 | J4: 13 | K4: 12 | L4: 13 | M4: 14 | N4: 12
A5: ALG | B5: Ramy Bensebaïni | C5: D (LC), WB (L) | D5: =AVERAGE(E5:N5) -> 14.2 | E5: 12 | F5: 14 | G5: 16 | H5: 16 | I5: 13 | J5: 14 | K5: 13 | L5: 15 | M5: 14 | N5: 15
A6: ALG | B6: Ismaël Bennacer | C6: DM, M (C) | D6: =AVERAGE(E6:N6) -> 12.3 | E6: 14 | F6: 14 | G6: 7 | H6: 7 | I6: 13 | J6: 13 | K6: 15 | L6: 13 | M6: 11 | N6: 16
A7: ALG | B7: Farès Chaïbi | C7: M (C), AM (RLC) | D7: =AVERAGE(E7:N7) -> 12.5 | E7: 15 | F7: 15 | G7: 10 | H7: 11 | I7: 10 | J7: 14 | K7: 11 | L7: 15 | M7: 13 | N7: 11
A8: ALG | B8: Amine Gouiri | C8: M/AM (L), ST (C) | D8: =AVERAGE(E8:N8) -> 11.2 | E8: 15 | F8: 14 | G8: 12 | H8: 12 | I8: 5 | J8: 14 | K8: 10 | L8: 13 | M8: 13 | N8: 4
A9: ALG | B9: Enzo Crivelli | C9: AM (L), ST (C) | D9: =AVERAGE(E9:N9) -> 12.4 | E9: 12 | F9: 14 | G9: 14 | H9: 14 | I9: 7 | J9: 14 | K9: 10 | L9: 15 | M9: 16 | N9: 8
A10: ALG | B10: Mohamed Belloumi | C10: AM (R) | D10: =AVERAGE(E10:N10) -> 10.2 | E10: 14 | F10: 13 | G10: 9 | H10: 7 | I10: 7 | J10: 15 | K10: 7 | L10: 12 | M10: 9 | N10: 9
A11: ALG | B11: Enzo Sternal | C11: AM (LC), ST (C) | D11: =AVERAGE(E11:N11) -> 10.4 | E11: 13 | F11: 13 | G11: 9 | H11: 11 | I11: 6 | J11: 14 | K11: 10 | L11: 11 | M11: 12 | N11: 5
A12: ALG | B12: Yacine Adli | C12: DM, M/AM (C) | D12: =AVERAGE(E12:N12) -> 12.2 | E12: 13 | F12: 12 | G12: 9 | H12: 12 | I12: 12 | J12: 12 | K12: 13 | L12: 14 | M12: 12 | N12: 13
A13: ALG | B13: Hicham Boudaoui | C13: DM, M (RC) | D13: =AVERAGE(E13:N13) -> 12.5 | E13: 13 | F13: 15 | G13: 8 | H13: 8 | I13: 13 | J13: 13 | K13: 13 | L13: 16 | M13: 12 | N13: 14
... A1104: THA | B1104: Manuel Bihr | C1104: D (C), DM | D1104: =AVERAGE(E1104:N1104) -> 12.1 | E1104: 10 | F1104: 12 | G1104: 12 | H1104: 12 | I1104: 12 | J1104: 11 | K1104: 13 | L1104: 13 | M1104: 13 | N1104: 13

Sheet Goalkeeping
A1: NATION | B1: Name | C1: Position | D1: Average | E1: Aer | F1: Cmd | G1: Com | H1: Ecc | I1: Han | J1: Kic | K1: 1v1 | L1: Ref | M1: TRO | N1: Pun | O1: Thr
A2: ALG | B2: Luca Zidane | C2: GK | D2: =AVERAGE(E2:O2) -> 12.363636 | E2: 11 | F2: 13 | G2: 12 | H2: 13 | I2: 13 | J2: 15 | K2: 13 | L2: 14 | M2: 12 | N2: 9 | O2: 11
A3: ALG | B3: Anthony Mandréa | C3: GK | D3: =AVERAGE(E3:O3) -> 11.272727 | E3: 13 | F3: 11 | G3: 12 | H3: 8 | I3: 12 | J3: 12 | K3: 13 | L3: 15 | M3: 9 | N3: 9 | O3: 10
A4: ALG | B4: Alexis Guendouz | C4: GK | D4: =AVERAGE(E4:O4) -> 10.818182 | E4: 12 | F4: 13 | G4: 13 | H4: 5 | I4: 15 | J4: 14 | K4: 11 | L4: 12 | M4: 5 | N4: 9 | O4: 10
A5: AUT | B5: Nicolas Kristof | C5: GK | D5: =AVERAGE(E5:O5) -> 11.909091 | E5: 12 | F5: 13 | G5: 12 | H5: 7 | I5: 13 | J5: 12 | K5: 14 | L5: 16 | M5: 12 | N5: 8 | O5: 12
A6: AUT | B6: Alexander Schlager | C6: GK | D6: =AVERAGE(E6:O6) -> 13.272727 | E6: 15 | F6: 16 | G6: 14 | H6: 8 | I6: 15 | J6: 12 | K6: 15 | L6: 15 | M6: 12 | N6: 10 | O6: 14
A7: AUT | B7: Niklas Hedl | C7: GK | D7: =AVERAGE(E7:O7) -> 13.090909 | E7: 15 | F7: 15 | G7: 13 | H7: 7 | I7: 14 | J7: 15 | K7: 13 | L7: 16 | M7: 12 | N7: 9 | O7: 15
A8: USA | B8: Maarten Paes | C8: GK | D8: =AVERAGE(E8:O8) -> 11.909091 | E8: 16 | F8: 12 | G8: 14 | H8: 4 | I8: 11 | J8: 11 | K8: 14 | L8: 15 | M8: 12 | N8: 10 | O8: 12
A9: USA | B9: Zack Steffen | C9: GK | D9: =AVERAGE(E9:O9) -> 12.727273 | E9: 14 | F9: 13 | G9: 12 | H9: 7 | I9: 10 | J9: 13 | K9: 16 | L9: 16 | M9: 12 | N9: 13 | O9: 14
A10: USA | B10: Kristijan Kahlina | C10: GK | D10: =AVERAGE(E10:O10) -> 12.363636 | E10: 13 | F10: 16 | G10: 13 | H10: 7 | I10: 15 | J10: 10 | K10: 16 | L10: 15 | M10: 12 | N10: 7 | O10: 12
A11: UZB | B11: Xurshidbek Muhammadov | C11: GK | D11: =AVERAGE(E11:O11) -> 11.181818 | E11: 14 | F11: 10 | G11: 11 | H11: 12 | I11: 14 | J11: 11 | K11: 8 | L11: 14 | M11: 9 | N11: 10 | O11: 10
A12: UZB | B12: Abduvohid Ne'matov | C12: GK | D12: =AVERAGE(E12:O12) -> 10.727273 | E12: 13 | F12: 8 | G12: 11 | H12: 5 | I12: 15 | J12: 13 | K12: 12 | L12: 15 | M12: 9 | N12: 7 | O12: 10
A13: UZB | B13: Dilshod Yo'ldoshev | C13: GK | D13: =AVERAGE(E13:O13) -> 10.090909 | E13: 10 | F13: 12 | G13: 13 | H13: 5 | I13: 13 | J13: 10 | K13: 11 | L13: 12 | M13: 9 | N13: 7 | O13: 9
... A145: THA | B145: Noppol Lakornpol | C145: GK | D145: =AVERAGE(E145:O145) -> 10.272727 | E145: 11 | F145: 11 | G145: 10 | H145: 5 | I145: 12 | J145: 13 | K145: 11 | L145: 13 | M145: 9 | N145: 8 | O145: 10

Sheet Mental
A1: NATION | B1: Name | C1: Position | D1: Average | E1: Agg | F1: Ant | G1: Bra | H1: Cmp | I1: Cnt | J1: Dec | K1: Det | L1: Fla | M1: Ldr | N1: OtB | O1: Pos | P1: Tea | Q1: Vis | R1: Wor
A2: ALG | B2: Luca Zidane | C2: GK | D2: =AVERAGE(E2:R2) -> 11 | E2: 8 | F2: 12 | G2: 11 | H2: 9 | I2: 10 | J2: 10 | K2: 16 | L2: 14 | M2: 11 | N2: 9 | O2: 12 | P2: 11 | Q2: 11 | R2: 10
A3: ALG | B3: Youcef Atal | C3: D/WB/M (R) | D3: =AVERAGE(E3:R3) -> 12.428571 | E3: 16 | F3: 11 | G3: 14 | H3: 11 | I3: 10 | J3: 10 | K3: 15 | L3: 16 | M3: 8 | N3: 13 | O3: 12 | P3: 12 | Q3: 12 | R3: 14
A4: ALG | B4: Rayan Aït-Nouri | C4: D/WB (L) | D4: =AVERAGE(E4:R4) -> 12.928571 | E4: 11 | F4: 13 | G4: 13 | H4: 14 | I4: 13 | J4: 12 | K4: 15 | L4: 16 | M4: 8 | N4: 14 | O4: 14 | P4: 12 | Q4: 13 | R4: 13
A5: ALG | B5: Ahmed Touba | C5: D (LC), DM | D5: =AVERAGE(E5:R5) -> 11.857143 | E5: 16 | F5: 11 | G5: 15 | H5: 13 | I5: 13 | J5: 12 | K5: 12 | L5: 12 | M5: 7 | N5: 11 | O5: 12 | P5: 13 | Q5: 7 | R5: 12
A6: ALG | B6: Ramy Bensebaïni | C6: D (LC), WB (L) | D6: =AVERAGE(E6:R6) -> 13.714286 | E6: 16 | F6: 14 | G6: 16 | H6: 14 | I6: 12 | J6: 13 | K6: 16 | L6: 13 | M6: 13 | N6: 14 | O6: 13 | P6: 13 | Q6: 12 | R6: 13
A7: ALG | B7: Ismaël Bennacer | C7: DM, M (C) | D7: =AVERAGE(E7:R7) -> 14.142857 | E7: 12 | F7: 14 | G7: 15 | H7: 15 | I7: 14 | J7: 14 | K7: 16 | L7: 13 | M7: 12 | N7: 12 | O7: 15 | P7: 16 | Q7: 15 | R7: 15
A8: ALG | B8: Farès Chaïbi | C8: M (C), AM (RLC) | D8: =AVERAGE(E8:R8) -> 13.428571 | E8: 11 | F8: 15 | G8: 12 | H8: 15 | I8: 12 | J8: 15 | K8: 16 | L8: 16 | M8: 9 | N8: 14 | O8: 11 | P8: 13 | Q8: 16 | R8: 13
A9: ALG | B9: Amine Gouiri | C9: M/AM (L), ST (C) | D9: =AVERAGE(E9:R9) -> 14.142857 | E9: 13 | F9: 14 | G9: 14 | H9: 15 | I9: 14 | J9: 14 | K9: 16 | L9: 16 | M9: 11 | N9: 17 | O9: 10 | P9: 15 | Q9: 15 | R9: 14
A10: ALG | B10: Enzo Crivelli | C10: AM (L), ST (C) | D10: =AVERAGE(E10:R10) -> 13.214286 | E10: 16 | F10: 14 | G10: 18 | H10: 12 | I10: 13 | J10: 11 | K10: 16 | L10: 10 | M10: 10 | N10: 13 | O10: 10 | P10: 15 | Q10: 10 | R10: 17
A11: ALG | B11: Mohamed Belloumi | C11: AM (R) | D11: =AVERAGE(E11:R11) -> 12.142857 | E11: 13 | F11: 13 | G11: 12 | H11: 14 | I11: 10 | J11: 12 | K11: 14 | L11: 16 | M11: 7 | N11: 13 | O11: 7 | P11: 12 | Q11: 14 | R11: 13
A12: ALG | B12: Enzo Sternal | C12: AM (LC), ST (C) | D12: =AVERAGE(E12:R12) -> 12 | E12: 12 | F12: 13 | G12: 10 | H12: 13 | I12: 11 | J12: 13 | K12: 15 | L12: 16 | M12: 6 | N12: 12 | O12: 10 | P12: 12 | Q12: 13 | R12: 12
A13: ALG | B13: Yacine Adli | C13: DM, M/AM (C) | D13: =AVERAGE(E13:R13) -> 13.428571 | E13: 12 | F13: 12 | G13: 15 | H13: 15 | I13: 15 | J13: 13 | K13: 15 | L13: 13 | M13: 12 | N13: 10 | O13: 13 | P13: 16 | Q13: 14 | R13: 13
... A1248: THA | B1248: Manuel Bihr | C1248: D (C), DM | D1248: =AVERAGE(E1248:R1248) -> 11.071429 | E1248: 12 | F1248: 12 | G1248: 12 | H1248: 10 | I1248: 12 | J1248: 12 | K1248: 10 | L1248: 10 | M1248: 8 | N1248: 9 | O1248: 13 | P1248: 11 | Q1248: 11 | R1248: 13

Sheet Physical
A1: NATION | B1: Name | C1: Position | D1: Average | E1: Acc | F1: Agi | G1: Bal | H1: Jum | I1: Nat | J1: Pac | K1: Sta | L1: Str
A2: ALG | B2: Luca Zidane | C2: GK | D2: =AVERAGE(E2:L2) -> 12.625 | E2: 15 | F2: 14 | G2: 11 | H2: 13 | I2: 12 | J2: 13 | K2: 11 | L2: 12
A3: ALG | B3: Youcef Atal | C3: D/WB/M (R) | D3: =AVERAGE(E3:L3) -> 12.125 | E3: 15 | F3: 16 | G3: 12 | H3: 5 | I3: 10 | J3: 15 | K3: 14 | L3: 10
A4: ALG | B4: Rayan Aït-Nouri | C4: D/WB (L) | D4: =AVERAGE(E4:L4) -> 12.75 | E4: 14 | F4: 13 | G4: 12 | H4: 11 | I4: 12 | J4: 15 | K4: 13 | L4: 12
A5: ALG | B5: Ahmed Touba | C5: D (LC), DM | D5: =AVERAGE(E5:L5) -> 13 | E5: 12 | F5: 12 | G5: 12 | H5: 14 | I5: 14 | J5: 13 | K5: 13 | L5: 14
A6: ALG | B6: Ramy Bensebaïni | C6: D (LC), WB (L) | D6: =AVERAGE(E6:L6) -> 13.5 | E6: 12 | F6: 11 | G6: 14 | H6: 16 | I6: 12 | J6: 14 | K6: 15 | L6: 14
A7: ALG | B7: Ismaël Bennacer | C7: DM, M (C) | D7: =AVERAGE(E7:L7) -> 13.125 | E7: 14 | F7: 15 | G7: 16 | H7: 7 | I7: 16 | J7: 13 | K7: 13 | L7: 11
A8: ALG | B8: Farès Chaïbi | C8: M (C), AM (RLC) | D8: =AVERAGE(E8:L8) -> 13.75 | E8: 15 | F8: 15 | G8: 14 | H8: 11 | I8: 13 | J8: 14 | K8: 15 | L8: 13
A9: ALG | B9: Amine Gouiri | C9: M/AM (L), ST (C) | D9: =AVERAGE(E9:L9) -> 13.875 | E9: 15 | F9: 15 | G9: 14 | H9: 12 | I9: 15 | J9: 14 | K9: 13 | L9: 13
A10: ALG | B10: Enzo Crivelli | C10: AM (L), ST (C) | D10: =AVERAGE(E10:L10) -> 14 | E10: 12 | F10: 11 | G10: 16 | H10: 14 | I10: 14 | J10: 14 | K10: 15 | L10: 16
A11: ALG | B11: Mohamed Belloumi | C11: AM (R) | D11: =AVERAGE(E11:L11) -> 12.375 | E11: 14 | F11: 15 | G11: 14 | H11: 7 | I11: 13 | J11: 15 | K11: 12 | L11: 9
A12: ALG | B12: Enzo Sternal | C12: AM (LC), ST (C) | D12: =AVERAGE(E12:L12) -> 12.75 | E12: 13 | F12: 16 | G12: 12 | H12: 11 | I12: 13 | J12: 14 | K12: 11 | L12: 12
A13: ALG | B13: Yacine Adli | C13: DM, M/AM (C) | D13: =AVERAGE(E13:L13) -> 12.875 | E13: 13 | F13: 11 | G13: 15 | H13: 12 | I13: 14 | J13: 12 | K13: 14 | L13: 12
... A1248: THA | B1248: Manuel Bihr | C1248: D (C), DM | D1248: =AVERAGE(E1248:L1248) -> 11.5 | E1248: 10 | F1248: 10 | G1248: 10 | H1248: 12 | I1248: 13 | J1248: 11 | K1248: 13 | L1248: 13

Sheet Technical
A1: NATION | B1: Name | C1: Position | D1: Average | E1: Cor | F1: Cro | G1: Dri | H1: Fin | I1: Fir | J1: Fre | K1: Hea | L1: Lon | M1: L Th | N1: Mar | O1: Pas | P1: Pen | Q1: Tck | R1: Tec
A2: ALG | B2: Luca Zidane | C2: GK | I2: 15 | O2: 15
A3: ALG | B3: Youcef Atal | C3: D/WB/M (R) | D3: =AVERAGE(E3:R3) -> 10.5 | E3: 8 | F3: 12 | G3: 14 | H3: 11 | I3: 13 | J3: 8 | K3: 5 | L3: 12 | M3: 7 | N3: 10 | O3: 12 | P3: 8 | Q3: 12 | R3: 15
A4: ALG | B4: Rayan Aït-Nouri | C4: D/WB (L) | D4: =AVERAGE(E4:R4) -> 11.571429 | E4: 11 | F4: 14 | G4: 15 | H4: 10 | I4: 14 | J4: 7 | K4: 11 | L4: 9 | M4: 8 | N4: 13 | O4: 13 | P4: 8 | Q4: 14 | R4: 15
A5: ALG | B5: Ahmed Touba | C5: D (LC), DM | D5: =AVERAGE(E5:R5) -> 9.9285714 | E5: 7 | F5: 10 | G5: 11 | H5: 7 | I5: 12 | J5: 8 | K5: 14 | L5: 7 | M5: 7 | N5: 13 | O5: 10 | P5: 8 | Q5: 12 | R5: 13
A6: ALG | B6: Ramy Bensebaïni | C6: D (LC), WB (L) | D6: =AVERAGE(E6:R6) -> 12.214286 | E6: 4 | F6: 13 | G6: 11 | H6: 10 | I6: 13 | J6: 11 | K6: 16 | L6: 8 | M6: 14 | N6: 13 | O6: 13 | P6: 17 | Q6: 15 | R6: 13
A7: ALG | B7: Ismaël Bennacer | C7: DM, M (C) | D7: =AVERAGE(E7:R7) -> 12.571429 | E7: 13 | F7: 12 | G7: 15 | H7: 9 | I7: 16 | J7: 13 | K7: 7 | L7: 14 | M7: 6 | N7: 13 | O7: 16 | P7: 11 | Q7: 16 | R7: 15
A8: ALG | B8: Farès Chaïbi | C8: M (C), AM (RLC) | D8: =AVERAGE(E8:R8) -> 12.857143 | E8: 16 | F8: 13 | G8: 15 | H8: 12 | I8: 15 | J8: 16 | K8: 10 | L8: 12 | M8: 6 | N8: 10 | O8: 16 | P8: 12 | Q8: 11 | R8: 16
A9: ALG | B9: Amine Gouiri | C9: M/AM (L), ST (C) | D9: =AVERAGE(E9:R9) -> 11.785714 | E9: 8 | F9: 12 | G9: 15 | H9: 15 | I9: 16 | J9: 14 | K9: 12 | L9: 16 | M9: 4 | N9: 5 | O9: 14 | P9: 14 | Q9: 4 | R9: 16
A10: ALG | B10: Enzo Crivelli | C10: AM (L), ST (C) | D10: =AVERAGE(E10:R10) -> 9.3571429 | E10: 3 | F10: 10 | G10: 10 | H10: 12 | I10: 12 | J10: 7 | K10: 14 | L10: 9 | M10: 4 | N10: 7 | O10: 12 | P10: 11 | Q10: 8 | R10: 12
A11: ALG | B11: Mohamed Belloumi | C11: AM (R) | D11: =AVERAGE(E11:R11) -> 11.285714 | E11: 11 | F11: 13 | G11: 15 | H11: 13 | I11: 14 | J11: 9 | K11: 9 | L11: 13 | M11: 6 | N11: 7 | O11: 12 | P11: 12 | Q11: 9 | R11: 15
A12: ALG | B12: Enzo Sternal | C12: AM (LC), ST (C) | D12: =AVERAGE(E12:R12) -> 10.214286 | E12: 7 | F12: 12 | G12: 15 | H12: 14 | I12: 14 | J12: 10 | K12: 9 | L12: 12 | M12: 3 | N12: 6 | O12: 11 | P12: 12 | Q12: 5 | R12: 13
A13: ALG | B13: Yacine Adli | C13: DM, M/AM (C) | D13: =AVERAGE(E13:R13) -> 12.071429 | E13: 13 | F13: 11 | G13: 13 | H13: 11 | I13: 15 | J13: 12 | K13: 9 | L13: 13 | M13: 8 | N13: 12 | O13: 14 | P13: 11 | Q13: 13 | R13: 14
A14: ALG | B14: Anthony Mandréa | C14: GK | I14: 9 | O14: 10
A15: ALG | B15: Alexis Guendouz | C15: GK | I15: 7 | O15: 8
A16: ALG | B16: Hicham Boudaoui | C16: DM, M (RC) | D16: =AVERAGE(E16:R16) -> 11.142857 | E16: 10 | F16: 12 | G16: 14 | H16: 8 | I16: 14 | J16: 9 | K16: 8 | L16: 11 | M16: 4 | N16: 13 | O16: 15 | P16: 10 | Q16: 14 | R16: 14
A17: ALG | B17: Nabil Fekir | C17: M (C), AM (RLC), ST (C) | D17: =AVERAGE(E17:R17) -> 12 | E17: 15 | F17: 14 | G17: 14 | H17: 10 | I17: 17 | J17: 15 | K17: 5 | L17: 14 | M17: 7 | N17: 6 | O17: 16 | P17: 12 | Q17: 6 | R17: 17
A18: ALG | B18: Maxime Lopez | C18: DM, M/AM (C) | D18: =AVERAGE(E18:R18) -> 10.142857 | E18: 9 | F18: 8 | G18: 12 | H18: 7 | I18: 16 | J18: 10 | K18: 4 | L18: 8 | M18: 3 | N18: 12 | O18: 16 | P18: 8 | Q18: 14 | R18: 15
A19: ALG | B19: Houssem Aouar | C19: M/AM (C) | D19: =AVERAGE(E19:R19) -> 11.714286 | E19: 13 | F19: 10 | G19: 15 | H19: 12 | I19: 17 | J19: 13 | K19: 7 | L19: 10 | M19: 5 | N19: 10 | O19: 16 | P19: 12 | Q19: 8 | R19: 16
A20: ALG | B20: Ramiz Zerrouki | C20: DM, M (C) | D20: =AVERAGE(E20:R20) -> 12.214286 | E20: 14 | F20: 11 | G20: 12 | H20: 7 | I20: 12 | J20: 14 | K20: 11 | L20: 12 | M20: 12 | N20: 14 | O20: 14 | P20: 12 | Q20: 12 | R20: 14
A21: ALG | B21: Mohamed Tougai | C21: D (C) | D21: =AVERAGE(E21:R21) -> 9.3571429 | E21: 4 | F21: 8 | G21: 10 | H21: 7 | I21: 11 | J21: 3 | K21: 15 | L21: 6 | M21: 7 | N21: 12 | O21: 13 | P21: 9 | Q21: 14 | R21: 12
A22: ALG | B22: Mohamed Amoura | C22: AM (RL), ST (C) | D22: =AVERAGE(E22:R22) -> 9.7142857 | E22: 9 | F22: 11 | G22: 14 | H22: 11 | I22: 14 | J22: 9 | K22: 6 | L22: 10 | M22: 5 | N22: 5 | O22: 11 | P22: 10 | Q22: 7 | R22: 14
A23: ALG | B23: Saïd Benrahma | C23: AM (RLC), ST (C) | D23: =AVERAGE(E23:R23) -> 10.714286 | E23: 9 | F23: 10 | G23: 15 | H23: 11 | I23: 17 | J23: 12 | K23: 7 | L23: 11 | M23: 6 | N23: 4 | O23: 11 | P23: 16 | Q23: 5 | R23: 16
A24: ALG | B24: Badredine Bouanani | C24: AM (RC) | D24: =AVERAGE(E24:R24) -> 9.5 | E24: 9 | F24: 11 | G24: 15 | H24: 12 | I24: 14 | J24: 7 | K24: 5 | L24: 11 | M24: 2 | N24: 6 | O24: 12 | P24: 8 | Q24: 6 | R24: 15
A25: ALG | B25: Aïssa Mandi | C25: D (RLC) | D25: =AVERAGE(E25:R25) -> 10.142857 | E25: 5 | F25: 15 | G25: 10 | H25: 4 | I25: 12 | J25: 6 | K25: 14 | L25: 4 | M25: 11 | N25: 15 | O25: 14 | P25: 5 | Q25: 15 | R25: 12
A26: ALG | B26: Akim Zedadka | C26: D (RL), WB/M/AM (R) | D26: =AVERAGE(E26:R26) -> 10.285714 | E26: 10 | F26: 12 | G26: 12 | H26: 6 | I26: 13 | J26: 9 | K26: 8 | L26: 9 | M26: 9 | N26: 12 | O26: 12 | P26: 10 | Q26: 9 | R26: 13
A27: ALG | B27: Samir Chergui | C27: D (RC), DM | D27: =AVERAGE(E27:R27) -> 10.214286 | E27: 9 | F27: 12 | G27: 11 | H27: 9 | I27: 13 | J27: 9 | K27: 12 | L27: 9 | M27: 5 | N27: 13 | O27: 14 | P27: 5 | Q27: 10 | R27: 12
A28: AUT | B28: Nicolas Kristof | C28: GK | I28: 9 | O28: 12
A29: AUT | B29: Konrad Laimer | C29: D/WB (R), DM, M (C) | D29: =AVERAGE(E29:R29) -> 10.714286 | E29: 6 | F29: 11 | G29: 12 | H29: 10 | I29: 12 | J29: 7 | K29: 8 | L29: 12 | M29: 8 | N29: 13 | O29: 13 | P29: 8 | Q29: 17 | R29: 13
A30: AUT | B30: Alexander Prass | C30: D/WB (L), M/AM (LC) | D30: =AVERAGE(E30:R30) -> 9.7857143 | E30: 8 | F30: 8 | G30: 13 | H30: 6 | I30: 12 | J30: 6 | K30: 8 | L30: 12 | M30: 7 | N30: 10 | O30: 13 | P30: 10 | Q30: 10 | R30: 14
A31: AUT | B31: Maximilian Wöber | C31: D (LC), DM | D31: =AVERAGE(E31:R31) -> 10.714286 | E31: 5 | F31: 11 | G31: 9 | H31: 5 | I31: 12 | J31: 12 | K31: 13 | L31: 8 | M31: 12 | N31: 12 | O31: 13 | P31: 12 | Q31: 14 | R31: 12
A32: AUT | B32: Marco Friedl | C32: D (LC), WB (L), DM | D32: =AVERAGE(E32:R32) -> 11.714286 | E32: 11 | F32: 12 | G32: 11 | H32: 7 | I32: 12 | J32: 13 | K32: 12 | L32: 7 | M32: 15 | N32: 13 | O32: 13 | P32: 10 | Q32: 15 | R32: 13
A33: AUT | B33: Patrick Wimmer | C33: M (R), AM (RL) | D33: =AVERAGE(E33:R33) -> 11.285714 | E33: 13 | F33: 12 | G33: 15 | H33: 10 | I33: 13 | J33: 13 | K33: 8 | L33: 10 | M33: 8 | N33: 8 | O33: 12 | P33: 11 | Q33: 11 | R33: 14
A34: AUT | B34: Marcel Sabitzer | C34: DM, M (C), AM (RC) | D34: =AVERAGE(E34:R34) -> 12.428571 | E34: 11 | F34: 12 | G34: 11 | H34: 12 | I34: 13 | J34: 14 | K34: 10 | L34: 16 | M34: 7 | N34: 12 | O34: 14 | P34: 16 | Q34: 13 | R34: 13
A35: AUT | B35: Paul Wanner | C35: M/AM (RC) | D35: =AVERAGE(E35:R35) -> 11.857143 | E35: 13 | F35: 10 | G35: 15 | H35: 12 | I35: 15 | J35: 14 | K35: 9 | L35: 11 | M35: 7 | N35: 9 | O35: 14 | P35: 12 | Q35: 9 | R35: 16
A36: AUT | B36: Saša Kalajdžić | C36: AM (LC), ST (C) | D36: =AVERAGE(E36:R36) -> 10.785714 | E36: 7 | F36: 9 | G36: 13 | H36: 13 | I36: 14 | J36: 9 | K36: 17 | L36: 11 | M36: 5 | N36: 7 | O36: 13 | P36: 12 | Q36: 7 | R36: 14
A37: AUT | B37: Mateo Kovačić | C37: DM, M (C) | D37: =AVERAGE(E37:R37) -> 11.928571 | E37: 10 | F37: 10 | G37: 15 | H37: 8 | I37: 16 | J37: 12 | K37: 10 | L37: 9 | M37: 7 | N37: 12 | O37: 14 | P37: 12 | Q37: 15 | R37: 17
A38: AUT | B38: Michael Gregoritsch | C38: AM (RLC), ST (C) | D38: =AVERAGE(E38:R38) -> 10.357143 | E38: 6 | F38: 8 | G38: 10 | H38: 12 | I38: 14 | J38: 13 | K38: 14 | L38: 10 | M38: 7 | N38: 6 | O38: 12 | P38: 12 | Q38: 7 | R38: 14
A39: AUT | B39: Philipp Lienhart | C39: D (C), DM | D39: =AVERAGE(E39:R39) -> 10.071429 | E39: 4 | F39: 7 | G39: 11 | H39: 6 | I39: 12 | J39: 4 | K39: 16 | L39: 6 | M39: 16 | N39: 14 | O39: 13 | P39: 7 | Q39: 13 | R39: 12
A40: AUT | B40: Nicolas Seiwald | C40: D (R), DM, M (C) | D40: =AVERAGE(E40:R40) -> 12 | E40: 14 | F40: 11 | G40: 12 | H40: 8 | I40: 15 | J40: 13 | K40: 9 | L40: 13 | M40: 7 | N40: 13 | O40: 14 | P40: 9 | Q40: 15 | R40: 15
A41: AUT | B41: Christoph Baumgartner | C41: M/AM (C), ST (C) | D41: =AVERAGE(E41:R41) -> 12.142857 | E41: 12 | F41: 10 | G41: 14 | H41: 14 | I41: 14 | J41: 12 | K41: 14 | L41: 12 | M41: 6 | N41: 10 | O41: 14 | P41: 12 | Q41: 11 | R41: 15
A42: AUT | B42: Alexander Schlager | C42: GK | I42: 9 | O42: 8
A43: AUT | B43: Niklas Hedl | C43: GK | I43: 11 | O43: 11
A44: AUT | B44: Samson Baidoo | C44: D (C), DM | D44: =AVERAGE(E44:R44) -> 9.5714286 | E44: 6 | F44: 6 | G44: 11 | H44: 6 | I44: 12 | J44: 8 | K44: 12 | L44: 9 | M44: 8 | N44: 13 | O44: 11 | P44: 8 | Q44: 14 | R44: 10
A45: AUT | B45: Xaver Schlager | C45: DM, M (C) | D45: =AVERAGE(E45:R45) -> 11.214286 | E45: 10 | F45: 8 | G45: 12 | H45: 8 | I45: 14 | J45: 12 | K45: 8 | L45: 12 | M45: 6 | N45: 13 | O45: 16 | P45: 8 | Q45: 16 | R45: 14
A46: AUT | B46: Stefan Posch | C46: D (RC), WB (R) | D46: =AVERAGE(E46:R46) -> 10.5 | E46: 4 | F46: 12 | G46: 11 | H46: 9 | I46: 11 | J46: 5 | K46: 14 | L46: 9 | M46: 12 | N46: 13 | O46: 13 | P46: 9 | Q46: 14 | R46: 11
A47: AUT | B47: David Affengruber | C47: D (C), DM | D47: =AVERAGE(E47:R47) -> 9.5 | E47: 4 | F47: 6 | G47: 8 | H47: 5 | I47: 14 | J47: 8 | K47: 14 | L47: 8 | M47: 7 | N47: 13 | O47: 12 | P47: 7 | Q47: 14 | R47: 13
A48: AUT | B48: Matthias Seidl | C48: M/AM (C) | D48: =AVERAGE(E48:R48) -> 10.071429 | E48: 8 | F48: 8 | G48: 12 | H48: 9 | I48: 13 | J48: 9 | K48: 11 | L48: 10 | M48: 6 | N48: 9 | O48: 14 | P48: 9 | Q48: 9 | R48: 14
A49: AUT | B49: Aaron Sky Schwarz | C49: M/AM (RL) | D49: =AVERAGE(E49:R49) -> 8.9285714 | E49: 6 | F49: 11 | G49: 11 | H49: 7 | I49: 11 | J49: 8 | K49: 8 | L49: 12 | M49: 7 | N49: 8 | O49: 9 | P49: 6 | Q49: 10 | R49: 11
A50: AUT | B50: Martin Moormann | C50: D (LC) | D50: =AVERAGE(E50:R50) -> 8.5 | E50: 6 | F50: 8 | G50: 7 | H50: 4 | I50: 11 | J50: 4 | K50: 12 | L50: 7 | M50: 9 | N50: 12 | O50: 9 | P50: 7 | Q50: 12 | R50: 11
A51: AUT | B51: Benedikt Pichler | C51: AM (RL), ST (C) | D51: =AVERAGE(E51:R51) -> 9.6428571 | E51: 4 | F51: 10 | G51: 12 | H51: 12 | I51: 11 | J51: 7 | K51: 13 | L51: 9 | M51: 6 | N51: 7 | O51: 12 | P51: 13 | Q51: 7 | R51: 12
A52: AUT | B52: Leon Grgić | C52: AM (R), ST (C) | D52: =AVERAGE(E52:R52) -> 6.6428571 | E52: 3 | F52: 6 | G52: 8 | H52: 8 | I52: 10 | J52: 4 | K52: 8 | L52: 9 | M52: 5 | N52: 5 | O52: 7 | P52: 6 | Q52: 5 | R52: 9
A53: AUT | B53: Adrian Grbić | C53: AM (RLC), ST (C) | D53: =AVERAGE(E53:R53) -> 9.7857143 | E53: 6 | F53: 8 | G53: 10 | H53: 10 | I53: 12 | J53: 12 | K53: 13 | L53: 12 | M53: 3 | N53: 8 | O53: 11 | P53: 12 | Q53: 7 | R53: 13
A54: USA | B54: Maarten Paes | C54: GK | I54: 7 | O54: 11
A55: USA | B55: Joe Scally | C55: D/WB (RL) | D55: =AVERAGE(E55:R55) -> 9.6428571 | E55: 5 | F55: 12 | G55: 12 | H55: 7 | I55: 11 | J55: 6 | K55: 10 | L55: 6 | M55: 13 | N55: 12 | O55: 12 | P55: 5 | Q55: 12 | R55: 12
A56: USA | B56: Sergiño Dest | C56: D/WB (RL), M (R) | D56: =AVERAGE(E56:R56) -> 10.642857 | E56: 8 | F56: 13 | G56: 14 | H56: 7 | I56: 13 | J56: 8 | K56: 7 | L56: 9 | M56: 10 | N56: 13 | O56: 13 | P56: 9 | Q56: 11 | R56: 14
A57: USA | B57: Tyler Adams | C57: D/WB (R), DM, M (C) | D57: =AVERAGE(E57:R57) -> 9.8571429 | E57: 5 | F57: 10 | G57: 11 | H57: 6 | I57: 13 | J57: 5 | K57: 8 | L57: 9 | M57: 11 | N57: 14 | O57: 14 | P57: 5 | Q57: 15 | R57: 12
A58: USA | B58: Cameron Carter-Vickers | C58: D (C) | D58: =AVERAGE(E58:R58) -> 9.6428571 | E58: 3 | F58: 6 | G58: 11 | H58: 4 | I58: 12 | J58: 5 | K58: 16 | L58: 6 | M58: 10 | N58: 14 | O58: 14 | P58: 7 | Q58: 14 | R58: 13
A59: USA | B59: Weston McKennie | C59: WB (R), DM, M (RC) | D59: =AVERAGE(E59:R59) -> 12.071429 | E59: 7 | F59: 13 | G59: 13 | H59: 11 | I59: 12 | J59: 7 | K59: 16 | L59: 10 | M59: 19 | N59: 11 | O59: 14 | P59: 8 | Q59: 15 | R59: 13
A60: USA | B60: Esequiel Barco | C60: M (L), AM (RLC) | D60: =AVERAGE(E60:R60) -> 11.714286 | E60: 12 | F60: 13 | G60: 16 | H60: 13 | I60: 15 | J60: 14 | K60: 6 | L60: 13 | M60: 3 | N60: 6 | O60: 15 | P60: 16 | Q60: 6 | R60: 16
A61: USA | B61: Benjamin Cremaschi | C61: M (RC), AM (L) | D61: =AVERAGE(E61:R61) -> 11.928571 | E61: 11 | F61: 13 | G61: 15 | H61: 12 | I61: 14 | J61: 10 | K61: 9 | L61: 11 | M61: 10 | N61: 12 | O61: 15 | P61: 10 | Q61: 11 | R61: 14
A62: USA | B62: Josh Sargent | C62: AM (RC), ST (C) | D62: =AVERAGE(E62:R62) -> 9.2857143 | E62: 5 | F62: 7 | G62: 11 | H62: 14 | I62: 13 | J62: 7 | K62: 13 | L62: 9 | M62: 3 | N62: 6 | O62: 11 | P62: 16 | Q62: 5 | R62: 10
A63: USA | B63: Christian Pulisic | C63: M (R), AM (RLC) | D63: =AVERAGE(E63:R63) -> 11.785714 | E63: 13 | F63: 14 | G63: 16 | H63: 14 | I63: 16 | J63: 10 | K63: 7 | L63: 13 | M63: 7 | N63: 7 | O63: 14 | P63: 11 | Q63: 8 | R63: 15
A64: USA | B64: Taty Castellanos | C64: ST (C) | D64: =AVERAGE(E64:R64) -> 11.142857 | E64: 4 | F64: 11 | G64: 14 | H64: 14 | I64: 15 | J64: 13 | K64: 17 | L64: 12 | M64: 4 | N64: 5 | O64: 13 | P64: 14 | Q64: 6 | R64: 14
A65: USA | B65: Walker Zimmerman | C65: D (C) | D65: =AVERAGE(E65:R65) -> 10.285714 | E65: 6 | F65: 7 | G65: 10 | H65: 10 | I65: 12 | J65: 6 | K65: 17 | L65: 7 | M65: 8 | N65: 15 | O65: 13 | P65: 8 | Q65: 14 | R65: 11
A66: USA | B66: Zack Steffen | C66: GK | I66: 10 | O66: 11
A67: USA | B67: Kristijan Kahlina | C67: GK | I67: 9 | O67: 9
A68: USA | B68: Sebastián Driussi | C68: M (L), AM (LC), ST (C) | D68: =AVERAGE(E68:R68) -> 11.928571 | E68: 12 | F68: 14 | G68: 13 | H68: 14 | I68: 14 | J68: 12 | K68: 11 | L68: 12 | M68: 7 | N68: 6 | O68: 13 | P68: 14 | Q68: 10 | R68: 15
A69: USA | B69: Giovanni Reyna | C69: M (C), AM (RLC) | D69: =AVERAGE(E69:R69) -> 12.142857 | E69: 13 | F69: 13 | G69: 16 | H69: 12 | I69: 16 | J69: 13 | K69: 7 | L69: 13 | M69: 6 | N69: 8 | O69: 15 | P69: 13 | Q69: 8 | R69: 17
A70: USA | B70: Chris Richards | C70: D (RLC), DM | D70: =AVERAGE(E70:R70) -> 9.0714286 | E70: 3 | F70: 10 | G70: 11 | H70: 6 | I70: 11 | J70: 3 | K70: 15 | L70: 6 | M70: 6 | N70: 13 | O70: 11 | P70: 6 | Q70: 14 | R70: 12
A71: USA | B71: Yunus Musah | C71: DM, M/AM (RC) | D71: =AVERAGE(E71:R71) -> 11.5 | E71: 11 | F71: 12 | G71: 13 | H71: 12 | I71: 14 | J71: 9 | K71: 9 | L71: 11 | M71: 7 | N71: 13 | O71: 13 | P71: 11 | Q71: 13 | R71: 13
A72: USA | B72: Claudio Bravo | C72: D/WB (L) | D72: =AVERAGE(E72:R72) -> 11.142857 | E72: 10 | F72: 12 | G72: 13 | H72: 8 | I72: 12 | J72: 12 | K72: 9 | L72: 11 | M72: 10 | N72: 13 | O72: 13 | P72: 8 | Q72: 12 | R72: 13
A73: USA | B73: Talles Magno | C73: AM (RLC), ST (C) | D73: =AVERAGE(E73:R73) -> 10.214286 | E73: 6 | F73: 11 | G73: 14 | H73: 11 | I73: 14 | J73: 8 | K73: 12 | L73: 12 | M73: 4 | N73: 6 | O73: 12 | P73: 11 | Q73: 6 | R73: 16
A74: USA | B74: Miles Robinson | C74: D (RC) | D74: =AVERAGE(E74:R74) -> 9.5714286 | E74: 7 | F74: 4 | G74: 10 | H74: 6 | I74: 11 | J74: 5 | K74: 13 | L74: 8 | M74: 10 | N74: 15 | O74: 11 | P74: 9 | Q74: 14 | R74: 11
A75: USA | B75: Julián Carranza | C75: AM (L), ST (C) | D75: =AVERAGE(E75:R75) -> 10.285714 | E75: 9 | F75: 8 | G75: 12 | H75: 14 | I75: 14 | J75: 10 | K75: 13 | L75: 11 | M75: 5 | N75: 6 | O75: 10 | P75: 12 | Q75: 8 | R75: 12
A76: USA | B76: Taylor Booth | C76: DM, M/AM (RC) | D76: =AVERAGE(E76:R76) -> 10.857143 | E76: 13 | F76: 14 | G76: 13 | H76: 10 | I76: 12 | J76: 13 | K76: 7 | L76: 11 | M76: 8 | N76: 7 | O76: 13 | P76: 11 | Q76: 6 | R76: 14
A77: USA | B77: Johnny | C77: DM, M/AM (C) | D77: =AVERAGE(E77:R77) -> 11.142857 | E77: 7 | F77: 9 | G77: 12 | H77: 11 | I77: 14 | J77: 10 | K77: 11 | L77: 9 | M77: 9 | N77: 12 | O77: 13 | P77: 13 | Q77: 13 | R77: 13
A78: USA | B78: Auston Trusty | C78: D (C) | D78: =AVERAGE(E78:R78) -> 9.0714286 | E78: 8 | F78: 7 | G78: 9 | H78: 5 | I78: 11 | J78: 6 | K78: 15 | L78: 6 | M78: 6 | N78: 14 | O78: 11 | P78: 4 | Q78: 14 | R78: 11
A79: USA | B79: Brenner | C79: AM (LC), ST (C) | D79: =AVERAGE(E79:R79) -> 10.928571 | E79: 10 | F79: 9 | G79: 14 | H79: 14 | I79: 14 | J79: 9 | K79: 13 | L79: 10 | M79: 9 | N79: 6 | O79: 11 | P79: 15 | Q79: 7 | R79: 12
A80: UZB | B80: Xurshidbek Muhammadov | C80: GK | I80: 4 | O80: 12
A81: UZB | B81: Dilshod Saitov | C81: D/WB (R), M (RC) | D81: =AVERAGE(E81:R81) -> 10.642857 | E81: 9 | F81: 11 | G81: 12 | H81: 10 | I81: 11 | J81: 8 | K81: 12 | L81: 14 | M81: 6 | N81: 12 | O81: 12 | P81: 7 | Q81: 12 | R81: 13
A82: UZB | B82: Hojiakbar Alijonov | C82: D (RL), WB (R) | D82: =AVERAGE(E82:R82) -> 9.4285714 | E82: 6 | F82: 12 | G82: 13 | H82: 5 | I82: 12 | J82: 5 | K82: 10 | L82: 11 | M82: 9 | N82: 12 | O82: 12 | P82: 3 | Q82: 13 | R82: 9
A83: UZB | B83: Waldemar Anton | C83: D (C), DM | D83: =AVERAGE(E83:R83) -> 9.7142857 | E83: 3 | F83: 8 | G83: 11 | H83: 7 | I83: 12 | J83: 4 | K83: 14 | L83: 8 | M83: 12 | N83: 13 | O83: 13 | P83: 6 | Q83: 13 | R83: 12
A84: UZB | B84: Abdukodir Khusanov | C84: D (C) | D84: =AVERAGE(E84:R84) -> 8.4285714 | E84: 5 | F84: 5 | G84: 5 | H84: 3 | I84: 12 | J84: 6 | K84: 13 | L84: 10 | M84: 3 | N84: 16 | O84: 11 | P84: 5 | Q84: 13 | R84: 11
A85: UZB | B85: Ibrohimxalil Yo'ldoshev | C85: D/WB (L) | D85: =AVERAGE(E85:R85) -> 9.3571429 | E85: 10 | F85: 11 | G85: 12 | H85: 7 | I85: 12 | J85: 8 | K85: 6 | L85: 4 | M85: 10 | N85: 11 | O85: 10 | P85: 7 | Q85: 11 | R85: 12
A86: UZB | B86: Oston O'runov | C86: M (RL), AM (RLC) | D86: =AVERAGE(E86:R86) -> 10.428571 | E86: 9 | F86: 11 | G86: 14 | H86: 11 | I86: 14 | J86: 6 | K86: 10 | L86: 10 | M86: 5 | N86: 10 | O86: 13 | P86: 9 | Q86: 9 | R86: 15
A87: UZB | B87: Hojimat Erkinov | C87: M/AM (RLC) | D87: =AVERAGE(E87:R87) -> 9.4285714 | E87: 9 | F87: 11 | G87: 13 | H87: 9 | I87: 12 | J87: 6 | K87: 7 | L87: 7 | M87: 8 | N87: 8 | O87: 10 | P87: 13 | Q87: 7 | R87: 12
A88: UZB | B88: Igor Sergeev | C88: ST (C) | D88: =AVERAGE(E88:R88) -> 8.7857143 | E88: 5 | F88: 7 | G88: 11 | H88: 15 | I88: 14 | J88: 6 | K88: 11 | L88: 9 | M88: 2 | N88: 5 | O88: 8 | P88: 12 | Q88: 5 | R88: 13
A89: UZB | B89: Abbosbek Fayzullayev | C89: AM (RLC) | D89: =AVERAGE(E89:R89) -> 10.857143 | E89: 12 | F89: 12 | G89: 15 | H89: 11 | I89: 15 | J89: 11 | K89: 7 | L89: 12 | M89: 3 | N89: 7 | O89: 13 | P89: 10 | Q89: 9 | R89: 15
A90: UZB | B90: Eldor Shomurodov | C90: AM (RLC), ST (C) | D90: =AVERAGE(E90:R90) -> 9.5714286 | E90: 6 | F90: 9 | G90: 12 | H90: 10 | I90: 15 | J90: 7 | K90: 12 | L90: 9 | M90: 5 | N90: 5 | O90: 12 | P90: 11 | Q90: 8 | R90: 13
A91: UZB | B91: Alibek Davronov | C91: D (C) | D91: =AVERAGE(E91:R91) -> 6.9285714 | E91: 4 | F91: 3 | G91: 6 | H91: 1 | I91: 7 | J91: 1 | K91: 15 | L91: 6 | M91: 3 | N91: 15 | O91: 9 | P91: 4 | Q91: 15 | R91: 8
A92: UZB | B92: Abduvohid Ne'matov | C92: GK | I92: 5 | O92: 11
A93: UZB | B93: Dilshod Yo'ldoshev | C93: GK | I93: 1 | O93: 11
A94: UZB | B94: Jahongir O'rozov | C94: D (C) | D94: =AVERAGE(E94:R94) -> 8.7857143 | E94: 5 | F94: 5 | G94: 7 | H94: 7 | I94: 10 | J94: 9 | K94: 13 | L94: 7 | M94: 7 | N94: 13 | O94: 7 | P94: 8 | Q94: 16 | R94: 9
A95: UZB | B95: Husniddin Aliqulov | C95: D (C) | D95: =AVERAGE(E95:R95) -> 7.9285714 | E95: 4 | F95: 6 | G95: 7 | H95: 4 | I95: 10 | J95: 1 | K95: 14 | L95: 4 | M95: 8 | N95: 15 | O95: 10 | P95: 6 | Q95: 15 | R95: 7
A96: UZB | B96: Odiljon Hamrobekov | C96: DM, M (C) | D96: =AVERAGE(E96:R96) -> 10.857143 | E96: 7 | F96: 9 | G96: 9 | H96: 7 | I96: 12 | J96: 11 | K96: 11 | L96: 13 | M96: 9 | N96: 14 | O96: 12 | P96: 11 | Q96: 15 | R96: 12
A97: UZB | B97: Azizjon G'aniev | C97: DM, M (C) | D97: =AVERAGE(E97:R97) -> 11 | E97: 13 | F97: 12 | G97: 10 | H97: 12 | I97: 12 | J97: 12 | K97: 11 | L97: 9 | M97: 9 | N97: 11 | O97: 12 | P97: 9 | Q97: 10 | R97: 12
A98: UZB | B98: Bobir Abdiholiqov | C98: AM (L), ST (C) | D98: =AVERAGE(E98:R98) -> 9.5714286 | E98: 5 | F98: 4 | G98: 14 | H98: 16 | I98: 13 | J98: 6 | K98: 9 | L98: 8 | M98: 6 | N98: 6 | O98: 11 | P98: 14 | Q98: 8 | R98: 14
A99: UZB | B99: Jaloliddin Masharipov | C99: M/AM (LC) | D99: =AVERAGE(E99:R99) -> 11 | E99: 13 | F99: 12 | G99: 13 | H99: 9 | I99: 16 | J99: 14 | K99: 9 | L99: 10 | M99: 5 | N99: 6 | O99: 15 | P99: 10 | Q99: 7 | R99: 15
A100: UZB | B100: Dostonbek Hamdamov | C100: M/AM (RL) | D100: =AVERAGE(E100:R100) -> 10.142857 | E100: 10 | F100: 13 | G100: 9 | H100: 11 | I100: 11 | J100: 11 | K100: 11 | L100: 9 | M100: 6 | N100: 8 | O100: 12 | P100: 7 | Q100: 9 | R100: 15
...
