Workbook

Sheet Squads
A1: NATION | B1: No. | C1: Name | D1: Position | E1: NoB | F1: DoB | G1: Age | H1: Based | I1: Club | J1: Caps | K1: Goals | L1: Transfer Value | M1: Height | N1: Weight
A2: ALG | B2: 1 | C2: Luca Zidane | D2: GK | E2: FRA | F2: 35928 | G2: 28 | H2: ESP | I2: Eibar | J2: 26 | K2: 0 | L2: £850K - £2.6M | M2: 181 | N2: 78
A3: ALG | B3: 2 | C3: Youcef Atal | D3: D/WB/M (R) | E3: ALG | F3: 35202 | G3: 30 | H3: TUR | I3: Adana D.S. | J3: 48 | K3: 3 | L3: £6.4M - £19.5M | M3: 176 | N3: 64
A4: ALG | B4: 3 | C4: Rayan Aït-Nouri | D4: D/WB (L) | E4: FRA | F4: 37048 | G4: 25 | H4: ENG | I4: Wolves | J4: 18 | K4: 0 | L4: £15.5M - £47M | M4: 180 | N4: 70
A5: ALG | B5: 4 | C5: Ahmed Touba | D5: D (LC), DM | E5: FRA | F5: 35867 | G5: 28 | H5: TUR | I5: Başakşehir F.K. | J5: 36 | K5: 2 | L5: £1.9M - £5.8M | M5: 190 | N5: 86
A6: ALG | B6: 5 | C6: Ramy Bensebaïni | D6: D (LC), WB (L) | E6: ALG | F6: 34805 | G6: 31 | H6: ENG | I6: West Ham | J6: 85 | K6: 12 | L6: £14M - £42M | M6: 187 | N6: 85
A7: ALG | B7: 6 | C7: Ismaël Bennacer | D7: DM, M (C) | E7: FRA | F7: 35765 | G7: 28 | H7: ITA | I7: Milan | J7: 70 | K7: 3 | L7: £65M - £195M | M7: 175 | N7: 70
A8: ALG | B8: 7 | C8: Farès Chaïbi | D8: M (C), AM (RLC) | E8: FRA | F8: 37588 | G8: 23 | H8: GER | I8: Eintracht Frankfurt | J8: 25 | K8: 10 | L8: £30M - £89M | M8: 183 | N8: 72
A9: ALG | B9: 8 | C9: Amine Gouiri | D9: M/AM (L), ST (C) | E9: FRA | F9: 36572 | G9: 26 | H9: FRA | I9: Rennes | J9: 33 | K9: 12 | L9: £40M - £120M | M9: 180 | N9: 72
A10: ALG | B10: 9 | C10: Enzo Crivelli | D10: AM (L), ST (C) | E10: FRA | F10: 34736 | G10: 31 | H10: SUI | I10: Servette | J10: 6 | K10: 3 | L10: £1.3M - £4M | M10: 184 | N10: 87
A11: ALG | B11: 10 | C11: Mohamed Belloumi | D11: AM (R) | E11: ALG | F11: 37408 | G11: 24 | H11: ENG | I11: Leicester | J11: 13 | K11: 0 | L11: £11.5M - £34M | M11: 177 | N11: 66
A12: ALG | B12: 11 | C12: Enzo Sternal | D12: AM (LC), ST (C) | E12: FRA | F12: 39230 | G12: 19 | H12: FRA | I12: Marseille | J12: 6 | K12: 2 | L12: £6M - £18M | M12: 181 | N12: 75
A13: ALG | B13: 12 | C13: Yacine Adli | D13: DM, M/AM (C) | E13: FRA | F13: 36736 | G13: 25 | H13: ITA | I13: Napoli | J13: 32 | K13: 0 | L13: £13.5M - £41M | M13: 186 | N13: 73
... A89: UZB | B89: 10 | C89: Abbosbek Fayzullayev | D89: AM (RLC) | E89: UZB | F89: 37897 | G89: 22 | H89: RUS | I89: CSKA Moscow | J89: 35 | K89: 16 | L89: £6.4M - £19M | M89: 170 | N89: 59
A90: UZB | B90: 11 | C90: Eldor Shomurodov | D90: AM (RLC), ST (C) | E90: UZB | F90: 34879 | G90: 30 | H90: GRE | I90: PAOK | J90: 95 | K90: 46 | L90: 0 | M90: 185 | N90: 76
A91: UZB | B91: 12 | C91: Alibek Davronov | D91: D (C) | E91: UZB | F91: 37618 | G91: 23 | H91: KOR | I91: Ulsan | J91: 7 | K91: 0 | L91: £650K - £2M | M91: 183 | N91: 78
A92: UZB | B92: 13 | C92: Abduvohid Ne'matov | D92: GK | E92: UZB | F92: 36970 | G92: 25 | H92: UZB | I92: Nasaf | J92: 8 | K92: 0 | L92: £65K - £190K | M92: 182 | N92: 77
A93: UZB | B93: 14 | C93: Dilshod Yo'ldoshev | D93: GK | E93: UZB | F93: 37100 | G93: 24 | H93: UZB | I93: Paxtakor | J93: 19 | K93: 0 | L93: £160K - £500K | M93: 195 | N93: 83
A94: UZB | B94: 15 | C94: Jahongir O'rozov | D94: D (C) | E94: UZB | F94: 38004 | G94: 22 | H94: TUR | I94: Eyüpspor | J94: 7 | K94: 2 | L94: £1.3M - £3.8M | M94: 190 | N94: 95
A95: UZB | B95: 16 | C95: Husniddin Aliqulov | D95: D (C) | E95: UZB | F95: 36254 | G95: 27 | H95: TUR | I95: Rizespor | J95: 40 | K95: 1 | L95: £1.6M - £4.8M | M95: 186 | N95: 83
A96: UZB | B96: 17 | C96: Odiljon Hamrobekov | D96: DM, M (C) | E96: UZB | F96: 35108 | G96: 30 | H96: UZB | I96: Navbahor | J96: 72 | K96: 2 | L96: £300K - £900K | M96: 180 | N96: 73
A97: UZB | B97: 18 | C97: Azizjon G'aniev | D97: DM, M (C) | E97: UZB | F97: 35848 | G97: 28 | H97: UAE | I97: Shabab Al-Ahli | J97: 45 | K97: 3 | L97: £5.2M - £16M | M97: 178 | N97: 64
A98: UZB | B98: 19 | C98: Bobir Abdiholiqov | D98: AM (L), ST (C) | E98: UZB | F98: 35543 | G98: 29 | H98: UZB | I98: Nasaf | J98: 30 | K98: 12 | L98: £275K - £800K | M98: 180 | N98: 67
A99: UZB | B99: 20 | C99: Jaloliddin Masharipov | D99: M/AM (LC) | E99: UZB | F99: 34213 | G99: 32 | H99: IRN | I99: Esteghlal | J99: 61 | K99: 11 | L99: £275K - £850K | M99: 172 | N99: 67
A100: UZB | B100: 21 | C100: Dostonbek Hamdamov | D100: M/AM (RL) | E100: UZB | F100: 35270 | G100: 29 | H100: UZB | I100: Paxtakor | J100: 52 | K100: 9 | L100: £250K - £750K | M100: 180 | N100: 68
A101: UZB | B101: 22 | C101: Jasur Yaxshiboyev | D101: AM (R), ST (C) | E101: UZB | F101: 35605 | G101: 28 | H101: KAZ | I101: Ordabasy | J101: 14 | K101: 2 | L101: £400K - £1.2M | M101: 180 | N101: 74
A102: UZB | B102: 23 | C102: Mirjalol Abdumutalov | D102: DM, M (C) | E102: UZB | F102: 37144 | G102: 24 | H102: UZB | I102: So'g'diyona | J102: 22 | K102: 0 | L102: £230K - £700K | M102: 175 | N102: 69
... A114: BIH | B114: 9 | C114: Dejan Joveljić | D114: AM (L), ST (C) | E114: BIH | F114: 36379 | G114: 26 | H114: MEX | I114: Monterrey | J114: 3 | K114: 1 | L114: £5.4M - £16.5M | M114: 182 | N114: 76
A115: BIH | B115: 10 | C115: Haris Tabaković | D115: AM (L), ST (C) | E115: SUI | F115: 34505 | G115: 31 | H115: GER | I115: Hertha BSC | J115: 1 | K115: 0 | L115: 0 | M115: 194 | N115: 90
A116: BIH | B116: 11 | C116: Ante Budimir | D116: ST (C) | E116: BIH | F116: 33441 | G116: 34 | H116: ESP | I116: Osasuna | J116: 14 | K116: 2 | L116: £1.1M - £3.2M | M116: 190 | N116: 74
A117: BIH | B117: 12 | C117: Svetozar Marković | D117: D (C) | E117: BIH | F117: 36608 | G117: 26 | H117: SRB | I117: Partizan | J117: 8 | K117: 0 | L117: £170K - £500K | M117: 186 | N117: 80
A118: BIH | B118: 13 | C118: Luka Veličković | D118: GK | E118: BIH | F118: 38495 | G118: 21 | H118: POR | I118: SL Benfica | J118: 3 | K118: 0 | L118: £2.4M - £7.2M | M118: 192 | N118: 84
A119: BIH | B119: 14 | C119: Luka Sučić | D119: M (C), AM (RC) | E119: AUT | F119: 37507 | G119: 23 | H119: AUT | I119: RB Salzburg | J119: 9 | K119: 1 | L119: £2.8M - £8.4M | M119: 185 | N119: 70
A120: BIH | B120: 15 | C120: Rade Krunić | D120: DM, M/AM (C) | E120: BIH | F120: 34249 | G120: 32 | H120: TUR | I120: Fenerbahçe | J120: 54 | K120: 11 | L120: £160K - £475K | M120: 184 | N120: 74
A121: BIH | B121: 16 | C121: Sead Kolašinac | D121: D (LC), WB (L) | E121: GER | F121: 34140 | G121: 32 | H121: ITA | I121: Atalanta | J121: 74 | K121: 0 | L121: £1.7M - £5.2M | M121: 183 | N121: 81
A122: BIH | B122: 17 | C122: Mijat Gaćinović | D122: M/AM (RLC) | E122: SRB | F122: 34738 | G122: 31 | H122: GRE | I122: AEK | J122: 20 | K122: 1 | L122: Not for Sale | M122: 175 | N122: 67
A123: BIH | B123: 18 | C123: Dal Varešanović | D123: M/AM (C) | E123: AUT | F123: 37034 | G123: 25 | H123: TUR | I123: Rizespor | J123: 12 | K123: 3 | L123: £190K - £600K | M123: 177 | N123: 66
A124: BIH | B124: 19 | C124: Mihailo Ristić | D124: D/WB (L), DM, M (LC) | E124: BIH | F124: 35003 | G124: 30 | H124: ESP | I124: Celta | J124: 6 | K124: 0 | L124: £95K | M124: 180 | N124: 79
A125: BIH | B125: 20 | C125: Amir Hadžiahmetović | D125: DM, M (C) | E125: DEN | F125: 35497 | G125: 29 | H125: TUR | I125: Beşiktaş | J125: 42 | K125: 1 | L125: £3.1M - £9.4M | M125: 178 | N125: 71
A126: BIH | B126: 21 | C126: Nemanja Gudelj | D126: D (C), DM, M (C) | E126: SRB | F126: 33558 | G126: 34 | H126: ESP | I126: Sevilla | J126: 21 | K126: 3 | L126: £22K - £65K | M126: 186 | N126: 77
...

Sheet Statistics
A1: NATION | B1: Name | C1: Rank | D1: Age | F1: Caps | H1: Height | J1: Weight | L1: Att | N1: Def | P1: GK | R1: Men | T1: Phy | V1: Tec
A2: ALG | B2: Algeria | C2: 29 | D2: =YEARFRAC(AVERAGEIF(Squads!A:A,$A2,Squads!F:F),"11/06/2026", 1) -> 27.809007 | E2: =_xlfn.RANK.EQ(D2,D$2:D$49,0) -> 21 | F2: =AVERAGEIF(Squads!A:A,$A2,Squads!J:J) -> 30.576923 | G2: =_xlfn.RANK.EQ(F2,F$2:F$49,0) -> 19 | H2: =AVERAGEIF(Squads!A:A,$A2,Squads!M:M) -> 179.96154 | I2: =_xlfn.RANK.EQ(H2,H$2:H$49,0) -> 40 | J2: =AVERAGEIF(Squads!A:A,$A2,Squads!N:N) -> 73.576923 | K2: =_xlfn.RANK.EQ(J2,J$2:J$49,0) -> 44 | L2: =AVERAGEIF(Attacking!A:A,$A2,Attacking!D:D) -> 12.182609 | M2: =_xlfn.RANK.EQ(L2,L$2:L$49,0) -> 6 | N2: =AVERAGEIF(Defending!A:A,$A2,Defending!D:D) -> 11.495652 | O2: =_xlfn.RANK.EQ(N2,N$2:N$49,0) -> 38 | P2: =AVERAGEIF(Goalkeeping!A:A,$A2,Goalkeeping!D:D) -> 11.484848 | Q2: =_xlfn.RANK.EQ(P2,P$2:P$49,0) -> 38 | R2: =AVERAGEIF(Mental!A:A,$A2,Mental!D:D) -> 12.461538 | S2: =_xlfn.RANK.EQ(R2,R$2:R$49,0) -> 18 | T2: =AVERAGEIF(Physical!A:A,$A2,Physical!D:D) -> 12.572115 | U2: =_xlfn.RANK.EQ(T2,T$2:T$49,0) -> 32 | V2: =AVERAGEIF(Technical!A:A,$A2,Technical!D:D) -> 10.934783 | W2: =_xlfn.RANK.EQ(V2,V$2:V$49,0) -> 11
A3: AUT | B3: Austria | C3: 26 | D3: =YEARFRAC(AVERAGEIF(Squads!A:A,$A3,Squads!F:F),"11/06/2026", 1) -> 27.022587 | E3: =_xlfn.RANK.EQ(D3,D$2:D$49,0) -> 30 | F3: =AVERAGEIF(Squads!A:A,$A3,Squads!J:J) -> 26.115385 | G3: =_xlfn.RANK.EQ(F3,F$2:F$49,0) -> 35 | H3: =AVERAGEIF(Squads!A:A,$A3,Squads!M:M) -> 184.38462 | I3: =_xlfn.RANK.EQ(H3,H$2:H$49,0) -> 8 | J3: =AVERAGEIF(Squads!A:A,$A3,Squads!N:N) -> 80.576923 | K3: =_xlfn.RANK.EQ(J3,J$2:J$49,0) -> 1 | L3: =AVERAGEIF(Attacking!A:A,$A3,Attacking!D:D) -> 10.969565 | M3: =_xlfn.RANK.EQ(L3,L$2:L$49,0) -> 35 | N3: =AVERAGEIF(Defending!A:A,$A3,Defending!D:D) -> 12.608696 | O3: =_xlfn.RANK.EQ(N3,N$2:N$49,0) -> 9 | P3: =AVERAGEIF(Goalkeeping!A:A,$A3,Goalkeeping!D:D) -> 12.757576 | Q3: =_xlfn.RANK.EQ(P3,P$2:P$49,0) -> 16 | R3: =AVERAGEIF(Mental!A:A,$A3,Mental!D:D) -> 12.565934 | S3: =_xlfn.RANK.EQ(R3,R$2:R$49,0) -> 17 | T3: =AVERAGEIF(Physical!A:A,$A3,Physical!D:D) -> 13.379808 | U3: =_xlfn.RANK.EQ(T3,T$2:T$49,0) -> 9 | V3: =AVERAGEIF(Technical!A:A,$A3,Technical!D:D) -> 10.440994 | W3: =_xlfn.RANK.EQ(V3,V$2:V$49,0) -> 30
A4: USA | B4: United States | C4: 12 | D4: =YEARFRAC(AVERAGEIF(Squads!A:A,$A4,Squads!F:F),"11/06/2026", 1) -> 27.12115 | E4: =_xlfn.RANK.EQ(D4,D$2:D$49,0) -> 28 | F4: =AVERAGEIF(Squads!A:A,$A4,Squads!J:J) -> 32.384615 | G4: =_xlfn.RANK.EQ(F4,F$2:F$49,0) -> 14 | H4: =AVERAGEIF(Squads!A:A,$A4,Squads!M:M) -> 182.03846 | I4: =_xlfn.RANK.EQ(H4,H$2:H$49,0) -> 25 | J4: =AVERAGEIF(Squads!A:A,$A4,Squads!N:N) -> 76.538462 | K4: =_xlfn.RANK.EQ(J4,J$2:J$49,0) -> 15 | L4: =AVERAGEIF(Attacking!A:A,$A4,Attacking!D:D) -> 11.530435 | M4: =_xlfn.RANK.EQ(L4,L$2:L$49,0) -> 20 | N4: =AVERAGEIF(Defending!A:A,$A4,Defending!D:D) -> 12.208696 | O4: =_xlfn.RANK.EQ(N4,N$2:N$49,0) -> 17 | P4: =AVERAGEIF(Goalkeeping!A:A,$A4,Goalkeeping!D:D) -> 12.333333 | Q4: =_xlfn.RANK.EQ(P4,P$2:P$49,0) -> 26 | R4: =AVERAGEIF(Mental!A:A,$A4,Mental!D:D) -> 12.434066 | S4: =_xlfn.RANK.EQ(R4,R$2:R$49,0) -> 21 | T4: =AVERAGEIF(Physical!A:A,$A4,Physical!D:D) -> 13.052885 | U4: =_xlfn.RANK.EQ(T4,T$2:T$49,0) -> 22 | V4: =AVERAGEIF(Technical!A:A,$A4,Technical!D:D) -> 10.689441 | W4: =_xlfn.RANK.EQ(V4,V$2:V$49,0) -> 20
A5: UZB | B5: Uzbekistan | C5: 55 | D5: =YEARFRAC(AVERAGEIF(Squads!A:A,$A5,Squads!F:F),"11/06/2026", 1) -> 26.863792 | E5: =_xlfn.RANK.EQ(D5,D$2:D$49,0) -> 34 | F5: =AVERAGEIF(Squads!A:A,$A5,Squads!J:J) -> 32.961538 | G5: =_xlfn.RANK.EQ(F5,F$2:F$49,0) -> 10 | H5: =AVERAGEIF(Squads!A:A,$A5,Squads!M:M) -> 180.15385 | I5: =_xlfn.RANK.EQ(H5,H$2:H$49,0) -> 38 | J5: =AVERAGEIF(Squads!A:A,$A5,Squads!N:N) -> 73.769231 | K5: =_xlfn.RANK.EQ(J5,J$2:J$49,0) -> 39 | L5: =AVERAGEIF(Attacking!A:A,$A5,Attacking!D:D) -> 10.143478 | M5: =_xlfn.RANK.EQ(L5,L$2:L$49,0) -> 46 | N5: =AVERAGEIF(Defending!A:A,$A5,Defending!D:D) -> 11.065217 | O5: =_xlfn.RANK.EQ(N5,N$2:N$49,0) -> 44 | P5: =AVERAGEIF(Goalkeeping!A:A,$A5,Goalkeeping!D:D) -> 10.666667 | Q5: =_xlfn.RANK.EQ(P5,P$2:P$49,0) -> 45 | R5: =AVERAGEIF(Mental!A:A,$A5,Mental!D:D) -> 11.005495 | S5: =_xlfn.RANK.EQ(R5,R$2:R$49,0) -> 44 | T5: =AVERAGEIF(Physical!A:A,$A5,Physical!D:D) -> 11.620192 | U5: =_xlfn.RANK.EQ(T5,T$2:T$49,0) -> 45 | V5: =AVERAGEIF(Technical!A:A,$A5,Technical!D:D) -> 9.5403727 | W5: =_xlfn.RANK.EQ(V5,V$2:V$49,0) -> 43
A6: BIH | B6: Bosnia & Herzegovina | C6: 54 | D6: =YEARFRAC(AVERAGEIF(Squads!A:A,$A6,Squads!F:F),"11/06/2026", 1) -> 28.392183 | E6: =_xlfn.RANK.EQ(D6,D$2:D$49,0) -> 7 | F6: =AVERAGEIF(Squads!A:A,$A6,Squads!J:J) -> 23.5 | G6: =_xlfn.RANK.EQ(F6,F$2:F$49,0) -> 37 | H6: =AVERAGEIF(Squads!A:A,$A6,Squads!M:M) -> 183.46154 | I6: =_xlfn.RANK.EQ(H6,H$2:H$49,0) -> 13 | J6: =AVERAGEIF(Squads!A:A,$A6,Squads!N:N) -> 75.807692 | K6: =_xlfn.RANK.EQ(J6,J$2:J$49,0) -> 23 | L6: =AVERAGEIF(Attacking!A:A,$A6,Attacking!D:D) -> 11.521739 | M6: =_xlfn.RANK.EQ(L6,L$2:L$49,0) -> 23 | N6: =AVERAGEIF(Defending!A:A,$A6,Defending!D:D) -> 11.830435 | O6: =_xlfn.RANK.EQ(N6,N$2:N$49,0) -> 28 | P6: =AVERAGEIF(Goalkeeping!A:A,$A6,Goalkeeping!D:D) -> 12.242424 | Q6: =_xlfn.RANK.EQ(P6,P$2:P$49,0) -> 29 | R6: =AVERAGEIF(Mental!A:A,$A6,Mental!D:D) -> 12.442308 | S6: =_xlfn.RANK.EQ(R6,R$2:R$49,0) -> 20 | T6: =AVERAGEIF(Physical!A:A,$A6,Physical!D:D) -> 12.586538 | U6: =_xlfn.RANK.EQ(T6,T$2:T$49,0) -> 28 | V6: =AVERAGEIF(Technical!A:A,$A6,Technical!D:D) -> 10.583851 | W6: =_xlfn.RANK.EQ(V6,V$2:V$49,0) -> 22
A7: CAN | B7: Canada | C7: 44 | D7: =YEARFRAC(AVERAGEIF(Squads!A:A,$A7,Squads!F:F),"11/06/2026", 1) -> 27.965068 | E7: =_xlfn.RANK.EQ(D7,D$2:D$49,0) -> 19 | F7: =AVERAGEIF(Squads!A:A,$A7,Squads!J:J) -> 31.538462 | G7: =_xlfn.RANK.EQ(F7,F$2:F$49,0) -> 16 | H7: =AVERAGEIF(Squads!A:A,$A7,Squads!M:M) -> 181.61538 | I7: =_xlfn.RANK.EQ(H7,H$2:H$49,0) -> 30 | J7: =AVERAGEIF(Squads!A:A,$A7,Squads!N:N) -> 76.961538 | K7: =_xlfn.RANK.EQ(J7,J$2:J$49,0) -> 10 | L7: =AVERAGEIF(Attacking!A:A,$A7,Attacking!D:D) -> 10.704348 | M7: =_xlfn.RANK.EQ(L7,L$2:L$49,0) -> 40 | N7: =AVERAGEIF(Defending!A:A,$A7,Defending!D:D) -> 11.786957 | O7: =_xlfn.RANK.EQ(N7,N$2:N$49,0) -> 31 | P7: =AVERAGEIF(Goalkeeping!A:A,$A7,Goalkeeping!D:D) -> 11.757576 | Q7: =_xlfn.RANK.EQ(P7,P$2:P$49,0) -> 34 | R7: =AVERAGEIF(Mental!A:A,$A7,Mental!D:D) -> 11.782967 | S7: =_xlfn.RANK.EQ(R7,R$2:R$49,0) -> 36 | T7: =AVERAGEIF(Physical!A:A,$A7,Physical!D:D) -> 12.586538 | U7: =_xlfn.RANK.EQ(T7,T$2:T$49,0) -> 28 | V7: =AVERAGEIF(Technical!A:A,$A7,Technical!D:D) -> 10.164596 | W7: =_xlfn.RANK.EQ(V7,V$2:V$49,0) -> 36
A8: ECU | B8: Ecuador | C8: 25 | D8: =YEARFRAC(AVERAGEIF(Squads!A:A,$A8,Squads!F:F),"11/06/2026", 1) -> 26.743326 | E8: =_xlfn.RANK.EQ(D8,D$2:D$49,0) -> 36 | F8: =AVERAGEIF(Squads!A:A,$A8,Squads!J:J) -> 30.846154 | G8: =_xlfn.RANK.EQ(F8,F$2:F$49,0) -> 18 | H8: =AVERAGEIF(Squads!A:A,$A8,Squads!M:M) -> 180.96154 | I8: =_xlfn.RANK.EQ(H8,H$2:H$49,0) -> 34 | J8: =AVERAGEIF(Squads!A:A,$A8,Squads!N:N) -> 75.307692 | K8: =_xlfn.RANK.EQ(J8,J$2:J$49,0) -> 27 | L8: =AVERAGEIF(Attacking!A:A,$A8,Attacking!D:D) -> 10.995652 | M8: =_xlfn.RANK.EQ(L8,L$2:L$49,0) -> 33 | N8: =AVERAGEIF(Defending!A:A,$A8,Defending!D:D) -> 12.043478 | O8: =_xlfn.RANK.EQ(N8,N$2:N$49,0) -> 22 | P8: =AVERAGEIF(Goalkeeping!A:A,$A8,Goalkeeping!D:D) -> 12.30303 | Q8: =_xlfn.RANK.EQ(P8,P$2:P$49,0) -> 27 | R8: =AVERAGEIF(Mental!A:A,$A8,Mental!D:D) -> 11.763736 | S8: =_xlfn.RANK.EQ(R8,R$2:R$49,0) -> 40 | T8: =AVERAGEIF(Physical!A:A,$A8,Physical!D:D) -> 13.153846 | U8: =_xlfn.RANK.EQ(T8,T$2:T$49,0) -> 17 | V8: =AVERAGEIF(Technical!A:A,$A8,Technical!D:D) -> 10.34472 | W8: =_xlfn.RANK.EQ(V8,V$2:V$49,0) -> 33
A9: EGY | B9: Egypt | C9: 37 | D9: =YEARFRAC(AVERAGEIF(Squads!A:A,$A9,Squads!F:F),"11/06/2026", 1) -> 29.288126 | E9: =_xlfn.RANK.EQ(D9,D$2:D$49,0) -> 2 | F9: =AVERAGEIF(Squads!A:A,$A9,Squads!J:J) -> 35.269231 | G9: =_xlfn.RANK.EQ(F9,F$2:F$49,0) -> 4 | H9: =AVERAGEIF(Squads!A:A,$A9,Squads!M:M) -> 179.5 | I9: =_xlfn.RANK.EQ(H9,H$2:H$49,0) -> 44 | J9: =AVERAGEIF(Squads!A:A,$A9,Squads!N:N) -> 73.653846 | K9: =_xlfn.RANK.EQ(J9,J$2:J$49,0) -> 41 | L9: =AVERAGEIF(Attacking!A:A,$A9,Attacking!D:D) -> 11.065217 | M9: =_xlfn.RANK.EQ(L9,L$2:L$49,0) -> 31 | N9: =AVERAGEIF(Defending!A:A,$A9,Defending!D:D) -> 11.573913 | O9: =_xlfn.RANK.EQ(N9,N$2:N$49,0) -> 35 | P9: =AVERAGEIF(Goalkeeping!A:A,$A9,Goalkeeping!D:D) -> 11.848485 | Q9: =_xlfn.RANK.EQ(P9,P$2:P$49,0) -> 31 | R9: =AVERAGEIF(Mental!A:A,$A9,Mental!D:D) -> 11.837912 | S9: =_xlfn.RANK.EQ(R9,R$2:R$49,0) -> 35 | T9: =AVERAGEIF(Physical!A:A,$A9,Physical!D:D) -> 12.177885 | U9: =_xlfn.RANK.EQ(T9,T$2:T$49,0) -> 39 | V9: =AVERAGEIF(Technical!A:A,$A9,Technical!D:D) -> 10.481366 | W9: =_xlfn.RANK.EQ(V9,V$2:V$49,0) -> 28
A10: ALB | B10: Albania | C10: 57 | D10: =YEARFRAC(AVERAGEIF(Squads!A:A,$A10,Squads!F:F),"11/06/2026", 1) -> 27.04449 | E10: =_xlfn.RANK.EQ(D10,D$2:D$49,0) -> 29 | F10: =AVERAGEIF(Squads!A:A,$A10,Squads!J:J) -> 27.615385 | G10: =_xlfn.RANK.EQ(F10,F$2:F$49,0) -> 26 | H10: =AVERAGEIF(Squads!A:A,$A10,Squads!M:M) -> 182.61538 | I10: =_xlfn.RANK.EQ(H10,H$2:H$49,0) -> 20 | J10: =AVERAGEIF(Squads!A:A,$A10,Squads!N:N) -> 74.884615 | K10: =_xlfn.RANK.EQ(J10,J$2:J$49,0) -> 32 | L10: =AVERAGEIF(Attacking!A:A,$A10,Attacking!D:D) -> 10.917391 | M10: =_xlfn.RANK.EQ(L10,L$2:L$49,0) -> 37 | N10: =AVERAGEIF(Defending!A:A,$A10,Defending!D:D) -> 11.521739 | O10: =_xlfn.RANK.EQ(N10,N$2:N$49,0) -> 37 | P10: =AVERAGEIF(Goalkeeping!A:A,$A10,Goalkeeping!D:D) -> 11.757576 | Q10: =_xlfn.RANK.EQ(P10,P$2:P$49,0) -> 34 | R10: =AVERAGEIF(Mental!A:A,$A10,Mental!D:D) -> 11.782967 | S10: =_xlfn.RANK.EQ(R10,R$2:R$49,0) -> 36 | T10: =AVERAGEIF(Physical!A:A,$A10,Physical!D:D) -> 12.576923 | U10: =_xlfn.RANK.EQ(T10,T$2:T$49,0) -> 30 | V10: =AVERAGEIF(Technical!A:A,$A10,Technical!D:D) -> 10.13354 | W10: =_xlfn.RANK.EQ(V10,V$2:V$49,0) -> 38
A11: IRN | B11: Iran | C11: 43 | D11: =YEARFRAC(AVERAGEIF(Squads!A:A,$A11,Squads!F:F),"11/06/2026", 1) -> 28.233384 | E11: =_xlfn.RANK.EQ(D11,D$2:D$49,0) -> 11 | F11: =AVERAGEIF(Squads!A:A,$A11,Squads!J:J) -> 34.461538 | G11: =_xlfn.RANK.EQ(F11,F$2:F$49,0) -> 6 | H11: =AVERAGEIF(Squads!A:A,$A11,Squads!M:M) -> 185.42308 | I11: =_xlfn.RANK.EQ(H11,H$2:H$49,0) -> 4 | J11: =AVERAGEIF(Squads!A:A,$A11,Squads!N:N) -> 78.769231 | K11: =_xlfn.RANK.EQ(J11,J$2:J$49,0) -> 5 | L11: =AVERAGEIF(Attacking!A:A,$A11,Attacking!D:D) -> 10.234783 | M11: =_xlfn.RANK.EQ(L11,L$2:L$49,0) -> 44 | N11: =AVERAGEIF(Defending!A:A,$A11,Defending!D:D) -> 11.086957 | O11: =_xlfn.RANK.EQ(N11,N$2:N$49,0) -> 43 | P11: =AVERAGEIF(Goalkeeping!A:A,$A11,Goalkeeping!D:D) -> 13.181818 | Q11: =_xlfn.RANK.EQ(P11,P$2:P$49,0) -> 8 | R11: =AVERAGEIF(Mental!A:A,$A11,Mental!D:D) -> 11.326923 | S11: =_xlfn.RANK.EQ(R11,R$2:R$49,0) -> 42 | T11: =AVERAGEIF(Physical!A:A,$A11,Physical!D:D) -> 11.783654 | U11: =_xlfn.RANK.EQ(T11,T$2:T$49,0) -> 43 | V11: =AVERAGEIF(Technical!A:A,$A11,Technical!D:D) -> 9.484472 | W11: =_xlfn.RANK.EQ(V11,V$2:V$49,0) -> 44
A12: CIV | B12: Ivory Coast | C12: 23 | D12: =YEARFRAC(AVERAGEIF(Squads!A:A,$A12,Squads!F:F),"11/06/2026", 1) -> 26.093794 | E12: =_xlfn.RANK.EQ(D12,D$2:D$49,0) -> 47 | F12: =AVERAGEIF(Squads!A:A,$A12,Squads!J:J) -> 22.384615 | G12: =_xlfn.RANK.EQ(F12,F$2:F$49,0) -> 42 | H12: =AVERAGEIF(Squads!A:A,$A12,Squads!M:M) -> 183.42308 | I12: =_xlfn.RANK.EQ(H12,H$2:H$49,0) -> 14 | J12: =AVERAGEIF(Squads!A:A,$A12,Squads!N:N) -> 78.615385 | K12: =_xlfn.RANK.EQ(J12,J$2:J$49,0) -> 6 | L12: =AVERAGEIF(Attacking!A:A,$A12,Attacking!D:D) -> 11.721739 | M12: =_xlfn.RANK.EQ(L12,L$2:L$49,0) -> 15 | N12: =AVERAGEIF(Defending!A:A,$A12,Defending!D:D) -> 12.86087 | O12: =_xlfn.RANK.EQ(N12,N$2:N$49,0) -> 2 | P12: =AVERAGEIF(Goalkeeping!A:A,$A12,Goalkeeping!D:D) -> 12.454545 | Q12: =_xlfn.RANK.EQ(P12,P$2:P$49,0) -> 24 | R12: =AVERAGEIF(Mental!A:A,$A12,Mental!D:D) -> 12.629121 | S12: =_xlfn.RANK.EQ(R12,R$2:R$49,0) -> 16 | T12: =AVERAGEIF(Physical!A:A,$A12,Physical!D:D) -> 13.860577 | U12: =_xlfn.RANK.EQ(T12,T$2:T$49,0) -> 2 | V12: =AVERAGEIF(Technical!A:A,$A12,Technical!D:D) -> 10.804348 | W12: =_xlfn.RANK.EQ(V12,V$2:V$49,0) -> 14
A13: MEX | B13: Mexico | C13: 24 | D13: =YEARFRAC(AVERAGEIF(Squads!A:A,$A13,Squads!F:F),"11/06/2026", 1) -> 27.691276 | E13: =_xlfn.RANK.EQ(D13,D$2:D$49,0) -> 22 | F13: =AVERAGEIF(Squads!A:A,$A13,Squads!J:J) -> 34.307692 | G13: =_xlfn.RANK.EQ(F13,F$2:F$49,0) -> 7 | H13: =AVERAGEIF(Squads!A:A,$A13,Squads!M:M) -> 178.19231 | I13: =_xlfn.RANK.EQ(H13,H$2:H$49,0) -> 47 | J13: =AVERAGEIF(Squads!A:A,$A13,Squads!N:N) -> 71.538462 | K13: =_xlfn.RANK.EQ(J13,J$2:J$49,0) -> 47 | L13: =AVERAGEIF(Attacking!A:A,$A13,Attacking!D:D) -> 11.83913 | M13: =_xlfn.RANK.EQ(L13,L$2:L$49,0) -> 10 | N13: =AVERAGEIF(Defending!A:A,$A13,Defending!D:D) -> 11.852174 | O13: =_xlfn.RANK.EQ(N13,N$2:N$49,0) -> 26 | P13: =AVERAGEIF(Goalkeeping!A:A,$A13,Goalkeeping!D:D) -> 12.666667 | Q13: =_xlfn.RANK.EQ(P13,P$2:P$49,0) -> 20 | R13: =AVERAGEIF(Mental!A:A,$A13,Mental!D:D) -> 12.291209 | S13: =_xlfn.RANK.EQ(R13,R$2:R$49,0) -> 22 | T13: =AVERAGEIF(Physical!A:A,$A13,Physical!D:D) -> 12.75 | U13: =_xlfn.RANK.EQ(T13,T$2:T$49,0) -> 25 | V13: =AVERAGEIF(Technical!A:A,$A13,Technical!D:D) -> 11.021739 | W13: =_xlfn.RANK.EQ(V13,V$2:V$49,0) -> 8
... A49: THA | B49: Thailand | C49: 80 | D49: =YEARFRAC(AVERAGEIF(Squads!A:A,$A49,Squads!F:F),"11/06/2026", 1) -> 26.181403 | E49: =_xlfn.RANK.EQ(D49,D$2:D$49,0) -> 44 | F49: =AVERAGEIF(Squads!A:A,$A49,Squads!J:J) -> 27.423077 | G49: =_xlfn.RANK.EQ(F49,F$2:F$49,0) -> 28 | H49: =AVERAGEIF(Squads!A:A,$A49,Squads!M:M) -> 179.5 | I49: =_xlfn.RANK.EQ(H49,H$2:H$49,0) -> 44 | J49: =AVERAGEIF(Squads!A:A,$A49,Squads!N:N) -> 69.884615 | K49: =_xlfn.RANK.EQ(J49,J$2:J$49,0) -> 48 | L49: =AVERAGEIF(Attacking!A:A,$A49,Attacking!D:D) -> 10.052174 | M49: =_xlfn.RANK.EQ(L49,L$2:L$49,0) -> 47 | N49: =AVERAGEIF(Defending!A:A,$A49,Defending!D:D) -> 10.543478 | O49: =_xlfn.RANK.EQ(N49,N$2:N$49,0) -> 46 | P49: =AVERAGEIF(Goalkeeping!A:A,$A49,Goalkeeping!D:D) -> 10.939394 | Q49: =_xlfn.RANK.EQ(P49,P$2:P$49,0) -> 42 | R49: =AVERAGEIF(Mental!A:A,$A49,Mental!D:D) -> 10.884615 | S49: =_xlfn.RANK.EQ(R49,R$2:R$49,0) -> 45 | T49: =AVERAGEIF(Physical!A:A,$A49,Physical!D:D) -> 11.322115 | U49: =_xlfn.RANK.EQ(T49,T$2:T$49,0) -> 46 | V49: =AVERAGEIF(Technical!A:A,$A49,Technical!D:D) -> 8.9503106 | W49: =_xlfn.RANK.EQ(V49,V$2:V$49,0) -> 47

Sheet Births and Based
A1: NoB | B1: Nation of Birth | C1: Total | D1: Squad | F1: Based | G1: Nation Based In | H1: Total | I1: Squad | K1: Based | L1: Club Based In | M1: Total
A2: ENG | B2: England | C2: =COUNTIF(Squads!$E:$E,$A2) -> 84 | D2: =COUNTIFS(Squads!$E:$E,$A2,Squads!$A:$A,$A2) -> 26 | F2: ENG | G2: England | H2: =COUNTIF(Squads!$H:$H,$F2) -> 236 | I2: =COUNTIFS(Squads!$H:$H,$F2,Squads!$A:$A,$F2) -> 22 | K2: GER | L2: Borussia Dortmund | M2: =COUNTIFS(Squads!$H:$H,$K2,Squads!$I:$I,$L2) -> 17
A3: FRA | B3: France | C3: =COUNTIF(Squads!$E:$E,$A3) -> 75 | D3: N/A | F3: GER | G3: Germany | H3: =COUNTIF(Squads!H:H,$F3) -> 122 | I3: =COUNTIFS(Squads!$H:$H,$F3,Squads!$A:$A,$F3) -> 18 | K3: ENG | L3: Arsenal | M3: =COUNTIFS(Squads!$H:$H,$K3,Squads!$I:$I,$L3) -> 16
A4: NED | B4: Netherlands | C4: =COUNTIF(Squads!$E:$E,$A4) -> 69 | D4: =COUNTIFS(Squads!$E:$E,$A4,Squads!$A:$A,$A4) -> 26 | F4: ITA | G4: Italy | H4: =COUNTIF(Squads!H:H,$F4) -> 112 | I4: =COUNTIFS(Squads!$H:$H,$F4,Squads!$A:$A,$F4) -> 19 | K4: ENG | L4: Brentford | M4: =COUNTIFS(Squads!$H:$H,$K4,Squads!$I:$I,$L4) -> 16
A5: GER | B5: Germany | C5: =COUNTIF(Squads!$E:$E,$A5) -> 53 | D5: =COUNTIFS(Squads!$E:$E,$A5,Squads!$A:$A,$A5) -> 25 | F5: FRA | G5: France | H5: =COUNTIF(Squads!H:H,$F5) -> 78 | I5: N/A | K5: GER | L5: FC Bayern | M5: =COUNTIFS(Squads!$H:$H,$K5,Squads!$I:$I,$L5) -> 15
A6: ARG | B6: Argentina | C6: =COUNTIF(Squads!$E:$E,$A6) -> 45 | D6: =COUNTIFS(Squads!$E:$E,$A6,Squads!$A:$A,$A6) -> 26 | F6: ESP | G6: Spain | H6: =COUNTIF(Squads!H:H,$F6) -> 74 | I6: =COUNTIFS(Squads!$H:$H,$F6,Squads!$A:$A,$F6) -> 11 | K6: ENG | L6: Chelsea | M6: =COUNTIFS(Squads!$H:$H,$K6,Squads!$I:$I,$L6) -> 14
A7: BRA | B7: Brazil | C7: =COUNTIF(Squads!$E:$E,$A7) -> 39 | D7: =COUNTIFS(Squads!$E:$E,$A7,Squads!$A:$A,$A7) -> 26 | F7: NED | G7: Netherlands | H7: =COUNTIF(Squads!H:H,$F7) -> 52 | I7: =COUNTIFS(Squads!$H:$H,$F7,Squads!$A:$A,$F7) -> 8 | K7: ENG | L7: Tottenham | M7: =COUNTIFS(Squads!$H:$H,$K7,Squads!$I:$I,$L7) -> 14
A8: ITA | B8: Italy | C8: =COUNTIF(Squads!$E:$E,$A8) -> 37 | D8: =COUNTIFS(Squads!$E:$E,$A8,Squads!$A:$A,$A8) -> 21 | F8: KSA | G8: Saudi Arabia | H8: =COUNTIF(Squads!H:H,$F8) -> 47 | I8: =COUNTIFS(Squads!$H:$H,$F8,Squads!$A:$A,$F8) -> 21 | K8: ENG | L8: Man Utd | M8: =COUNTIFS(Squads!$H:$H,$K8,Squads!$I:$I,$L8) -> 13
A9: AUT | B9: Austria | C9: =COUNTIF(Squads!$E:$E,$A9) -> 31 | D9: =COUNTIFS(Squads!$E:$E,$A9,Squads!$A:$A,$A9) -> 25 | F9: USA | G9: United States | H9: =COUNTIF(Squads!H:H,$F9) -> 38 | I9: =COUNTIFS(Squads!$H:$H,$F9,Squads!$A:$A,$F9) -> 8 | K9: ENG | L9: Newcastle | M9: =COUNTIFS(Squads!$H:$H,$K9,Squads!$I:$I,$L9) -> 13
A10: ESP | B10: Spain | C10: =COUNTIF(Squads!$E:$E,$A10) -> 31 | D10: =COUNTIFS(Squads!$E:$E,$A10,Squads!$A:$A,$A10) -> 19 | F10: TUR | G10: Türkiye | H10: =COUNTIF(Squads!H:H,$F10) -> 37 | I10: =COUNTIFS(Squads!$H:$H,$F10,Squads!$A:$A,$F10) -> 9 | K10: ESP | L10: Barcelona | M10: =COUNTIFS(Squads!$H:$H,$K10,Squads!$I:$I,$L10) -> 13
A11: CRO | B11: Croatia | C11: =COUNTIF(Squads!$E:$E,$A11) -> 29 | D11: =COUNTIFS(Squads!$E:$E,$A11,Squads!$A:$A,$A11) -> 26 | F11: MEX | G11: Mexico | H11: =COUNTIF(Squads!H:H,$F11) -> 35 | I11: =COUNTIFS(Squads!$H:$H,$F11,Squads!$A:$A,$F11) -> 13 | K11: ITA | L11: Juventus | M11: =COUNTIFS(Squads!$H:$H,$K11,Squads!$I:$I,$L11) -> 13
A12: COL | B12: Colombia | C12: =COUNTIF(Squads!$E:$E,$A12) -> 28 | D12: =COUNTIFS(Squads!$E:$E,$A12,Squads!$A:$A,$A12) -> 25 | F12: POR | G12: Portugal | H12: =COUNTIF(Squads!H:H,$F12) -> 35 | I12: N/A | K12: ENG | L12: Aston Villa | M12: =COUNTIFS(Squads!$H:$H,$K12,Squads!$I:$I,$L12) -> 12
A13: DEN | B13: Denmark | C13: =COUNTIF(Squads!$E:$E,$A13) -> 27 | D13: =COUNTIFS(Squads!$E:$E,$A13,Squads!$A:$A,$A13) -> 26 | F13: BRA | G13: Brazil | H13: =COUNTIF(Squads!H:H,$F13) -> 27 | I13: =COUNTIFS(Squads!$H:$H,$F13,Squads!$A:$A,$F13) -> 3 | K13: ENG | L13: Brighton | M13: =COUNTIFS(Squads!$H:$H,$K13,Squads!$I:$I,$L13) -> 12
A14: KSA | B14: Saudi Arabia | C14: =COUNTIF(Squads!$E:$E,$A14) -> 27 | D14: =COUNTIFS(Squads!$E:$E,$A14,Squads!$A:$A,$A14) -> 26 | F14: JOR | G14: Jordan | H14: =COUNTIF(Squads!H:H,$F14) -> 19 | I14: =COUNTIFS(Squads!$H:$H,$F14,Squads!$A:$A,$F14) -> 19 | K14: ENG | L14: Liverpool | M14: =COUNTIFS(Squads!$H:$H,$K14,Squads!$I:$I,$L14) -> 12
A15: CRC | B15: Costa Rica | C15: =COUNTIF(Squads!$E:$E,$A15) -> 26 | D15: =COUNTIFS(Squads!$E:$E,$A15,Squads!$A:$A,$A15) -> 26 | F15: THA | G15: Thailand | H15: =COUNTIF(Squads!H:H,$F15) -> 19 | I15: =COUNTIFS(Squads!$H:$H,$F15,Squads!$A:$A,$F15) -> 19 | K15: ENG | L15: Man City | M15: =COUNTIFS(Squads!$H:$H,$K15,Squads!$I:$I,$L15) -> 12
A16: EGY | B16: Egypt | C16: =COUNTIF(Squads!$E:$E,$A16) -> 26 | D16: =COUNTIFS(Squads!$E:$E,$A16,Squads!$A:$A,$A16) -> 25 | F16: BEL | G16: Belgium | H16: =COUNTIF(Squads!H:H,$F16) -> 18 | I16: N/A | K16: ESP | L16: Real Madrid | M16: =COUNTIFS(Squads!$H:$H,$K16,Squads!$I:$I,$L16) -> 12
A17: IRN | B17: Iran | C17: =COUNTIF(Squads!$E:$E,$A17) -> 26 | D17: =COUNTIFS(Squads!$E:$E,$A17,Squads!$A:$A,$A17) -> 26 | F17: EGY | G17: Egypt | H17: =COUNTIF(Squads!H:H,$F17) -> 18 | I17: =COUNTIFS(Squads!$H:$H,$F17,Squads!$A:$A,$F17) -> 17 | K17: FRA | L17: PSG | M17: =COUNTIFS(Squads!$H:$H,$K17,Squads!$I:$I,$L17) -> 12
A18: JPN | B18: Japan | C18: =COUNTIF(Squads!$E:$E,$A18) -> 26 | D18: =COUNTIFS(Squads!$E:$E,$A18,Squads!$A:$A,$A18) -> 25 | F18: AUS | G18: Australia | H18: =COUNTIF(Squads!H:H,$F18) -> 17 | I18: =COUNTIFS(Squads!$H:$H,$F18,Squads!$A:$A,$F18) -> 7 | K18: NED | L18: Ajax | M18: =COUNTIFS(Squads!$H:$H,$K18,Squads!$I:$I,$L18) -> 12
A19: KOR | B19: South Korea | C19: =COUNTIF(Squads!$E:$E,$A19) -> 26 | D19: =COUNTIFS(Squads!$E:$E,$A19,Squads!$A:$A,$A19) -> 25 | F19: AUT | G19: Austria | H19: =COUNTIF(Squads!H:H,$F19) -> 17 | I19: =COUNTIFS(Squads!$H:$H,$F19,Squads!$A:$A,$F19) -> 8 | K19: ITA | L19: Inter | M19: =COUNTIFS(Squads!$H:$H,$K19,Squads!$I:$I,$L19) -> 11
A20: NOR | B20: Norway | C20: =COUNTIF(Squads!$E:$E,$A20) -> 26 | D20: =COUNTIFS(Squads!$E:$E,$A20,Squads!$A:$A,$A20) -> 24 | F20: SCO | G20: Scotland | H20: =COUNTIF(Squads!H:H,$F20) -> 17 | I20: N/A | K20: ITA | L20: Napoli | M20: =COUNTIFS(Squads!$H:$H,$K20,Squads!$I:$I,$L20) -> 11
A21: UZB | B21: Uzbekistan | C21: =COUNTIF(Squads!$E:$E,$A21) -> 26 | D21: =COUNTIFS(Squads!$E:$E,$A21,Squads!$A:$A,$A21) -> 26 | F21: IRN | G21: Iran | H21: =COUNTIF(Squads!H:H,$F21) -> 16 | I21: =COUNTIFS(Squads!$H:$H,$F21,Squads!$A:$A,$F21) -> 14 | K21: POR | L21: FC Porto | M21: =COUNTIFS(Squads!$H:$H,$K21,Squads!$I:$I,$L21) -> 10
A22: JOR | B22: Jordan | C22: =COUNTIF(Squads!$E:$E,$A22) -> 25 | D22: =COUNTIFS(Squads!$E:$E,$A22,Squads!$A:$A,$A22) -> 25 | F22: CRC | G22: Costa Rica | H22: =COUNTIF(Squads!H:H,$F22) -> 14 | I22: =COUNTIFS(Squads!$H:$H,$F22,Squads!$A:$A,$F22) -> 14 | K22: ENG | L22: West Ham | M22: =COUNTIFS(Squads!$H:$H,$K22,Squads!$I:$I,$L22) -> 9
A23: SVK | B23: Slovakia | C23: =COUNTIF(Squads!$E:$E,$A23) -> 25 | D23: =COUNTIFS(Squads!$E:$E,$A23,Squads!$A:$A,$A23) -> 25 | F23: JPN | G23: Japan | H23: =COUNTIF(Squads!H:H,$F23) -> 13 | I23: =COUNTIFS(Squads!$H:$H,$F23,Squads!$A:$A,$F23) -> 5 | K23: GER | L23: RB Leipzig | M23: =COUNTIFS(Squads!$H:$H,$K23,Squads!$I:$I,$L23) -> 9
A24: USA | B24: United States | C24: =COUNTIF(Squads!$E:$E,$A24) -> 25 | D24: =COUNTIFS(Squads!$E:$E,$A24,Squads!$A:$A,$A24) -> 14 | F24: RUS | G24: Russia | H24: =COUNTIF(Squads!H:H,$F24) -> 12 | I24: N/A | K24: GER | L24: Stuttgart | M24: =COUNTIFS(Squads!$H:$H,$K24,Squads!$I:$I,$L24) -> 9
A25: ECU | B25: Ecuador | C25: =COUNTIF(Squads!$E:$E,$A25) -> 24 | D25: =COUNTIFS(Squads!$E:$E,$A25,Squads!$A:$A,$A25) -> 24 | F25: UKR | G25: Ukraine | H25: =COUNTIF(Squads!H:H,$F25) -> 12 | I25: =COUNTIFS(Squads!$H:$H,$F25,Squads!$A:$A,$F25) -> 11 | K25: ITA | L25: Lazio | M25: =COUNTIFS(Squads!$H:$H,$K25,Squads!$I:$I,$L25) -> 9
A26: UKR | B26: Ukraine | C26: =COUNTIF(Squads!$E:$E,$A26) -> 24 | D26: =COUNTIFS(Squads!$E:$E,$A26,Squads!$A:$A,$A26) -> 24 | F26: ARG | G26: Argentina | H26: =COUNTIF(Squads!H:H,$F26) -> 11 | I26: =COUNTIFS(Squads!$H:$H,$F26,Squads!$A:$A,$F26) -> 2 | K26: ITA | L26: Milan | M26: =COUNTIFS(Squads!$H:$H,$K26,Squads!$I:$I,$L26) -> 9
A27: URU | B27: Uruguay | C27: =COUNTIF(Squads!$E:$E,$A27) -> 24 | D27: =COUNTIFS(Squads!$E:$E,$A27,Squads!$A:$A,$A27) -> 24 | F27: CRO | G27: Croatia | H27: =COUNTIF(Squads!H:H,$F27) -> 11 | I27: =COUNTIFS(Squads!$H:$H,$F27,Squads!$A:$A,$F27) -> 5 | K27: NED | L27: AZ | M27: =COUNTIFS(Squads!$H:$H,$K27,Squads!$I:$I,$L27) -> 9
A28: AUS | B28: Australia | C28: =COUNTIF(Squads!$E:$E,$A28) -> 21 | D28: =COUNTIFS(Squads!$E:$E,$A28,Squads!$A:$A,$A28) -> 19 | F28: DEN | G28: Denmark | H28: =COUNTIF(Squads!H:H,$F28) -> 11 | I28: =COUNTIFS(Squads!$H:$H,$F28,Squads!$A:$A,$F28) -> 1 | K28: NED | L28: Feyenoord | M28: =COUNTIFS(Squads!$H:$H,$K28,Squads!$I:$I,$L28) -> 9
A29: CHI | B29: Chile | C29: =COUNTIF(Squads!$E:$E,$A29) -> 21 | D29: =COUNTIFS(Squads!$E:$E,$A29,Squads!$A:$A,$A29) -> 21 | F29: UZB | G29: Uzbekistan | H29: =COUNTIF(Squads!H:H,$F29) -> 11 | I29: =COUNTIFS(Squads!$H:$H,$F29,Squads!$A:$A,$F29) -> 11 | K29: NED | L29: PSV | M29: =COUNTIFS(Squads!$H:$H,$K29,Squads!$I:$I,$L29) -> 9
A30: MEX | B30: Mexico | C30: =COUNTIF(Squads!$E:$E,$A30) -> 21 | D30: =COUNTIFS(Squads!$E:$E,$A30,Squads!$A:$A,$A30) -> 21 | F30: GRE | G30: Greece | H30: =COUNTIF(Squads!H:H,$F30) -> 10 | I30: N/A | K30: AUT | L30: RB Salzburg | M30: =COUNTIFS(Squads!$H:$H,$K30,Squads!$I:$I,$L30) -> 8
A31: POL | B31: Poland | C31: =COUNTIF(Squads!$E:$E,$A31) -> 20 | D31: =COUNTIFS(Squads!$E:$E,$A31,Squads!$A:$A,$A31) -> 20 | F31: KOR | G31: South Korea | H31: =COUNTIF(Squads!H:H,$F31) -> 10 | I31: =COUNTIFS(Squads!$H:$H,$F31,Squads!$A:$A,$F31) -> 8 | K31: ENG | L31: Crystal Palace | M31: =COUNTIFS(Squads!$H:$H,$K31,Squads!$I:$I,$L31) -> 8
A32: THA | B32: Thailand | C32: =COUNTIF(Squads!$E:$E,$A32) -> 19 | D32: =COUNTIFS(Squads!$E:$E,$A32,Squads!$A:$A,$A32) -> 19 | F32: NOR | G32: Norway | H32: =COUNTIF(Squads!H:H,$F32) -> 9 | I32: =COUNTIFS(Squads!$H:$H,$F32,Squads!$A:$A,$F32) -> 5 | K32: GER | L32: Wolfsburg | M32: =COUNTIFS(Squads!$H:$H,$K32,Squads!$I:$I,$L32) -> 8
A33: NZL | B33: New Zealand | C33: =COUNTIF(Squads!$E:$E,$A33) -> 17 | D33: =COUNTIFS(Squads!$E:$E,$A33,Squads!$A:$A,$A33) -> 17 | F33: QAT | G33: Qatar | H33: =COUNTIF(Squads!H:H,$F33) -> 9 | I33: N/A | K33: JOR | L33: Al-Wehdat | M33: =COUNTIFS(Squads!$H:$H,$K33,Squads!$I:$I,$L33) -> 8
A34: PAR | B34: Paraguay | C34: =COUNTIF(Squads!$E:$E,$A34) -> 17 | D34: =COUNTIFS(Squads!$E:$E,$A34,Squads!$A:$A,$A34) -> 17 | F34: UAE | G34: United Arab Emirates | H34: =COUNTIF(Squads!H:H,$F34) -> 8 | I34: N/A | K34: KSA | L34: Al-Ittihad | M34: =COUNTIFS(Squads!$H:$H,$K34,Squads!$I:$I,$L34) -> 8
A35: MLI | B35: Mali | C35: =COUNTIF(Squads!$E:$E,$A35) -> 15 | D35: =COUNTIFS(Squads!$E:$E,$A35,Squads!$A:$A,$A35) -> 15 | F35: CZE | G35: Czechia | H35: =COUNTIF(Squads!H:H,$F35) -> 6 | I35: N/A | K35: KSA | L35: Al-Nassr (KSA) | M35: =COUNTIFS(Squads!$H:$H,$K35,Squads!$I:$I,$L35) -> 8
A36: TUR | B36: Türkiye | C36: =COUNTIF(Squads!$E:$E,$A36) -> 15 | D36: =COUNTIFS(Squads!$E:$E,$A36,Squads!$A:$A,$A36) -> 15 | F36: SUI | G36: Switzerland | H36: =COUNTIF(Squads!H:H,$F36) -> 6 | I36: N/A | K36: MEX | L36: América | M36: =COUNTIFS(Squads!$H:$H,$K36,Squads!$I:$I,$L36) -> 8
A37: BIH | B37: Bosnia & Herzegovina | C37: =COUNTIF(Squads!$E:$E,$A37) -> 14 | D37: =COUNTIFS(Squads!$E:$E,$A37,Squads!$A:$A,$A37) -> 14 | F37: TUN | G37: Tunisia | H37: =COUNTIF(Squads!H:H,$F37) -> 6 | I37: =COUNTIFS(Squads!$H:$H,$F37,Squads!$A:$A,$F37) -> 6 | K37: POR | L37: SL Benfica | M37: =COUNTIFS(Squads!$H:$H,$K37,Squads!$I:$I,$L37) -> 8
A38: IRL | B38: Republic of Ireland | C38: =COUNTIF(Squads!$E:$E,$A38) -> 14 | D38: =COUNTIFS(Squads!$E:$E,$A38,Squads!$A:$A,$A38) -> 14 | F38: CHI | G38: Chile | H38: =COUNTIF(Squads!H:H,$F38) -> 5 | I38: =COUNTIFS(Squads!$H:$H,$F38,Squads!$A:$A,$F38) -> 5 | K38: TUR | L38: Fenerbahçe | M38: =COUNTIFS(Squads!$H:$H,$K38,Squads!$I:$I,$L38) -> 8
A39: BEL | B39: Belgium | C39: =COUNTIF(Squads!$E:$E,$A39) -> 13 | D39: N/A | F39: ECU | G39: Ecuador | H39: =COUNTIF(Squads!H:H,$F39) -> 5 | I39: =COUNTIFS(Squads!$H:$H,$F39,Squads!$A:$A,$F39) -> 5 | K39: TUR | L39: Galatasaray | M39: =COUNTIFS(Squads!$H:$H,$K39,Squads!$I:$I,$L39) -> 8
A40: CAN | B40: Canada | C40: =COUNTIF(Squads!$E:$E,$A40) -> 13 | D40: =COUNTIFS(Squads!$E:$E,$A40,Squads!$A:$A,$A40) -> 11 | F40: SVK | G40: Slovakia | H40: =COUNTIF(Squads!H:H,$F40) -> 5 | I40: =COUNTIFS(Squads!$H:$H,$F40,Squads!$A:$A,$F40) -> 3 | K40: UKR | L40: Shakhtar | M40: =COUNTIFS(Squads!$H:$H,$K40,Squads!$I:$I,$L40) -> 8
...

Sheet Attribute Rank GK
A1: NATION | B1: Name | C1: Aer | E1: Cmd | G1: Com | I1: Ecc | K1: Han | M1: Kic | O1: 1v1 | Q1: Ref | S1: TRO | U1: Pun | W1: Thr
A2: ALG | B2: Algeria | C2: =AVERAGEIF(Goalkeeping!$A:$A,$A2,Goalkeeping!E:E) -> 12 | D2: =_xlfn.RANK.EQ(C2,C$2:C$49,0) -> 42 | E2: =AVERAGEIF(Goalkeeping!$A:$A,$A2,Goalkeeping!F:F) -> 12.333333 | F2: =_xlfn.RANK.EQ(E2,E$2:E$49,0) -> 26 | G2: =AVERAGEIF(Goalkeeping!$A:$A,$A2,Goalkeeping!G:G) -> 12.333333 | H2: =_xlfn.RANK.EQ(G2,G$2:G$49,0) -> 21 | I2: =AVERAGEIF(Goalkeeping!$A:$A,$A2,Goalkeeping!H:H) -> 8.6666667 | J2: =_xlfn.RANK.EQ(I2,I$2:I$49,0) -> 23 | K2: =AVERAGEIF(Goalkeeping!$A:$A,$A2,Goalkeeping!I:I) -> 13.333333 | L2: =_xlfn.RANK.EQ(K2,K$2:K$49,0) -> 17 | M2: =AVERAGEIF(Goalkeeping!$A:$A,$A2,Goalkeeping!J:J) -> 13.666667 | N2: =_xlfn.RANK.EQ(M2,M$2:M$49,0) -> 11 | O2: =AVERAGEIF(Goalkeeping!$A:$A,$A2,Goalkeeping!K:K) -> 12.333333 | P2: =_xlfn.RANK.EQ(O2,O$2:O$49,0) -> 38 | Q2: =AVERAGEIF(Goalkeeping!$A:$A,$A2,Goalkeeping!L:L) -> 13.666667 | R2: =_xlfn.RANK.EQ(Q2,Q$2:Q$49,0) -> 33 | S2: =AVERAGEIF(Goalkeeping!$A:$A,$A2,Goalkeeping!M:M) -> 8.6666667 | T2: =_xlfn.RANK.EQ(S2,S$2:S$49,0) -> 46 | U2: =AVERAGEIF(Goalkeeping!$A:$A,$A2,Goalkeeping!N:N) -> 9 | V2: =_xlfn.RANK.EQ(U2,U$2:U$49,0) -> 37 | W2: =AVERAGEIF(Goalkeeping!$A:$A,$A2,Goalkeeping!O:O) -> 10.333333 | X2: =_xlfn.RANK.EQ(W2,W$2:W$49,0) -> 44
A3: AUT | B3: Austria | C3: =AVERAGEIF(Goalkeeping!$A:$A,$A3,Goalkeeping!E:E) -> 14 | D3: =_xlfn.RANK.EQ(C3,C$2:C$49,0) -> 21 | E3: =AVERAGEIF(Goalkeeping!$A:$A,$A3,Goalkeeping!F:F) -> 14.666667 | F3: =_xlfn.RANK.EQ(E3,E$2:E$49,0) -> 4 | G3: =AVERAGEIF(Goalkeeping!$A:$A,$A3,Goalkeeping!G:G) -> 13 | H3: =_xlfn.RANK.EQ(G3,G$2:G$49,0) -> 13 | I3: =AVERAGEIF(Goalkeeping!$A:$A,$A3,Goalkeeping!H:H) -> 7.3333333 | J3: =_xlfn.RANK.EQ(I3,I$2:I$49,0) -> 35 | K3: =AVERAGEIF(Goalkeeping!$A:$A,$A3,Goalkeeping!I:I) -> 14 | L3: =_xlfn.RANK.EQ(K3,K$2:K$49,0) -> 7 | M3: =AVERAGEIF(Goalkeeping!$A:$A,$A3,Goalkeeping!J:J) -> 13 | N3: =_xlfn.RANK.EQ(M3,M$2:M$49,0) -> 16 | O3: =AVERAGEIF(Goalkeeping!$A:$A,$A3,Goalkeeping!K:K) -> 14 | P3: =_xlfn.RANK.EQ(O3,O$2:O$49,0) -> 20 | Q3: =AVERAGEIF(Goalkeeping!$A:$A,$A3,Goalkeeping!L:L) -> 15.666667 | R3: =_xlfn.RANK.EQ(Q3,Q$2:Q$49,0) -> 8 | S3: =AVERAGEIF(Goalkeeping!$A:$A,$A3,Goalkeeping!M:M) -> 12 | T3: =_xlfn.RANK.EQ(S3,S$2:S$49,0) -> 14 | U3: =AVERAGEIF(Goalkeeping!$A:$A,$A3,Goalkeeping!N:N) -> 9 | V3: =_xlfn.RANK.EQ(U3,U$2:U$49,0) -> 37 | W3: =AVERAGEIF(Goalkeeping!$A:$A,$A3,Goalkeeping!O:O) -> 13.666667 | X3: =_xlfn.RANK.EQ(W3,W$2:W$49,0) -> 8
A4: USA | B4: United States | C4: =AVERAGEIF(Goalkeeping!$A:$A,$A4,Goalkeeping!E:E) -> 14.333333 | D4: =_xlfn.RANK.EQ(C4,C$2:C$49,0) -> 14 | E4: =AVERAGEIF(Goalkeeping!$A:$A,$A4,Goalkeeping!F:F) -> 13.666667 | F4: =_xlfn.RANK.EQ(E4,E$2:E$49,0) -> 11 | G4: =AVERAGEIF(Goalkeeping!$A:$A,$A4,Goalkeeping!G:G) -> 13 | H4: =_xlfn.RANK.EQ(G4,G$2:G$49,0) -> 13 | I4: =AVERAGEIF(Goalkeeping!$A:$A,$A4,Goalkeeping!H:H) -> 6 | J4: =_xlfn.RANK.EQ(I4,I$2:I$49,0) -> 41 | K4: =AVERAGEIF(Goalkeeping!$A:$A,$A4,Goalkeeping!I:I) -> 12 | L4: =_xlfn.RANK.EQ(K4,K$2:K$49,0) -> 40 | M4: =AVERAGEIF(Goalkeeping!$A:$A,$A4,Goalkeeping!J:J) -> 11.333333 | N4: =_xlfn.RANK.EQ(M4,M$2:M$49,0) -> 34 | O4: =AVERAGEIF(Goalkeeping!$A:$A,$A4,Goalkeeping!K:K) -> 15.333333 | P4: =_xlfn.RANK.EQ(O4,O$2:O$49,0) -> 8 | Q4: =AVERAGEIF(Goalkeeping!$A:$A,$A4,Goalkeeping!L:L) -> 15.333333 | R4: =_xlfn.RANK.EQ(Q4,Q$2:Q$49,0) -> 14 | S4: =AVERAGEIF(Goalkeeping!$A:$A,$A4,Goalkeeping!M:M) -> 12 | T4: =_xlfn.RANK.EQ(S4,S$2:S$49,0) -> 14 | U4: =AVERAGEIF(Goalkeeping!$A:$A,$A4,Goalkeeping!N:N) -> 10 | V4: =_xlfn.RANK.EQ(U4,U$2:U$49,0) -> 27 | W4: =AVERAGEIF(Goalkeeping!$A:$A,$A4,Goalkeeping!O:O) -> 12.666667 | X4: =_xlfn.RANK.EQ(W4,W$2:W$49,0) -> 18
A5: UZB | B5: Uzbekistan | C5: =AVERAGEIF(Goalkeeping!$A:$A,$A5,Goalkeeping!E:E) -> 12.333333 | D5: =_xlfn.RANK.EQ(C5,C$2:C$49,0) -> 40 | E5: =AVERAGEIF(Goalkeeping!$A:$A,$A5,Goalkeeping!F:F) -> 10 | F5: =_xlfn.RANK.EQ(E5,E$2:E$49,0) -> 46 | G5: =AVERAGEIF(Goalkeeping!$A:$A,$A5,Goalkeeping!G:G) -> 11.666667 | H5: =_xlfn.RANK.EQ(G5,G$2:G$49,0) -> 32 | I5: =AVERAGEIF(Goalkeeping!$A:$A,$A5,Goalkeeping!H:H) -> 7.3333333 | J5: =_xlfn.RANK.EQ(I5,I$2:I$49,0) -> 35 | K5: =AVERAGEIF(Goalkeeping!$A:$A,$A5,Goalkeeping!I:I) -> 14 | L5: =_xlfn.RANK.EQ(K5,K$2:K$49,0) -> 7 | M5: =AVERAGEIF(Goalkeeping!$A:$A,$A5,Goalkeeping!J:J) -> 11.333333 | N5: =_xlfn.RANK.EQ(M5,M$2:M$49,0) -> 34 | O5: =AVERAGEIF(Goalkeeping!$A:$A,$A5,Goalkeeping!K:K) -> 10.333333 | P5: =_xlfn.RANK.EQ(O5,O$2:O$49,0) -> 47 | Q5: =AVERAGEIF(Goalkeeping!$A:$A,$A5,Goalkeeping!L:L) -> 13.666667 | R5: =_xlfn.RANK.EQ(Q5,Q$2:Q$49,0) -> 33 | S5: =AVERAGEIF(Goalkeeping!$A:$A,$A5,Goalkeeping!M:M) -> 9 | T5: =_xlfn.RANK.EQ(S5,S$2:S$49,0) -> 44 | U5: =AVERAGEIF(Goalkeeping!$A:$A,$A5,Goalkeeping!N:N) -> 8 | V5: =_xlfn.RANK.EQ(U5,U$2:U$49,0) -> 43 | W5: =AVERAGEIF(Goalkeeping!$A:$A,$A5,Goalkeeping!O:O) -> 9.6666667 | X5: =_xlfn.RANK.EQ(W5,W$2:W$49,0) -> 46
A6: BIH | B6: Bosnia & Herzegovina | C6: =AVERAGEIF(Goalkeeping!$A:$A,$A6,Goalkeeping!E:E) -> 14.333333 | D6: =_xlfn.RANK.EQ(C6,C$2:C$49,0) -> 14 | E6: =AVERAGEIF(Goalkeeping!$A:$A,$A6,Goalkeeping!F:F) -> 13 | F6: =_xlfn.RANK.EQ(E6,E$2:E$49,0) -> 19 | G6: =AVERAGEIF(Goalkeeping!$A:$A,$A6,Goalkeeping!G:G) -> 12 | H6: =_xlfn.RANK.EQ(G6,G$2:G$49,0) -> 28 | I6: =AVERAGEIF(Goalkeeping!$A:$A,$A6,Goalkeeping!H:H) -> 8.6666667 | J6: =_xlfn.RANK.EQ(I6,I$2:I$49,0) -> 23 | K6: =AVERAGEIF(Goalkeeping!$A:$A,$A6,Goalkeeping!I:I) -> 12.666667 | L6: =_xlfn.RANK.EQ(K6,K$2:K$49,0) -> 31 | M6: =AVERAGEIF(Goalkeeping!$A:$A,$A6,Goalkeeping!J:J) -> 11.333333 | N6: =_xlfn.RANK.EQ(M6,M$2:M$49,0) -> 34 | O6: =AVERAGEIF(Goalkeeping!$A:$A,$A6,Goalkeeping!K:K) -> 14.666667 | P6: =_xlfn.RANK.EQ(O6,O$2:O$49,0) -> 12 | Q6: =AVERAGEIF(Goalkeeping!$A:$A,$A6,Goalkeeping!L:L) -> 14.333333 | R6: =_xlfn.RANK.EQ(Q6,Q$2:Q$49,0) -> 24 | S6: =AVERAGEIF(Goalkeeping!$A:$A,$A6,Goalkeeping!M:M) -> 11.333333 | T6: =_xlfn.RANK.EQ(S6,S$2:S$49,0) -> 20 | U6: =AVERAGEIF(Goalkeeping!$A:$A,$A6,Goalkeeping!N:N) -> 10 | V6: =_xlfn.RANK.EQ(U6,U$2:U$49,0) -> 27 | W6: =AVERAGEIF(Goalkeeping!$A:$A,$A6,Goalkeeping!O:O) -> 12.333333 | X6: =_xlfn.RANK.EQ(W6,W$2:W$49,0) -> 20
A7: CAN | B7: Canada | C7: =AVERAGEIF(Goalkeeping!$A:$A,$A7,Goalkeeping!E:E) -> 13.666667 | D7: =_xlfn.RANK.EQ(C7,C$2:C$49,0) -> 28 | E7: =AVERAGEIF(Goalkeeping!$A:$A,$A7,Goalkeeping!F:F) -> 10.666667 | F7: =_xlfn.RANK.EQ(E7,E$2:E$49,0) -> 43 | G7: =AVERAGEIF(Goalkeeping!$A:$A,$A7,Goalkeeping!G:G) -> 11.666667 | H7: =_xlfn.RANK.EQ(G7,G$2:G$49,0) -> 32 | I7: =AVERAGEIF(Goalkeeping!$A:$A,$A7,Goalkeeping!H:H) -> 8.3333333 | J7: =_xlfn.RANK.EQ(I7,I$2:I$49,0) -> 28 | K7: =AVERAGEIF(Goalkeeping!$A:$A,$A7,Goalkeeping!I:I) -> 11.666667 | L7: =_xlfn.RANK.EQ(K7,K$2:K$49,0) -> 42 | M7: =AVERAGEIF(Goalkeeping!$A:$A,$A7,Goalkeeping!J:J) -> 12.333333 | N7: =_xlfn.RANK.EQ(M7,M$2:M$49,0) -> 22 | O7: =AVERAGEIF(Goalkeeping!$A:$A,$A7,Goalkeeping!K:K) -> 12.666667 | P7: =_xlfn.RANK.EQ(O7,O$2:O$49,0) -> 35 | Q7: =AVERAGEIF(Goalkeeping!$A:$A,$A7,Goalkeeping!L:L) -> 14 | R7: =_xlfn.RANK.EQ(Q7,Q$2:Q$49,0) -> 29 | S7: =AVERAGEIF(Goalkeeping!$A:$A,$A7,Goalkeeping!M:M) -> 11 | T7: =_xlfn.RANK.EQ(S7,S$2:S$49,0) -> 24 | U7: =AVERAGEIF(Goalkeeping!$A:$A,$A7,Goalkeeping!N:N) -> 12.333333 | V7: =_xlfn.RANK.EQ(U7,U$2:U$49,0) -> 7 | W7: =AVERAGEIF(Goalkeeping!$A:$A,$A7,Goalkeeping!O:O) -> 11 | X7: =_xlfn.RANK.EQ(W7,W$2:W$49,0) -> 38
A8: ECU | B8: Ecuador | C8: =AVERAGEIF(Goalkeeping!$A:$A,$A8,Goalkeeping!E:E) -> 15.666667 | D8: =_xlfn.RANK.EQ(C8,C$2:C$49,0) -> 5 | E8: =AVERAGEIF(Goalkeeping!$A:$A,$A8,Goalkeeping!F:F) -> 13.666667 | F8: =_xlfn.RANK.EQ(E8,E$2:E$49,0) -> 11 | G8: =AVERAGEIF(Goalkeeping!$A:$A,$A8,Goalkeeping!G:G) -> 11 | H8: =_xlfn.RANK.EQ(G8,G$2:G$49,0) -> 37 | I8: =AVERAGEIF(Goalkeeping!$A:$A,$A8,Goalkeeping!H:H) -> 11.333333 | J8: =_xlfn.RANK.EQ(I8,I$2:I$49,0) -> 7 | K8: =AVERAGEIF(Goalkeeping!$A:$A,$A8,Goalkeeping!I:I) -> 12 | L8: =_xlfn.RANK.EQ(K8,K$2:K$49,0) -> 40 | M8: =AVERAGEIF(Goalkeeping!$A:$A,$A8,Goalkeeping!J:J) -> 8.3333333 | N8: =_xlfn.RANK.EQ(M8,M$2:M$49,0) -> 48 | O8: =AVERAGEIF(Goalkeeping!$A:$A,$A8,Goalkeeping!K:K) -> 13.666667 | P8: =_xlfn.RANK.EQ(O8,O$2:O$49,0) -> 25 | Q8: =AVERAGEIF(Goalkeeping!$A:$A,$A8,Goalkeeping!L:L) -> 15.666667 | R8: =_xlfn.RANK.EQ(Q8,Q$2:Q$49,0) -> 8 | S8: =AVERAGEIF(Goalkeeping!$A:$A,$A8,Goalkeeping!M:M) -> 10.333333 | T8: =_xlfn.RANK.EQ(S8,S$2:S$49,0) -> 31 | U8: =AVERAGEIF(Goalkeeping!$A:$A,$A8,Goalkeeping!N:N) -> 12.666667 | V8: =_xlfn.RANK.EQ(U8,U$2:U$49,0) -> 4 | W8: =AVERAGEIF(Goalkeeping!$A:$A,$A8,Goalkeeping!O:O) -> 11 | X8: =_xlfn.RANK.EQ(W8,W$2:W$49,0) -> 38
A9: EGY | B9: Egypt | C9: =AVERAGEIF(Goalkeeping!$A:$A,$A9,Goalkeeping!E:E) -> 12.666667 | D9: =_xlfn.RANK.EQ(C9,C$2:C$49,0) -> 36 | E9: =AVERAGEIF(Goalkeeping!$A:$A,$A9,Goalkeeping!F:F) -> 12 | F9: =_xlfn.RANK.EQ(E9,E$2:E$49,0) -> 31 | G9: =AVERAGEIF(Goalkeeping!$A:$A,$A9,Goalkeeping!G:G) -> 11.333333 | H9: =_xlfn.RANK.EQ(G9,G$2:G$49,0) -> 35 | I9: =AVERAGEIF(Goalkeeping!$A:$A,$A9,Goalkeeping!H:H) -> 8.6666667 | J9: =_xlfn.RANK.EQ(I9,I$2:I$49,0) -> 23 | K9: =AVERAGEIF(Goalkeeping!$A:$A,$A9,Goalkeeping!I:I) -> 13 | L9: =_xlfn.RANK.EQ(K9,K$2:K$49,0) -> 24 | M9: =AVERAGEIF(Goalkeeping!$A:$A,$A9,Goalkeeping!J:J) -> 13.666667 | N9: =_xlfn.RANK.EQ(M9,M$2:M$49,0) -> 11 | O9: =AVERAGEIF(Goalkeeping!$A:$A,$A9,Goalkeeping!K:K) -> 14 | P9: =_xlfn.RANK.EQ(O9,O$2:O$49,0) -> 20 | Q9: =AVERAGEIF(Goalkeeping!$A:$A,$A9,Goalkeeping!L:L) -> 15.333333 | R9: =_xlfn.RANK.EQ(Q9,Q$2:Q$49,0) -> 14 | S9: =AVERAGEIF(Goalkeeping!$A:$A,$A9,Goalkeeping!M:M) -> 10.333333 | T9: =_xlfn.RANK.EQ(S9,S$2:S$49,0) -> 31 | U9: =AVERAGEIF(Goalkeeping!$A:$A,$A9,Goalkeeping!N:N) -> 8.3333333 | V9: =_xlfn.RANK.EQ(U9,U$2:U$49,0) -> 42 | W9: =AVERAGEIF(Goalkeeping!$A:$A,$A9,Goalkeeping!O:O) -> 11 | X9: =_xlfn.RANK.EQ(W9,W$2:W$49,0) -> 38
A10: ALB | B10: Albania | C10: =AVERAGEIF(Goalkeeping!$A:$A,$A10,Goalkeeping!E:E) -> 12.333333 | D10: =_xlfn.RANK.EQ(C10,C$2:C$49,0) -> 40 | E10: =AVERAGEIF(Goalkeeping!$A:$A,$A10,Goalkeeping!F:F) -> 11 | F10: =_xlfn.RANK.EQ(E10,E$2:E$49,0) -> 40 | G10: =AVERAGEIF(Goalkeeping!$A:$A,$A10,Goalkeeping!G:G) -> 10.666667 | H10: =_xlfn.RANK.EQ(G10,G$2:G$49,0) -> 40 | I10: =AVERAGEIF(Goalkeeping!$A:$A,$A10,Goalkeeping!H:H) -> 8.6666667 | J10: =_xlfn.RANK.EQ(I10,I$2:I$49,0) -> 23 | K10: =AVERAGEIF(Goalkeeping!$A:$A,$A10,Goalkeeping!I:I) -> 12.333333 | L10: =_xlfn.RANK.EQ(K10,K$2:K$49,0) -> 36 | M10: =AVERAGEIF(Goalkeeping!$A:$A,$A10,Goalkeeping!J:J) -> 12 | N10: =_xlfn.RANK.EQ(M10,M$2:M$49,0) -> 24 | O10: =AVERAGEIF(Goalkeeping!$A:$A,$A10,Goalkeeping!K:K) -> 13.666667 | P10: =_xlfn.RANK.EQ(O10,O$2:O$49,0) -> 25 | Q10: =AVERAGEIF(Goalkeeping!$A:$A,$A10,Goalkeeping!L:L) -> 14 | R10: =_xlfn.RANK.EQ(Q10,Q$2:Q$49,0) -> 29 | S10: =AVERAGEIF(Goalkeeping!$A:$A,$A10,Goalkeeping!M:M) -> 11 | T10: =_xlfn.RANK.EQ(S10,S$2:S$49,0) -> 24 | U10: =AVERAGEIF(Goalkeeping!$A:$A,$A10,Goalkeeping!N:N) -> 12 | V10: =_xlfn.RANK.EQ(U10,U$2:U$49,0) -> 9 | W10: =AVERAGEIF(Goalkeeping!$A:$A,$A10,Goalkeeping!O:O) -> 11.666667 | X10: =_xlfn.RANK.EQ(W10,W$2:W$49,0) -> 30
A11: IRN | B11: Iran | C11: =AVERAGEIF(Goalkeeping!$A:$A,$A11,Goalkeeping!E:E) -> 16 | D11: =_xlfn.RANK.EQ(C11,C$2:C$49,0) -> 3 | E11: =AVERAGEIF(Goalkeeping!$A:$A,$A11,Goalkeeping!F:F) -> 12 | F11: =_xlfn.RANK.EQ(E11,E$2:E$49,0) -> 31 | G11: =AVERAGEIF(Goalkeeping!$A:$A,$A11,Goalkeeping!G:G) -> 12 | H11: =_xlfn.RANK.EQ(G11,G$2:G$49,0) -> 28 | I11: =AVERAGEIF(Goalkeeping!$A:$A,$A11,Goalkeeping!H:H) -> 11.333333 | J11: =_xlfn.RANK.EQ(I11,I$2:I$49,0) -> 7 | K11: =AVERAGEIF(Goalkeeping!$A:$A,$A11,Goalkeeping!I:I) -> 13.333333 | L11: =_xlfn.RANK.EQ(K11,K$2:K$49,0) -> 17 | M11: =AVERAGEIF(Goalkeeping!$A:$A,$A11,Goalkeeping!J:J) -> 11.333333 | N11: =_xlfn.RANK.EQ(M11,M$2:M$49,0) -> 34 | O11: =AVERAGEIF(Goalkeeping!$A:$A,$A11,Goalkeeping!K:K) -> 13.333333 | P11: =_xlfn.RANK.EQ(O11,O$2:O$49,0) -> 30 | Q11: =AVERAGEIF(Goalkeeping!$A:$A,$A11,Goalkeeping!L:L) -> 13.666667 | R11: =_xlfn.RANK.EQ(Q11,Q$2:Q$49,0) -> 33 | S11: =AVERAGEIF(Goalkeeping!$A:$A,$A11,Goalkeeping!M:M) -> 14.333333 | T11: =_xlfn.RANK.EQ(S11,S$2:S$49,0) -> 2 | U11: =AVERAGEIF(Goalkeeping!$A:$A,$A11,Goalkeeping!N:N) -> 12 | V11: =_xlfn.RANK.EQ(U11,U$2:U$49,0) -> 9 | W11: =AVERAGEIF(Goalkeeping!$A:$A,$A11,Goalkeeping!O:O) -> 15.666667 | X11: =_xlfn.RANK.EQ(W11,W$2:W$49,0) -> 1
A12: CIV | B12: Ivory Coast | C12: =AVERAGEIF(Goalkeeping!$A:$A,$A12,Goalkeeping!E:E) -> 14 | D12: =_xlfn.RANK.EQ(C12,C$2:C$49,0) -> 21 | E12: =AVERAGEIF(Goalkeeping!$A:$A,$A12,Goalkeeping!F:F) -> 11 | F12: =_xlfn.RANK.EQ(E12,E$2:E$49,0) -> 40 | G12: =AVERAGEIF(Goalkeeping!$A:$A,$A12,Goalkeeping!G:G) -> 11.333333 | H12: =_xlfn.RANK.EQ(G12,G$2:G$49,0) -> 35 | I12: =AVERAGEIF(Goalkeeping!$A:$A,$A12,Goalkeeping!H:H) -> 13 | J12: =_xlfn.RANK.EQ(I12,I$2:I$49,0) -> 3 | K12: =AVERAGEIF(Goalkeeping!$A:$A,$A12,Goalkeeping!I:I) -> 11.333333 | L12: =_xlfn.RANK.EQ(K12,K$2:K$49,0) -> 44 | M12: =AVERAGEIF(Goalkeeping!$A:$A,$A12,Goalkeeping!J:J) -> 12 | N12: =_xlfn.RANK.EQ(M12,M$2:M$49,0) -> 24 | O12: =AVERAGEIF(Goalkeeping!$A:$A,$A12,Goalkeeping!K:K) -> 14 | P12: =_xlfn.RANK.EQ(O12,O$2:O$49,0) -> 20 | Q12: =AVERAGEIF(Goalkeeping!$A:$A,$A12,Goalkeeping!L:L) -> 15.666667 | R12: =_xlfn.RANK.EQ(Q12,Q$2:Q$49,0) -> 8 | S12: =AVERAGEIF(Goalkeeping!$A:$A,$A12,Goalkeeping!M:M) -> 12 | T12: =_xlfn.RANK.EQ(S12,S$2:S$49,0) -> 14 | U12: =AVERAGEIF(Goalkeeping!$A:$A,$A12,Goalkeeping!N:N) -> 10.333333 | V12: =_xlfn.RANK.EQ(U12,U$2:U$49,0) -> 22 | W12: =AVERAGEIF(Goalkeeping!$A:$A,$A12,Goalkeeping!O:O) -> 12.333333 | X12: =_xlfn.RANK.EQ(W12,W$2:W$49,0) -> 20
A13: MEX | B13: Mexico | C13: =AVERAGEIF(Goalkeeping!$A:$A,$A13,Goalkeeping!E:E) -> 14 | D13: =_xlfn.RANK.EQ(C13,C$2:C$49,0) -> 21 | E13: =AVERAGEIF(Goalkeeping!$A:$A,$A13,Goalkeeping!F:F) -> 12.666667 | F13: =_xlfn.RANK.EQ(E13,E$2:E$49,0) -> 21 | G13: =AVERAGEIF(Goalkeeping!$A:$A,$A13,Goalkeeping!G:G) -> 13.333333 | H13: =_xlfn.RANK.EQ(G13,G$2:G$49,0) -> 7 | I13: =AVERAGEIF(Goalkeeping!$A:$A,$A13,Goalkeeping!H:H) -> 7.6666667 | J13: =_xlfn.RANK.EQ(I13,I$2:I$49,0) -> 31 | K13: =AVERAGEIF(Goalkeeping!$A:$A,$A13,Goalkeeping!I:I) -> 13.666667 | L13: =_xlfn.RANK.EQ(K13,K$2:K$49,0) -> 11 | M13: =AVERAGEIF(Goalkeeping!$A:$A,$A13,Goalkeeping!J:J) -> 11.333333 | N13: =_xlfn.RANK.EQ(M13,M$2:M$49,0) -> 34 | O13: =AVERAGEIF(Goalkeeping!$A:$A,$A13,Goalkeeping!K:K) -> 13.666667 | P13: =_xlfn.RANK.EQ(O13,O$2:O$49,0) -> 25 | Q13: =AVERAGEIF(Goalkeeping!$A:$A,$A13,Goalkeeping!L:L) -> 16 | R13: =_xlfn.RANK.EQ(Q13,Q$2:Q$49,0) -> 4 | S13: =AVERAGEIF(Goalkeeping!$A:$A,$A13,Goalkeeping!M:M) -> 11 | T13: =_xlfn.RANK.EQ(S13,S$2:S$49,0) -> 24 | U13: =AVERAGEIF(Goalkeeping!$A:$A,$A13,Goalkeeping!N:N) -> 12.666667 | V13: =_xlfn.RANK.EQ(U13,U$2:U$49,0) -> 4 | W13: =AVERAGEIF(Goalkeeping!$A:$A,$A13,Goalkeeping!O:O) -> 13.333333 | X13: =_xlfn.RANK.EQ(W13,W$2:W$49,0) -> 12
... A49: THA | B49: Thailand | C49: =AVERAGEIF(Goalkeeping!$A:$A,$A49,Goalkeeping!E:E) -> 11 | D49: =_xlfn.RANK.EQ(C49,C$2:C$49,0) -> 46 | E49: =AVERAGEIF(Goalkeeping!$A:$A,$A49,Goalkeeping!F:F) -> 11.333333 | F49: =_xlfn.RANK.EQ(E49,E$2:E$49,0) -> 38 | G49: =AVERAGEIF(Goalkeeping!$A:$A,$A49,Goalkeeping!G:G) -> 10.333333 | H49: =_xlfn.RANK.EQ(G49,G$2:G$49,0) -> 43 | I49: =AVERAGEIF(Goalkeeping!$A:$A,$A49,Goalkeeping!H:H) -> 6 | J49: =_xlfn.RANK.EQ(I49,I$2:I$49,0) -> 41 | K49: =AVERAGEIF(Goalkeeping!$A:$A,$A49,Goalkeeping!I:I) -> 13.333333 | L49: =_xlfn.RANK.EQ(K49,K$2:K$49,0) -> 17 | M49: =AVERAGEIF(Goalkeeping!$A:$A,$A49,Goalkeeping!J:J) -> 12.666667 | N49: =_xlfn.RANK.EQ(M49,M$2:M$49,0) -> 19 | O49: =AVERAGEIF(Goalkeeping!$A:$A,$A49,Goalkeeping!K:K) -> 12 | P49: =_xlfn.RANK.EQ(O49,O$2:O$49,0) -> 42 | Q49: =AVERAGEIF(Goalkeeping!$A:$A,$A49,Goalkeeping!L:L) -> 13.333333 | R49: =_xlfn.RANK.EQ(Q49,Q$2:Q$49,0) -> 39 | S49: =AVERAGEIF(Goalkeeping!$A:$A,$A49,Goalkeeping!M:M) -> 9.6666667 | T49: =_xlfn.RANK.EQ(S49,S$2:S$49,0) -> 35 | U49: =AVERAGEIF(Goalkeeping!$A:$A,$A49,Goalkeeping!N:N) -> 11 | V49: =_xlfn.RANK.EQ(U49,U$2:U$49,0) -> 16 | W49: =AVERAGEIF(Goalkeeping!$A:$A,$A49,Goalkeeping!O:O) -> 9.6666667 | X49: =_xlfn.RANK.EQ(W49,W$2:W$49,0) -> 46

Sheet Attribute Rank MEN
A1: NATION | B1: Name | C1: Agg | E1: Ant | G1: Bra | I1: Cmp | K1: Cnt | M1: Dec | O1: Det | Q1: Fla | S1: Ldr | U1: OtB | W1: Pos | Y1: Tea | AA1: Vis | AC1: Wor
A2: ALG | B2: Algeria | C2: =AVERAGEIF(Mental!$A:$A,$A2,Mental!E:E) -> 11.961538 | D2: =_xlfn.RANK.EQ(C2,C$2:C$49,0) -> 25 | E2: =AVERAGEIF(Mental!$A:$A,$A2,Mental!F:F) -> 13.076923 | F2: =_xlfn.RANK.EQ(E2,E$2:E$49,0) -> 27 | G2: =AVERAGEIF(Mental!$A:$A,$A2,Mental!G:G) -> 13.346154 | H2: =_xlfn.RANK.EQ(G2,G$2:G$49,0) -> 9 | I2: =AVERAGEIF(Mental!$A:$A,$A2,Mental!H:H) -> 12.961538 | J2: =_xlfn.RANK.EQ(I2,I$2:I$49,0) -> 20 | K2: =AVERAGEIF(Mental!$A:$A,$A2,Mental!I:I) -> 12.115385 | L2: =_xlfn.RANK.EQ(K2,K$2:K$49,0) -> 29 | M2: =AVERAGEIF(Mental!$A:$A,$A2,Mental!J:J) -> 12.730769 | N2: =_xlfn.RANK.EQ(M2,M$2:M$49,0) -> 17 | O2: =AVERAGEIF(Mental!$A:$A,$A2,Mental!K:K) -> 14.423077 | P2: =_xlfn.RANK.EQ(O2,O$2:O$49,0) -> 16 | Q2: =AVERAGEIF(Mental!$A:$A,$A2,Mental!L:L) -> 12.384615 | R2: =_xlfn.RANK.EQ(Q2,Q$2:Q$49,0) -> 4 | S2: =AVERAGEIF(Mental!$A:$A,$A2,Mental!M:M) -> 9.7307692 | T2: =_xlfn.RANK.EQ(S2,S$2:S$49,0) -> 30 | U2: =AVERAGEIF(Mental!$A:$A,$A2,Mental!N:N) -> 11.923077 | V2: =_xlfn.RANK.EQ(U2,U$2:U$49,0) -> 7 | W2: =AVERAGEIF(Mental!$A:$A,$A2,Mental!O:O) -> 11.230769 | X2: =_xlfn.RANK.EQ(W2,W$2:W$49,0) -> 28 | Y2: =AVERAGEIF(Mental!$A:$A,$A2,Mental!P:P) -> 12.923077 | Z2: =_xlfn.RANK.EQ(Y2,Y$2:Y$49,0) -> 22 | AA2: =AVERAGEIF(Mental!$A:$A,$A2,Mental!Q:Q) -> 12.692308 | AB2: =_xlfn.RANK.EQ(AA2,AA$2:AA$49,0) -> 13 | AC2: =AVERAGEIF(Mental!$A:$A,$A2,Mental!R:R) -> 12.961538 | AD2: =_xlfn.RANK.EQ(AC2,AC$2:AC$49,0) -> 31
A3: AUT | B3: Austria | C3: =AVERAGEIF(Mental!$A:$A,$A3,Mental!E:E) -> 11.923077 | D3: =_xlfn.RANK.EQ(C3,C$2:C$49,0) -> 26 | E3: =AVERAGEIF(Mental!$A:$A,$A3,Mental!F:F) -> 13.115385 | F3: =_xlfn.RANK.EQ(E3,E$2:E$49,0) -> 26 | G3: =AVERAGEIF(Mental!$A:$A,$A3,Mental!G:G) -> 13.653846 | H3: =_xlfn.RANK.EQ(G3,G$2:G$49,0) -> 4 | I3: =AVERAGEIF(Mental!$A:$A,$A3,Mental!H:H) -> 13.076923 | J3: =_xlfn.RANK.EQ(I3,I$2:I$49,0) -> 17 | K3: =AVERAGEIF(Mental!$A:$A,$A3,Mental!I:I) -> 12.576923 | L3: =_xlfn.RANK.EQ(K3,K$2:K$49,0) -> 17 | M3: =AVERAGEIF(Mental!$A:$A,$A3,Mental!J:J) -> 12.307692 | N3: =_xlfn.RANK.EQ(M3,M$2:M$49,0) -> 33 | O3: =AVERAGEIF(Mental!$A:$A,$A3,Mental!K:K) -> 15.230769 | P3: =_xlfn.RANK.EQ(O3,O$2:O$49,0) -> 3 | Q3: =AVERAGEIF(Mental!$A:$A,$A3,Mental!L:L) -> 10.038462 | R3: =_xlfn.RANK.EQ(Q3,Q$2:Q$49,0) -> 39 | S3: =AVERAGEIF(Mental!$A:$A,$A3,Mental!M:M) -> 10.769231 | T3: =_xlfn.RANK.EQ(S3,S$2:S$49,0) -> 14 | U3: =AVERAGEIF(Mental!$A:$A,$A3,Mental!N:N) -> 11.153846 | V3: =_xlfn.RANK.EQ(U3,U$2:U$49,0) -> 30 | W3: =AVERAGEIF(Mental!$A:$A,$A3,Mental!O:O) -> 11.807692 | X3: =_xlfn.RANK.EQ(W3,W$2:W$49,0) -> 6 | Y3: =AVERAGEIF(Mental!$A:$A,$A3,Mental!P:P) -> 14 | Z3: =_xlfn.RANK.EQ(Y3,Y$2:Y$49,0) -> 4 | AA3: =AVERAGEIF(Mental!$A:$A,$A3,Mental!Q:Q) -> 12.153846 | AB3: =_xlfn.RANK.EQ(AA3,AA$2:AA$49,0) -> 24 | AC3: =AVERAGEIF(Mental!$A:$A,$A3,Mental!R:R) -> 14.115385 | AD3: =_xlfn.RANK.EQ(AC3,AC$2:AC$49,0) -> 8
A4: USA | B4: United States | C4: =AVERAGEIF(Mental!$A:$A,$A4,Mental!E:E) -> 12.5 | D4: =_xlfn.RANK.EQ(C4,C$2:C$49,0) -> 12 | E4: =AVERAGEIF(Mental!$A:$A,$A4,Mental!F:F) -> 13.615385 | F4: =_xlfn.RANK.EQ(E4,E$2:E$49,0) -> 19 | G4: =AVERAGEIF(Mental!$A:$A,$A4,Mental!G:G) -> 13.384615 | H4: =_xlfn.RANK.EQ(G4,G$2:G$49,0) -> 8 | I4: =AVERAGEIF(Mental!$A:$A,$A4,Mental!H:H) -> 12.807692 | J4: =_xlfn.RANK.EQ(I4,I$2:I$49,0) -> 22 | K4: =AVERAGEIF(Mental!$A:$A,$A4,Mental!I:I) -> 12.461538 | L4: =_xlfn.RANK.EQ(K4,K$2:K$49,0) -> 20 | M4: =AVERAGEIF(Mental!$A:$A,$A4,Mental!J:J) -> 12.038462 | N4: =_xlfn.RANK.EQ(M4,M$2:M$49,0) -> 38 | O4: =AVERAGEIF(Mental!$A:$A,$A4,Mental!K:K) -> 13.961538 | P4: =_xlfn.RANK.EQ(O4,O$2:O$49,0) -> 22 | Q4: =AVERAGEIF(Mental!$A:$A,$A4,Mental!L:L) -> 10.730769 | R4: =_xlfn.RANK.EQ(Q4,Q$2:Q$49,0) -> 30 | S4: =AVERAGEIF(Mental!$A:$A,$A4,Mental!M:M) -> 10.384615 | T4: =_xlfn.RANK.EQ(S4,S$2:S$49,0) -> 20 | U4: =AVERAGEIF(Mental!$A:$A,$A4,Mental!N:N) -> 11.730769 | V4: =_xlfn.RANK.EQ(U4,U$2:U$49,0) -> 11 | W4: =AVERAGEIF(Mental!$A:$A,$A4,Mental!O:O) -> 11.576923 | X4: =_xlfn.RANK.EQ(W4,W$2:W$49,0) -> 14 | Y4: =AVERAGEIF(Mental!$A:$A,$A4,Mental!P:P) -> 13 | Z4: =_xlfn.RANK.EQ(Y4,Y$2:Y$49,0) -> 21 | AA4: =AVERAGEIF(Mental!$A:$A,$A4,Mental!Q:Q) -> 12.153846 | AB4: =_xlfn.RANK.EQ(AA4,AA$2:AA$49,0) -> 24 | AC4: =AVERAGEIF(Mental!$A:$A,$A4,Mental!R:R) -> 13.730769 | AD4: =_xlfn.RANK.EQ(AC4,AC$2:AC$49,0) -> 15
A5: UZB | B5: Uzbekistan | C5: =AVERAGEIF(Mental!$A:$A,$A5,Mental!E:E) -> 10.538462 | D5: =_xlfn.RANK.EQ(C5,C$2:C$49,0) -> 46 | E5: =AVERAGEIF(Mental!$A:$A,$A5,Mental!F:F) -> 11.884615 | F5: =_xlfn.RANK.EQ(E5,E$2:E$49,0) -> 44 | G5: =AVERAGEIF(Mental!$A:$A,$A5,Mental!G:G) -> 10.769231 | H5: =_xlfn.RANK.EQ(G5,G$2:G$49,0) -> 47 | I5: =AVERAGEIF(Mental!$A:$A,$A5,Mental!H:H) -> 12.076923 | J5: =_xlfn.RANK.EQ(I5,I$2:I$49,0) -> 40 | K5: =AVERAGEIF(Mental!$A:$A,$A5,Mental!I:I) -> 11.653846 | L5: =_xlfn.RANK.EQ(K5,K$2:K$49,0) -> 39 | M5: =AVERAGEIF(Mental!$A:$A,$A5,Mental!J:J) -> 12.653846 | N5: =_xlfn.RANK.EQ(M5,M$2:M$49,0) -> 21 | O5: =AVERAGEIF(Mental!$A:$A,$A5,Mental!K:K) -> 12.230769 | P5: =_xlfn.RANK.EQ(O5,O$2:O$49,0) -> 47 | Q5: =AVERAGEIF(Mental!$A:$A,$A5,Mental!L:L) -> 9.3076923 | R5: =_xlfn.RANK.EQ(Q5,Q$2:Q$49,0) -> 46 | S5: =AVERAGEIF(Mental!$A:$A,$A5,Mental!M:M) -> 8.5 | T5: =_xlfn.RANK.EQ(S5,S$2:S$49,0) -> 47 | U5: =AVERAGEIF(Mental!$A:$A,$A5,Mental!N:N) -> 9.9230769 | V5: =_xlfn.RANK.EQ(U5,U$2:U$49,0) -> 47 | W5: =AVERAGEIF(Mental!$A:$A,$A5,Mental!O:O) -> 10.730769 | X5: =_xlfn.RANK.EQ(W5,W$2:W$49,0) -> 37 | Y5: =AVERAGEIF(Mental!$A:$A,$A5,Mental!P:P) -> 11.076923 | Z5: =_xlfn.RANK.EQ(Y5,Y$2:Y$49,0) -> 45 | AA5: =AVERAGEIF(Mental!$A:$A,$A5,Mental!Q:Q) -> 11 | AB5: =_xlfn.RANK.EQ(AA5,AA$2:AA$49,0) -> 40 | AC5: =AVERAGEIF(Mental!$A:$A,$A5,Mental!R:R) -> 11.730769 | AD5: =_xlfn.RANK.EQ(AC5,AC$2:AC$49,0) -> 44
A6: BIH | B6: Bosnia & Herzegovina | C6: =AVERAGEIF(Mental!$A:$A,$A6,Mental!E:E) -> 12.115385 | D6: =_xlfn.RANK.EQ(C6,C$2:C$49,0) -> 20 | E6: =AVERAGEIF(Mental!$A:$A,$A6,Mental!F:F) -> 13.884615 | F6: =_xlfn.RANK.EQ(E6,E$2:E$49,0) -> 11 | G6: =AVERAGEIF(Mental!$A:$A,$A6,Mental!G:G) -> 12.692308 | H6: =_xlfn.RANK.EQ(G6,G$2:G$49,0) -> 26 | I6: =AVERAGEIF(Mental!$A:$A,$A6,Mental!H:H) -> 13.115385 | J6: =_xlfn.RANK.EQ(I6,I$2:I$49,0) -> 16 | K6: =AVERAGEIF(Mental!$A:$A,$A6,Mental!I:I) -> 12.615385 | L6: =_xlfn.RANK.EQ(K6,K$2:K$49,0) -> 16 | M6: =AVERAGEIF(Mental!$A:$A,$A6,Mental!J:J) -> 12.461538 | N6: =_xlfn.RANK.EQ(M6,M$2:M$49,0) -> 27 | O6: =AVERAGEIF(Mental!$A:$A,$A6,Mental!K:K) -> 14.692308 | P6: =_xlfn.RANK.EQ(O6,O$2:O$49,0) -> 10 | Q6: =AVERAGEIF(Mental!$A:$A,$A6,Mental!L:L) -> 11.076923 | R6: =_xlfn.RANK.EQ(Q6,Q$2:Q$49,0) -> 21 | S6: =AVERAGEIF(Mental!$A:$A,$A6,Mental!M:M) -> 10.269231 | T6: =_xlfn.RANK.EQ(S6,S$2:S$49,0) -> 21 | U6: =AVERAGEIF(Mental!$A:$A,$A6,Mental!N:N) -> 11.576923 | V6: =_xlfn.RANK.EQ(U6,U$2:U$49,0) -> 18 | W6: =AVERAGEIF(Mental!$A:$A,$A6,Mental!O:O) -> 11.307692 | X6: =_xlfn.RANK.EQ(W6,W$2:W$49,0) -> 25 | Y6: =AVERAGEIF(Mental!$A:$A,$A6,Mental!P:P) -> 13.115385 | Z6: =_xlfn.RANK.EQ(Y6,Y$2:Y$49,0) -> 20 | AA6: =AVERAGEIF(Mental!$A:$A,$A6,Mental!Q:Q) -> 12.076923 | AB6: =_xlfn.RANK.EQ(AA6,AA$2:AA$49,0) -> 28 | AC6: =AVERAGEIF(Mental!$A:$A,$A6,Mental!R:R) -> 13.192308 | AD6: =_xlfn.RANK.EQ(AC6,AC$2:AC$49,0) -> 25
A7: CAN | B7: Canada | C7: =AVERAGEIF(Mental!$A:$A,$A7,Mental!E:E) -> 11.769231 | D7: =_xlfn.RANK.EQ(C7,C$2:C$49,0) -> 31 | E7: =AVERAGEIF(Mental!$A:$A,$A7,Mental!F:F) -> 12.307692 | F7: =_xlfn.RANK.EQ(E7,E$2:E$49,0) -> 40 | G7: =AVERAGEIF(Mental!$A:$A,$A7,Mental!G:G) -> 12.653846 | H7: =_xlfn.RANK.EQ(G7,G$2:G$49,0) -> 27 | I7: =AVERAGEIF(Mental!$A:$A,$A7,Mental!H:H) -> 12.230769 | J7: =_xlfn.RANK.EQ(I7,I$2:I$49,0) -> 38 | K7: =AVERAGEIF(Mental!$A:$A,$A7,Mental!I:I) -> 11.884615 | L7: =_xlfn.RANK.EQ(K7,K$2:K$49,0) -> 34 | M7: =AVERAGEIF(Mental!$A:$A,$A7,Mental!J:J) -> 11.884615 | N7: =_xlfn.RANK.EQ(M7,M$2:M$49,0) -> 42 | O7: =AVERAGEIF(Mental!$A:$A,$A7,Mental!K:K) -> 12.769231 | P7: =_xlfn.RANK.EQ(O7,O$2:O$49,0) -> 41 | Q7: =AVERAGEIF(Mental!$A:$A,$A7,Mental!L:L) -> 10.192308 | R7: =_xlfn.RANK.EQ(Q7,Q$2:Q$49,0) -> 36 | S7: =AVERAGEIF(Mental!$A:$A,$A7,Mental!M:M) -> 10.769231 | T7: =_xlfn.RANK.EQ(S7,S$2:S$49,0) -> 14 | U7: =AVERAGEIF(Mental!$A:$A,$A7,Mental!N:N) -> 10.461538 | V7: =_xlfn.RANK.EQ(U7,U$2:U$49,0) -> 42 | W7: =AVERAGEIF(Mental!$A:$A,$A7,Mental!O:O) -> 11.153846 | X7: =_xlfn.RANK.EQ(W7,W$2:W$49,0) -> 31 | Y7: =AVERAGEIF(Mental!$A:$A,$A7,Mental!P:P) -> 12.538462 | Z7: =_xlfn.RANK.EQ(Y7,Y$2:Y$49,0) -> 29 | AA7: =AVERAGEIF(Mental!$A:$A,$A7,Mental!Q:Q) -> 11.307692 | AB7: =_xlfn.RANK.EQ(AA7,AA$2:AA$49,0) -> 35 | AC7: =AVERAGEIF(Mental!$A:$A,$A7,Mental!R:R) -> 13.038462 | AD7: =_xlfn.RANK.EQ(AC7,AC$2:AC$49,0) -> 29
