Workbook

Sheet Teams
A1: TEAM | B1: POSITIONS | G1: AVERAGE | H1: FIRST GOALS | M1: TOTAL | N1: SEASONS | O1: FGs PER
B2: 2014/15 | C2: 2015/16 | D2: 2016/17 | E2: 2017/18 | F2: 2018/19 | G2: POSITION | H2: 2014/15 | I2: 2015/16 | J2: 2016/17 | K2: 2017/18 | L2: 2018/19 | O2: SEASON
A3: Arsenal | B3: 3 | C3: 2 | D3: 5 | E3: 6 | F3: 5 | G3: =AVERAGE(B3:F3) -> 4.2 | H3: =COUNTIF('2014-2015'!D:D,A3) -> 10 | I3: =COUNTIF('2015-2016'!D:D,A3) -> 9 | J3: =COUNTIF('2016-2017'!D:D,A3) -> 10 | K3: =COUNTIF('2017-2018'!D:D,A3) -> 11 | L3: =COUNTIF('2018-2019'!D:D,A3) -> 15 | M3: =SUM(H3,I3,J3,K3,L3) -> 55 | N3: =COUNT(B3:F3) -> 5 | O3: =M3/N3 -> 11
A4: Aston Villa | B4: 17 | C4: 20 | G4: =AVERAGE(B4:F4) -> 18.5 | H4: =COUNTIF('2014-2015'!D:D,A4) -> 14 | I4: =COUNTIF('2015-2016'!D:D,A4) -> 19 | J4: =COUNTIF('2016-2017'!D:D,A4) -> 0 | K4: =COUNTIF('2017-2018'!D:D,A4) -> 0 | L4: =COUNTIF('2018-2019'!D:D,A4) -> 0 | M4: =SUM(H4,I4,J4,K4,L4) -> 33 | N4: =COUNT(B4:F4) -> 2 | O4: =M4/N4 -> 16.5
A5: Bournemouth | C5: 16 | D5: 9 | E5: 12 | F5: 14 | G5: =AVERAGE(B5:F5) -> 12.75 | H5: =COUNTIF('2014-2015'!D:D,A5) -> 0 | I5: =COUNTIF('2015-2016'!D:D,A5) -> 23 | J5: =COUNTIF('2016-2017'!D:D,A5) -> 20 | K5: =COUNTIF('2017-2018'!D:D,A5) -> 15 | L5: =COUNTIF('2018-2019'!D:D,A5) -> 12 | M5: =SUM(H5,I5,J5,K5,L5) -> 70 | N5: =COUNT(B5:F5) -> 4 | O5: =M5/N5 -> 17.5
A6: Brighton & Hove Albion | E6: 15 | F6: 17 | G6: =AVERAGE(B6:F6) -> 16 | H6: =COUNTIF('2014-2015'!D:D,A6) -> 0 | I6: =COUNTIF('2015-2016'!D:D,A6) -> 0 | J6: =COUNTIF('2016-2017'!D:D,A6) -> 0 | K6: =COUNTIF('2017-2018'!D:D,A6) -> 15 | L6: =COUNTIF('2018-2019'!D:D,A6) -> 7 | M6: =SUM(H6,I6,J6,K6,L6) -> 22 | N6: =COUNT(B6:F6) -> 2 | O6: =M6/N6 -> 11
A7: Burnley | B7: 19 | D7: 16 | E7: 7 | F7: 15 | G7: =AVERAGE(B7:F7) -> 14.25 | H7: =COUNTIF('2014-2015'!D:D,A7) -> 15 | I7: =COUNTIF('2015-2016'!D:D,A7) -> 0 | J7: =COUNTIF('2016-2017'!D:D,A7) -> 16 | K7: =COUNTIF('2017-2018'!D:D,A7) -> 8 | L7: =COUNTIF('2018-2019'!D:D,A7) -> 17 | M7: =SUM(H7,I7,J7,K7,L7) -> 56 | N7: =COUNT(B7:F7) -> 4 | O7: =M7/N7 -> 14
A8: Cardiff City | F8: 18 | G8: =AVERAGE(B8:F8) -> 18 | H8: =COUNTIF('2014-2015'!D:D,A8) -> 0 | I8: =COUNTIF('2015-2016'!D:D,A8) -> 0 | J8: =COUNTIF('2016-2017'!D:D,A8) -> 0 | K8: =COUNTIF('2017-2018'!D:D,A8) -> 0 | L8: =COUNTIF('2018-2019'!D:D,A8) -> 19 | M8: =SUM(H8,I8,J8,K8,L8) -> 19 | N8: =COUNT(B8:F8) -> 1 | O8: =M8/N8 -> 19
A9: Chelsea | B9: 1 | C9: 10 | D9: 1 | E9: 5 | F9: 3 | G9: =AVERAGE(B9:F9) -> 4 | H9: =COUNTIF('2014-2015'!D:D,A9) -> 10 | I9: =COUNTIF('2015-2016'!D:D,A9) -> 13 | J9: =COUNTIF('2016-2017'!D:D,A9) -> 11 | K9: =COUNTIF('2017-2018'!D:D,A9) -> 10 | L9: =COUNTIF('2018-2019'!D:D,A9) -> 9 | M9: =SUM(H9,I9,J9,K9,L9) -> 53 | N9: =COUNT(B9:F9) -> 5 | O9: =M9/N9 -> 10.6
A10: Crystal Palace | B10: 10 | C10: 15 | D10: 14 | E10: 11 | F10: 12 | G10: =AVERAGE(B10:F10) -> 12.4 | H10: =COUNTIF('2014-2015'!D:D,A10) -> 17 | I10: =COUNTIF('2015-2016'!D:D,A10) -> 10 | J10: =COUNTIF('2016-2017'!D:D,A10) -> 22 | K10: =COUNTIF('2017-2018'!D:D,A10) -> 12 | L10: =COUNTIF('2018-2019'!D:D,A10) -> 14 | M10: =SUM(H10,I10,J10,K10,L10) -> 75 | N10: =COUNT(B10:F10) -> 5 | O10: =M10/N10 -> 15
A11: Everton | B11: 11 | C11: 11 | D11: 7 | E11: 8 | F11: 8 | G11: =AVERAGE(B11:F11) -> 9 | H11: =COUNTIF('2014-2015'!D:D,A11) -> 17 | I11: =COUNTIF('2015-2016'!D:D,A11) -> 18 | J11: =COUNTIF('2016-2017'!D:D,A11) -> 11 | K11: =COUNTIF('2017-2018'!D:D,A11) -> 17 | L11: =COUNTIF('2018-2019'!D:D,A11) -> 13 | M11: =SUM(H11,I11,J11,K11,L11) -> 76 | N11: =COUNT(B11:F11) -> 5 | O11: =M11/N11 -> 15.2
A12: Fulham | F12: 19 | G12: =AVERAGE(B12:F12) -> 19 | H12: =COUNTIF('2014-2015'!D:D,A12) -> 0 | I12: =COUNTIF('2015-2016'!D:D,A12) -> 0 | J12: =COUNTIF('2016-2017'!D:D,A12) -> 0 | K12: =COUNTIF('2017-2018'!D:D,A12) -> 0 | L12: =COUNTIF('2018-2019'!D:D,A12) -> 21 | M12: =SUM(H12,I12,J12,K12,L12) -> 21 | N12: =COUNT(B12:F12) -> 1 | O12: =M12/N12 -> 21
A13: Huddersfield Town | E13: 16 | F13: 20 | G13: =AVERAGE(B13:F13) -> 18 | H13: =COUNTIF('2014-2015'!D:D,A13) -> 0 | I13: =COUNTIF('2015-2016'!D:D,A13) -> 0 | J13: =COUNTIF('2016-2017'!D:D,A13) -> 0 | K13: =COUNTIF('2017-2018'!D:D,A13) -> 7 | L13: =COUNTIF('2018-2019'!D:D,A13) -> 18 | M13: =SUM(H13,I13,J13,K13,L13) -> 25 | N13: =COUNT(B13:F13) -> 2 | O13: =M13/N13 -> 12.5
A14: Hull City | B14: 18 | D14: 18 | G14: =AVERAGE(B14:F14) -> 18 | H14: =COUNTIF('2014-2015'!D:D,A14) -> 11 | I14: =COUNTIF('2015-2016'!D:D,A14) -> 0 | J14: =COUNTIF('2016-2017'!D:D,A14) -> 13 | K14: =COUNTIF('2017-2018'!D:D,A14) -> 0 | L14: =COUNTIF('2018-2019'!D:D,A14) -> 0 | M14: =SUM(H14,I14,J14,K14,L14) -> 24 | N14: =COUNT(B14:F14) -> 2 | O14: =M14/N14 -> 12
A15: Leicester City | B15: 14 | C15: 1 | D15: 12 | E15: 9 | F15: 9 | G15: =AVERAGE(B15:F15) -> 9 | H15: =COUNTIF('2014-2015'!D:D,A15) -> 13 | I15: =COUNTIF('2015-2016'!D:D,A15) -> 16 | J15: =COUNTIF('2016-2017'!D:D,A15) -> 13 | K15: =COUNTIF('2017-2018'!D:D,A15) -> 19 | L15: =COUNTIF('2018-2019'!D:D,A15) -> 16 | M15: =SUM(H15,I15,J15,K15,L15) -> 77 | N15: =COUNT(B15:F15) -> 5 | O15: =M15/N15 -> 15.4
A16: Liverpool | B16: 6 | C16: 8 | D16: 4 | E16: 4 | F16: 2 | G16: =AVERAGE(B16:F16) -> 4.8 | H16: =COUNTIF('2014-2015'!D:D,A16) -> 12 | I16: =COUNTIF('2015-2016'!D:D,A16) -> 11 | J16: =COUNTIF('2016-2017'!D:D,A16) -> 15 | K16: =COUNTIF('2017-2018'!D:D,A16) -> 12 | L16: =COUNTIF('2018-2019'!D:D,A16) -> 8 | M16: =SUM(H16,I16,J16,K16,L16) -> 58 | N16: =COUNT(B16:F16) -> 5 | O16: =M16/N16 -> 11.6
A17: Manchester City | B17: 2 | C17: 4 | D17: 3 | E17: 1 | F17: 1 | G17: =AVERAGE(B17:F17) -> 2.2 | H17: =COUNTIF('2014-2015'!D:D,A17) -> 6 | I17: =COUNTIF('2015-2016'!D:D,A17) -> 9 | J17: =COUNTIF('2016-2017'!D:D,A17) -> 9 | K17: =COUNTIF('2017-2018'!D:D,A17) -> 8 | L17: =COUNTIF('2018-2019'!D:D,A17) -> 6 | M17: =SUM(H17,I17,J17,K17,L17) -> 38 | N17: =COUNT(B17:F17) -> 5 | O17: =M17/N17 -> 7.6
A18: Manchester United | B18: 4 | C18: 5 | D18: 6 | E18: 2 | F18: 6 | G18: =AVERAGE(B18:F18) -> 4.6 | H18: =COUNTIF('2014-2015'!D:D,A18) -> 12 | I18: =COUNTIF('2015-2016'!D:D,A18) -> 6 | J18: =COUNTIF('2016-2017'!D:D,A18) -> 15 | K18: =COUNTIF('2017-2018'!D:D,A18) -> 7 | L18: =COUNTIF('2018-2019'!D:D,A18) -> 13 | M18: =SUM(H18,I18,J18,K18,L18) -> 53 | N18: =COUNT(B18:F18) -> 5 | O18: =M18/N18 -> 10.6
A19: Middlesbrough | D19: 19 | G19: =AVERAGE(B19:F19) -> 19 | H19: =COUNTIF('2014-2015'!D:D,A19) -> 0 | I19: =COUNTIF('2015-2016'!D:D,A19) -> 0 | J19: =COUNTIF('2016-2017'!D:D,A19) -> 14 | K19: =COUNTIF('2017-2018'!D:D,A19) -> 0 | L19: =COUNTIF('2018-2019'!D:D,A19) -> 0 | M19: =SUM(H19,I19,J19,K19,L19) -> 14 | N19: =COUNT(B19:F19) -> 1 | O19: =M19/N19 -> 14
A20: Newcastle United | B20: 15 | C20: 18 | E20: 10 | F20: 13 | G20: =AVERAGE(B20:F20) -> 14 | H20: =COUNTIF('2014-2015'!D:D,A20) -> 14 | I20: =COUNTIF('2015-2016'!D:D,A20) -> 16 | J20: =COUNTIF('2016-2017'!D:D,A20) -> 0 | K20: =COUNTIF('2017-2018'!D:D,A20) -> 8 | L20: =COUNTIF('2018-2019'!D:D,A20) -> 14 | M20: =SUM(H20,I20,J20,K20,L20) -> 52 | N20: =COUNT(B20:F20) -> 4 | O20: =M20/N20 -> 13
A21: Norwich City | C21: 19 | G21: =AVERAGE(B21:F21) -> 19 | H21: =COUNTIF('2014-2015'!D:D,A21) -> 0 | I21: =COUNTIF('2015-2016'!D:D,A21) -> 15 | J21: =COUNTIF('2016-2017'!D:D,A21) -> 0 | K21: =COUNTIF('2017-2018'!D:D,A21) -> 0 | L21: =COUNTIF('2018-2019'!D:D,A21) -> 0 | M21: =SUM(H21,I21,J21,K21,L21) -> 15 | N21: =COUNT(B21:F21) -> 1 | O21: =M21/N21 -> 15
A22: Queens Park Rangers | B22: 20 | G22: =AVERAGE(B22:F22) -> 20 | H22: =COUNTIF('2014-2015'!D:D,A22) -> 17 | I22: =COUNTIF('2015-2016'!D:D,A22) -> 0 | J22: =COUNTIF('2016-2017'!D:D,A22) -> 0 | K22: =COUNTIF('2017-2018'!D:D,A22) -> 0 | L22: =COUNTIF('2018-2019'!D:D,A22) -> 0 | M22: =SUM(H22,I22,J22,K22,L22) -> 17 | N22: =COUNT(B22:F22) -> 1 | O22: =M22/N22 -> 17
A23: Southampton | B23: 7 | C23: 6 | D23: 8 | E23: 17 | F23: 16 | G23: =AVERAGE(B23:F23) -> 10.8 | H23: =COUNTIF('2014-2015'!D:D,A23) -> 6 | I23: =COUNTIF('2015-2016'!D:D,A23) -> 9 | J23: =COUNTIF('2016-2017'!D:D,A23) -> 10 | K23: =COUNTIF('2017-2018'!D:D,A23) -> 10 | L23: =COUNTIF('2018-2019'!D:D,A23) -> 13 | M23: =SUM(H23,I23,J23,K23,L23) -> 48 | N23: =COUNT(B23:F23) -> 5 | O23: =M23/N23 -> 9.6
A24: Stoke City | B24: 9 | C24: 9 | D24: 13 | E24: 19 | G24: =AVERAGE(B24:F24) -> 12.5 | H24: =COUNTIF('2014-2015'!D:D,A24) -> 13 | I24: =COUNTIF('2015-2016'!D:D,A24) -> 17 | J24: =COUNTIF('2016-2017'!D:D,A24) -> 17 | K24: =COUNTIF('2017-2018'!D:D,A24) -> 18 | L24: =COUNTIF('2018-2019'!D:D,A24) -> 0 | M24: =SUM(H24,I24,J24,K24,L24) -> 65 | N24: =COUNT(B24:F24) -> 4 | O24: =M24/N24 -> 16.25
A25: Sunderland | B25: 16 | C25: 17 | D25: 20 | G25: =AVERAGE(B25:F25) -> 17.666667 | H25: =COUNTIF('2014-2015'!D:D,A25) -> 11 | I25: =COUNTIF('2015-2016'!D:D,A25) -> 13 | J25: =COUNTIF('2016-2017'!D:D,A25) -> 13 | K25: =COUNTIF('2017-2018'!D:D,A25) -> 0 | L25: =COUNTIF('2018-2019'!D:D,A25) -> 0 | M25: =SUM(H25,I25,J25,K25,L25) -> 37 | N25: =COUNT(B25:F25) -> 3 | O25: =M25/N25 -> 12.333333
A26: Swansea City | B26: 8 | C26: 12 | D26: 15 | E26: 18 | G26: =AVERAGE(B26:F26) -> 13.25 | H26: =COUNTIF('2014-2015'!D:D,A26) -> 8 | I26: =COUNTIF('2015-2016'!D:D,A26) -> 12 | J26: =COUNTIF('2016-2017'!D:D,A26) -> 8 | K26: =COUNTIF('2017-2018'!D:D,A26) -> 12 | L26: =COUNTIF('2018-2019'!D:D,A26) -> 0 | M26: =SUM(H26,I26,J26,K26,L26) -> 40 | N26: =COUNT(B26:F26) -> 4 | O26: =M26/N26 -> 10
A27: Tottenham Hotspur | B27: 5 | C27: 3 | D27: 2 | E27: 3 | F27: 4 | G27: =AVERAGE(B27:F27) -> 3.4 | H27: =COUNTIF('2014-2015'!D:D,A27) -> 13 | I27: =COUNTIF('2015-2016'!D:D,A27) -> 8 | J27: =COUNTIF('2016-2017'!D:D,A27) -> 7 | K27: =COUNTIF('2017-2018'!D:D,A27) -> 6 | L27: =COUNTIF('2018-2019'!D:D,A27) -> 10 | M27: =SUM(H27,I27,J27,K27,L27) -> 44 | N27: =COUNT(B27:F27) -> 5 | O27: =M27/N27 -> 8.8
A28: Watford | C28: 13 | D28: 17 | E28: 14 | F28: 11 | G28: =AVERAGE(B28:F28) -> 13.75 | H28: =COUNTIF('2014-2015'!D:D,A28) -> 0 | I28: =COUNTIF('2015-2016'!D:D,A28) -> 16 | J28: =COUNTIF('2016-2017'!D:D,A28) -> 15 | K28: =COUNTIF('2017-2018'!D:D,A28) -> 18 | L28: =COUNTIF('2018-2019'!D:D,A28) -> 8 | M28: =SUM(H28,I28,J28,K28,L28) -> 57 | N28: =COUNT(B28:F28) -> 4 | O28: =M28/N28 -> 14.25
A29: West Bromwich Albion | B29: 13 | C29: 14 | D29: 10 | E29: 20 | G29: =AVERAGE(B29:F29) -> 14.25 | H29: =COUNTIF('2014-2015'!D:D,A29) -> 14 | I29: =COUNTIF('2015-2016'!D:D,A29) -> 14 | J29: =COUNTIF('2016-2017'!D:D,A29) -> 10 | K29: =COUNTIF('2017-2018'!D:D,A29) -> 12 | L29: =COUNTIF('2018-2019'!D:D,A29) -> 0 | M29: =SUM(H29,I29,J29,K29,L29) -> 50 | N29: =COUNT(B29:F29) -> 4 | O29: =M29/N29 -> 12.5
A30: West Ham United | B30: 12 | C30: 7 | D30: 11 | E30: 13 | F30: 10 | G30: =AVERAGE(B30:F30) -> 10.6 | H30: =COUNTIF('2014-2015'!D:D,A30) -> 12 | I30: =COUNTIF('2015-2016'!D:D,A30) -> 11 | J30: =COUNTIF('2016-2017'!D:D,A30) -> 18 | K30: =COUNTIF('2017-2018'!D:D,A30) -> 24 | L30: =COUNTIF('2018-2019'!D:D,A30) -> 19 | M30: =SUM(H30,I30,J30,K30,L30) -> 84 | N30: =COUNT(B30:F30) -> 5 | O30: =M30/N30 -> 16.8
A31: Wolverhampton Wanderers | F31: 7 | G31: =AVERAGE(B31:F31) -> 7 | H31: =COUNTIF('2014-2015'!D:D,A31) -> 0 | I31: =COUNTIF('2015-2016'!D:D,A31) -> 0 | J31: =COUNTIF('2016-2017'!D:D,A31) -> 0 | K31: =COUNTIF('2017-2018'!D:D,A31) -> 0 | L31: =COUNTIF('2018-2019'!D:D,A31) -> 15 | M31: =SUM(H31,I31,J31,K31,L31) -> 15 | N31: =COUNT(B31:F31) -> 1 | O31: =M31/N31 -> 15

Sheet Positions
A1: POSITION | B1: FIRST-GOALS CONCEDED PER POSITION | H1: TOTAL GOALS CONCEDED PER POSITION | N1: % OF FIRST-GOALS CONCEDED PER POSITION
B2: 2014/15 | C2: 2015/16 | D2: 2016/17 | E2: 2017/18 | F2: 2018/19 | G2: TOTAL | H2: 2014/15 | I2: 2015/16 | J2: 2016/17 | K2: 2017/18 | L2: 2018/19 | M2: AVERAGE | N2: 2014/15 | O2: 2015/16 | P2: 2016/17 | Q2: 2017/18 | R2: 2018/19 | S2: AVERAGE
A3: 1 | B3: =SUMIF(Teams!B:B,A3,Teams!H:H) -> 10 | C3: =SUMIF(Teams!C:C,A3,Teams!I:I) -> 16 | D3: =SUMIF(Teams!D:D,A3,Teams!J:J) -> 11 | E3: =SUMIF(Teams!E:E,A3,Teams!K:K) -> 8 | F3: =SUMIF(Teams!F:F,A3,Teams!L:L) -> 6 | G3: =SUM(B3:F3) -> 51 | H3: 32 | I3: 36 | J3: 33 | K3: 27 | L3: 23 | M3: =AVERAGE(H3:L3) -> 30.2 | N3: =B3/H3 -> 0.3125 | O3: =C3/I3 -> 0.44444444 | P3: =D3/J3 -> 0.33333333 | Q3: =E3/K3 -> 0.2962963 | R3: =F3/L3 -> 0.26086957 | S3: =AVERAGE(N3:R3) -> 0.32948873
A4: 2 | B4: =SUMIF(Teams!B:B,A4,Teams!H:H) -> 6 | C4: =SUMIF(Teams!C:C,A4,Teams!I:I) -> 9 | D4: =SUMIF(Teams!D:D,A4,Teams!J:J) -> 7 | E4: =SUMIF(Teams!E:E,A4,Teams!K:K) -> 7 | F4: =SUMIF(Teams!F:F,A4,Teams!L:L) -> 8 | G4: =SUM(B4:F4) -> 37 | H4: 38 | I4: 36 | J4: 26 | K4: 28 | L4: 22 | M4: =AVERAGE(H4:L4) -> 30 | N4: =B4/H4 -> 0.15789474 | O4: =C4/I4 -> 0.25 | P4: =D4/J4 -> 0.26923077 | Q4: =E4/K4 -> 0.25 | R4: =F4/L4 -> 0.36363636 | S4: =AVERAGE(N4:R4) -> 0.25815237
A5: 3 | B5: =SUMIF(Teams!B:B,A5,Teams!H:H) -> 10 | C5: =SUMIF(Teams!C:C,A5,Teams!I:I) -> 8 | D5: =SUMIF(Teams!D:D,A5,Teams!J:J) -> 9 | E5: =SUMIF(Teams!E:E,A5,Teams!K:K) -> 6 | F5: =SUMIF(Teams!F:F,A5,Teams!L:L) -> 9 | G5: =SUM(B5:F5) -> 42 | H5: 36 | I5: 35 | J5: 39 | K5: 36 | L5: 39 | M5: =AVERAGE(H5:L5) -> 37 | N5: =B5/H5 -> 0.27777778 | O5: =C5/I5 -> 0.22857143 | P5: =D5/J5 -> 0.23076923 | Q5: =E5/K5 -> 0.16666667 | R5: =F5/L5 -> 0.23076923 | S5: =AVERAGE(N5:R5) -> 0.22691087
A6: 4 | B6: =SUMIF(Teams!B:B,A6,Teams!H:H) -> 12 | C6: =SUMIF(Teams!C:C,A6,Teams!I:I) -> 9 | D6: =SUMIF(Teams!D:D,A6,Teams!J:J) -> 15 | E6: =SUMIF(Teams!E:E,A6,Teams!K:K) -> 12 | F6: =SUMIF(Teams!F:F,A6,Teams!L:L) -> 10 | G6: =SUM(B6:F6) -> 58 | H6: 37 | I6: 41 | J6: 42 | K6: 38 | L6: 39 | M6: =AVERAGE(H6:L6) -> 39.4 | N6: =B6/H6 -> 0.32432432 | O6: =C6/I6 -> 0.2195122 | P6: =D6/J6 -> 0.35714286 | Q6: =E6/K6 -> 0.31578947 | R6: =F6/L6 -> 0.25641026 | S6: =AVERAGE(N6:R6) -> 0.29463582
A7: 5 | B7: =SUMIF(Teams!B:B,A7,Teams!H:H) -> 13 | C7: =SUMIF(Teams!C:C,A7,Teams!I:I) -> 6 | D7: =SUMIF(Teams!D:D,A7,Teams!J:J) -> 10 | E7: =SUMIF(Teams!E:E,A7,Teams!K:K) -> 10 | F7: =SUMIF(Teams!F:F,A7,Teams!L:L) -> 15 | G7: =SUM(B7:F7) -> 54 | H7: 53 | I7: 35 | J7: 44 | K7: 38 | L7: 51 | M7: =AVERAGE(H7:L7) -> 44.2 | N7: =B7/H7 -> 0.24528302 | O7: =C7/I7 -> 0.17142857 | P7: =D7/J7 -> 0.22727273 | Q7: =E7/K7 -> 0.26315789 | R7: =F7/L7 -> 0.29411765 | S7: =AVERAGE(N7:R7) -> 0.24025197
A8: 6 | B8: =SUMIF(Teams!B:B,A8,Teams!H:H) -> 12 | C8: =SUMIF(Teams!C:C,A8,Teams!I:I) -> 9 | D8: =SUMIF(Teams!D:D,A8,Teams!J:J) -> 15 | E8: =SUMIF(Teams!E:E,A8,Teams!K:K) -> 11 | F8: =SUMIF(Teams!F:F,A8,Teams!L:L) -> 13 | G8: =SUM(B8:F8) -> 60 | H8: 48 | I8: 41 | J8: 29 | K8: 51 | L8: 54 | M8: =AVERAGE(H8:L8) -> 44.6 | N8: =B8/H8 -> 0.25 | O8: =C8/I8 -> 0.2195122 | P8: =D8/J8 -> 0.51724138 | Q8: =E8/K8 -> 0.21568627 | R8: =F8/L8 -> 0.24074074 | S8: =AVERAGE(N8:R8) -> 0.28863612
A9: 7 | B9: =SUMIF(Teams!B:B,A9,Teams!H:H) -> 6 | C9: =SUMIF(Teams!C:C,A9,Teams!I:I) -> 11 | D9: =SUMIF(Teams!D:D,A9,Teams!J:J) -> 11 | E9: =SUMIF(Teams!E:E,A9,Teams!K:K) -> 8 | F9: =SUMIF(Teams!F:F,A9,Teams!L:L) -> 15 | G9: =SUM(B9:F9) -> 51 | H9: 33 | I9: 51 | J9: 44 | K9: 39 | L9: 46 | M9: =AVERAGE(H9:L9) -> 42.6 | N9: =B9/H9 -> 0.18181818 | O9: =C9/I9 -> 0.21568627 | P9: =D9/J9 -> 0.25 | Q9: =E9/K9 -> 0.20512821 | R9: =F9/L9 -> 0.32608696 | S9: =AVERAGE(N9:R9) -> 0.23574392
A10: 8 | B10: =SUMIF(Teams!B:B,A10,Teams!H:H) -> 8 | C10: =SUMIF(Teams!C:C,A10,Teams!I:I) -> 11 | D10: =SUMIF(Teams!D:D,A10,Teams!J:J) -> 10 | E10: =SUMIF(Teams!E:E,A10,Teams!K:K) -> 17 | F10: =SUMIF(Teams!F:F,A10,Teams!L:L) -> 13 | G10: =SUM(B10:F10) -> 59 | H10: 49 | I10: 50 | J10: 48 | K10: 58 | L10: 46 | M10: =AVERAGE(H10:L10) -> 50.2 | N10: =B10/H10 -> 0.16326531 | O10: =C10/I10 -> 0.22 | P10: =D10/J10 -> 0.20833333 | Q10: =E10/K10 -> 0.29310345 | R10: =F10/L10 -> 0.2826087 | S10: =AVERAGE(N10:R10) -> 0.23346216
A11: 9 | B11: =SUMIF(Teams!B:B,A11,Teams!H:H) -> 13 | C11: =SUMIF(Teams!C:C,A11,Teams!I:I) -> 17 | D11: =SUMIF(Teams!D:D,A11,Teams!J:J) -> 20 | E11: =SUMIF(Teams!E:E,A11,Teams!K:K) -> 19 | F11: =SUMIF(Teams!F:F,A11,Teams!L:L) -> 16 | G11: =SUM(B11:F11) -> 85 | H11: 45 | I11: 55 | J11: 67 | K11: 60 | L11: 48 | M11: =AVERAGE(H11:L11) -> 55 | N11: =B11/H11 -> 0.28888889 | O11: =C11/I11 -> 0.30909091 | P11: =D11/J11 -> 0.29850746 | Q11: =E11/K11 -> 0.31666667 | R11: =F11/L11 -> 0.33333333 | S11: =AVERAGE(N11:R11) -> 0.30929745
A12: 10 | B12: =SUMIF(Teams!B:B,A12,Teams!H:H) -> 17 | C12: =SUMIF(Teams!C:C,A12,Teams!I:I) -> 13 | D12: =SUMIF(Teams!D:D,A12,Teams!J:J) -> 10 | E12: =SUMIF(Teams!E:E,A12,Teams!K:K) -> 8 | F12: =SUMIF(Teams!F:F,A12,Teams!L:L) -> 19 | G12: =SUM(B12:F12) -> 67 | H12: 51 | I12: 53 | J12: 51 | K12: 47 | L12: 55 | M12: =AVERAGE(H12:L12) -> 51.4 | N12: =B12/H12 -> 0.33333333 | O12: =C12/I12 -> 0.24528302 | P12: =D12/J12 -> 0.19607843 | Q12: =E12/K12 -> 0.17021277 | R12: =F12/L12 -> 0.34545455 | S12: =AVERAGE(N12:R12) -> 0.25807242
A13: 11 | B13: =SUMIF(Teams!B:B,A13,Teams!H:H) -> 17 | C13: =SUMIF(Teams!C:C,A13,Teams!I:I) -> 18 | D13: =SUMIF(Teams!D:D,A13,Teams!J:J) -> 18 | E13: =SUMIF(Teams!E:E,A13,Teams!K:K) -> 12 | F13: =SUMIF(Teams!F:F,A13,Teams!L:L) -> 8 | G13: =SUM(B13:F13) -> 73 | H13: 50 | I13: 55 | J13: 64 | K13: 55 | L13: 59 | M13: =AVERAGE(H13:L13) -> 56.6 | N13: =B13/H13 -> 0.34 | O13: =C13/I13 -> 0.32727273 | P13: =D13/J13 -> 0.28125 | Q13: =E13/K13 -> 0.21818182 | R13: =F13/L13 -> 0.13559322 | S13: =AVERAGE(N13:R13) -> 0.26045955
A14: 12 | B14: =SUMIF(Teams!B:B,A14,Teams!H:H) -> 12 | C14: =SUMIF(Teams!C:C,A14,Teams!I:I) -> 12 | D14: =SUMIF(Teams!D:D,A14,Teams!J:J) -> 13 | E14: =SUMIF(Teams!E:E,A14,Teams!K:K) -> 15 | F14: =SUMIF(Teams!F:F,A14,Teams!L:L) -> 14 | G14: =SUM(B14:F14) -> 66 | H14: 47 | I14: 52 | J14: 63 | K14: 61 | L14: 53 | M14: =AVERAGE(H14:L14) -> 55.2 | N14: =B14/H14 -> 0.25531915 | O14: =C14/I14 -> 0.23076923 | P14: =D14/J14 -> 0.20634921 | Q14: =E14/K14 -> 0.24590164 | R14: =F14/L14 -> 0.26415094 | S14: =AVERAGE(N14:R14) -> 0.24049803
... A22: 20 | B22: =SUMIF(Teams!B:B,A22,Teams!H:H) -> 17 | C22: =SUMIF(Teams!C:C,A22,Teams!I:I) -> 19 | D22: =SUMIF(Teams!D:D,A22,Teams!J:J) -> 13 | E22: =SUMIF(Teams!E:E,A22,Teams!K:K) -> 12 | F22: =SUMIF(Teams!F:F,A22,Teams!L:L) -> 18 | G22: =SUM(B22:F22) -> 79 | H22: 73 | I22: 76 | J22: 69 | K22: 56 | L22: 76 | M22: =AVERAGE(H22:L22) -> 70 | N22: =B22/H22 -> 0.23287671 | O22: =C22/I22 -> 0.25 | P22: =D22/J22 -> 0.1884058 | Q22: =E22/K22 -> 0.21428571 | R22: =F22/L22 -> 0.23684211 | S22: =AVERAGE(N22:R22) -> 0.22448207
A23: RANGE | B23: 2014/15 | C23: 2015/16 | D23: 2016/17 | E23: 2017/18 | F23: 2018/19 | G23: AVERAGE | H23: 2014/15 | I23: 2015/16 | J23: 2016/17 | K23: 2017/18 | L23: 2018/19 | M23: AVERAGE | N23: 2014/15 | O23: 2015/16 | P23: 2016/17 | Q23: 2017/18 | R23: 2018/19 | S23: AVERAGE
A24: 1st - 4th | B24: =AVERAGE(B3:B6) -> 9.5 | C24: =AVERAGE(C3:C6) -> 10.5 | D24: =AVERAGE(D3:D6) -> 10.5 | E24: =AVERAGE(E3:E6) -> 8.25 | F24: =AVERAGE(F3:F6) -> 8.25 | G24: =AVERAGE(B24:F24) -> 9.4 | H24: =AVERAGE(H3:H6) -> 35.75 | I24: =AVERAGE(I3:I6) -> 37 | J24: =AVERAGE(J3:J6) -> 35 | K24: =AVERAGE(K3:K6) -> 32.25 | L24: =AVERAGE(L3:L6) -> 30.75 | M24: =AVERAGE(H24:L24) -> 34.15 | N24: =B24/H24 -> 0.26573427 | O24: =C24/I24 -> 0.28378378 | P24: =D24/J24 -> 0.3 | Q24: =E24/K24 -> 0.25581395 | R24: =F24/L24 -> 0.26829268 | S24: =AVERAGE(N24:R24) -> 0.27472494
A25: 5th - 8th | B25: =AVERAGE(B7:B10) -> 9.75 | C25: =AVERAGE(C7:C10) -> 9.25 | D25: =AVERAGE(D7:D10) -> 11.5 | E25: =AVERAGE(E7:E10) -> 11.5 | F25: =AVERAGE(F7:F10) -> 14 | G25: =AVERAGE(B25:F25) -> 11.2 | H25: =AVERAGE(H7:H10) -> 45.75 | I25: =AVERAGE(I7:I10) -> 44.25 | J25: =AVERAGE(J7:J10) -> 41.25 | K25: =AVERAGE(K7:K10) -> 46.5 | L25: =AVERAGE(L7:L10) -> 49.25 | M25: =AVERAGE(H25:L25) -> 45.4 | N25: =B25/H25 -> 0.21311475 | O25: =C25/I25 -> 0.20903955 | P25: =D25/J25 -> 0.27878788 | Q25: =E25/K25 -> 0.24731183 | R25: =F25/L25 -> 0.28426396 | S25: =AVERAGE(N25:R25) -> 0.24650359
A26: 9th - 12th | B26: =AVERAGE(B11:B14) -> 14.75 | C26: =AVERAGE(C11:C14) -> 15 | D26: =AVERAGE(D11:D14) -> 15.25 | E26: =AVERAGE(E11:E14) -> 13.5 | F26: =AVERAGE(F11:F14) -> 14.25 | G26: =AVERAGE(B26:F26) -> 14.55 | H26: =AVERAGE(H11:H14) -> 48.25 | I26: =AVERAGE(I11:I14) -> 53.75 | J26: =AVERAGE(J11:J14) -> 61.25 | K26: =AVERAGE(K11:K14) -> 55.75 | L26: =AVERAGE(L11:L14) -> 53.75 | M26: =AVERAGE(H26:L26) -> 54.55 | N26: =B26/H26 -> 0.30569948 | O26: =C26/I26 -> 0.27906977 | P26: =D26/J26 -> 0.24897959 | Q26: =E26/K26 -> 0.24215247 | R26: =F26/L26 -> 0.26511628 | S26: =AVERAGE(N26:R26) -> 0.26820352
A27: 13th - 16th | B27: =AVERAGE(B15:B18) -> 13 | C27: =AVERAGE(C15:C18) -> 15.75 | D27: =AVERAGE(D15:D18) -> 15.75 | E27: =AVERAGE(E15:E18) -> 16 | F27: =AVERAGE(F15:F18) -> 14 | G27: =AVERAGE(B27:F27) -> 14.9 | H27: =AVERAGE(H15:H18) -> 55.5 | I27: =AVERAGE(I15:I18) -> 54 | J27: =AVERAGE(J15:J18) -> 61 | K27: =AVERAGE(K15:K18) -> 61 | L27: =AVERAGE(L15:L18) -> 62.75 | M27: =AVERAGE(H27:L27) -> 58.85 | N27: =B27/H27 -> 0.23423423 | O27: =C27/I27 -> 0.29166667 | P27: =D27/J27 -> 0.25819672 | Q27: =E27/K27 -> 0.26229508 | R27: =F27/L27 -> 0.22310757 | S27: =AVERAGE(N27:R27) -> 0.25390005
A28: 17th - 20th | B28: =AVERAGE(B19:B22) -> 14.25 | C28: =AVERAGE(C19:C22) -> 15.75 | D28: =AVERAGE(D19:D22) -> 13.75 | E28: =AVERAGE(E19:E22) -> 13 | F28: =AVERAGE(F19:F22) -> 16.25 | G28: =AVERAGE(B28:F28) -> 14.6 | H28: =AVERAGE(H19:H22) -> 58.5 | I28: =AVERAGE(I19:I22) -> 67.5 | J28: =AVERAGE(J19:J22) -> 67.5 | K28: =AVERAGE(K19:K22) -> 59 | L28: =AVERAGE(L19:L22) -> 71.5 | M28: =AVERAGE(H28:L28) -> 64.8 | N28: =B28/H28 -> 0.24358974 | O28: =C28/I28 -> 0.23333333 | P28: =D28/J28 -> 0.2037037 | Q28: =E28/K28 -> 0.22033898 | R28: =F28/L28 -> 0.22727273 | S28: =AVERAGE(N28:R28) -> 0.2256477

Sheet Months
A1: NO. | B1: MONTH | C1: 2014/15 | D1: 2015/16 | E1: 2016/17 | F1: 2017/18 | G1: 2018/19 | H1: TOTAL | I1: AVERAGE | J1: PERCENT
A2: 8 | B2: August | C2: {=SUMPRODUCT(1*(MONTH('2014-2015'!A:A)=A2))} -> 60 | D2: {=SUMPRODUCT(1*(MONTH('2015-2016'!A:A)=A2))} -> 65 | E2: {=SUMPRODUCT(1*(MONTH('2016-2017'!A:A)=A2))} -> 56 | F2: {=SUMPRODUCT(1*(MONTH('2017-2018'!A:A)=A2))} -> 52 | G2: {=SUMPRODUCT(1*(MONTH('2018-2019'!A:A)=A2))} -> 63 | H2: =SUM(C2:G2) -> 296 | I2: =AVERAGE(C2:G2) -> 59.2 | J2: =SUM(H2/H12) -> 0.22892498
A3: 9 | B3: September | C3: {=SUMPRODUCT(1*(MONTH('2014-2015'!A:A)=A3))} -> 41 | D3: {=SUMPRODUCT(1*(MONTH('2015-2016'!A:A)=A3))} -> 43 | E3: {=SUMPRODUCT(1*(MONTH('2016-2017'!A:A)=A3))} -> 45 | F3: {=SUMPRODUCT(1*(MONTH('2017-2018'!A:A)=A3))} -> 39 | G3: {=SUMPRODUCT(1*(MONTH('2018-2019'!A:A)=A3))} -> 46 | H3: =SUM(C3:G3) -> 214 | I3: =AVERAGE(C3:G3) -> 42.8 | J3: =SUM(H3/H12) -> 0.16550657
A4: 10 | B4: October | C4: {=SUMPRODUCT(1*(MONTH('2014-2015'!A:A)=A4))} -> 28 | D4: {=SUMPRODUCT(1*(MONTH('2015-2016'!A:A)=A4))} -> 25 | E4: {=SUMPRODUCT(1*(MONTH('2016-2017'!A:A)=A4))} -> 26 | F4: {=SUMPRODUCT(1*(MONTH('2017-2018'!A:A)=A4))} -> 37 | G4: {=SUMPRODUCT(1*(MONTH('2018-2019'!A:A)=A4))} -> 29 | H4: =SUM(C4:G4) -> 145 | I4: =AVERAGE(C4:G4) -> 29 | J4: =SUM(H4/H12) -> 0.1121423
A5: 11 | B5: November | C5: {=SUMPRODUCT(1*(MONTH('2014-2015'!A:A)=A5))} -> 24 | D5: {=SUMPRODUCT(1*(MONTH('2015-2016'!A:A)=A5))} -> 20 | E5: {=SUMPRODUCT(1*(MONTH('2016-2017'!A:A)=A5))} -> 20 | F5: {=SUMPRODUCT(1*(MONTH('2017-2018'!A:A)=A5))} -> 31 | G5: {=SUMPRODUCT(1*(MONTH('2018-2019'!A:A)=A5))} -> 18 | H5: =SUM(C5:G5) -> 113 | I5: =AVERAGE(C5:G5) -> 22.6 | J5: =SUM(H5/H12) -> 0.087393658
A6: 12 | B6: December | C6: {=SUMPRODUCT(1*(MONTH('2014-2015'!A:A)=A6))} -> 31 | D6: {=SUMPRODUCT(1*(MONTH('2015-2016'!A:A)=A6))} -> 28 | E6: {=SUMPRODUCT(1*(MONTH('2016-2017'!A:A)=A6))} -> 41 | F6: {=SUMPRODUCT(1*(MONTH('2017-2018'!A:A)=A6))} -> 37 | G6: {=SUMPRODUCT(1*(MONTH('2018-2019'!A:A)=A6))} -> 37 | H6: =SUM(C6:G6) -> 174 | I6: =AVERAGE(C6:G6) -> 34.8 | J6: =SUM(H6/H12) -> 0.13457077
A7: 1 | B7: January | C7: {=SUMPRODUCT(1*(MONTH('2014-2015'!A2:A246)=A7))} -> 15 | D7: {=SUMPRODUCT(1*(MONTH('2015-2016'!A2:A266)=A7))} -> 23 | E7: {=SUMPRODUCT(1*(MONTH('2016-2017'!A2:A268)=A7))} -> 15 | F7: {=SUMPRODUCT(1*(MONTH('2017-2018'!A2:A250)=A7))} -> 18 | G7: {=SUMPRODUCT(1*(MONTH('2018-2019'!A2:A268)=A7))} -> 24 | H7: =SUM(C7:G7) -> 95 | I7: =AVERAGE(C7:G7) -> 19 | J7: =SUM(H7/H12) -> 0.073472544
A8: 2 | B8: February | C8: {=SUMPRODUCT(1*(MONTH('2014-2015'!A:A)=A8))} -> 13 | D8: {=SUMPRODUCT(1*(MONTH('2015-2016'!A:A)=A8))} -> 19 | E8: {=SUMPRODUCT(1*(MONTH('2016-2017'!A:A)=A8))} -> 16 | F8: {=SUMPRODUCT(1*(MONTH('2017-2018'!A:A)=A8))} -> 12 | G8: {=SUMPRODUCT(1*(MONTH('2018-2019'!A:A)=A8))} -> 17 | H8: =SUM(C8:G8) -> 77 | I8: =AVERAGE(C8:G8) -> 15.4 | J8: =SUM(H8/H12) -> 0.059551431
A9: 3 | B9: March | C9: {=SUMPRODUCT(1*(MONTH('2014-2015'!A:A)=A9))} -> 10 | D9: {=SUMPRODUCT(1*(MONTH('2015-2016'!A:A)=A9))} -> 9 | E9: {=SUMPRODUCT(1*(MONTH('2016-2017'!A:A)=A9))} -> 11 | F9: {=SUMPRODUCT(1*(MONTH('2017-2018'!A:A)=A9))} -> 10 | G9: {=SUMPRODUCT(1*(MONTH('2018-2019'!A:A)=A9))} -> 10 | H9: =SUM(C9:G9) -> 50 | I9: =AVERAGE(C9:G9) -> 10 | J9: =SUM(H9/H12) -> 0.03866976
A10: 4 | B10: April | C10: {=SUMPRODUCT(1*(MONTH('2014-2015'!A:A)=A10))} -> 17 | D10: {=SUMPRODUCT(1*(MONTH('2015-2016'!A:A)=A10))} -> 24 | E10: {=SUMPRODUCT(1*(MONTH('2016-2017'!A:A)=A10))} -> 21 | F10: {=SUMPRODUCT(1*(MONTH('2017-2018'!A:A)=A10))} -> 8 | G10: {=SUMPRODUCT(1*(MONTH('2018-2019'!A:A)=A10))} -> 15 | H10: =SUM(C10:G10) -> 85 | I10: =AVERAGE(C10:G10) -> 17 | J10: =SUM(H10/H12) -> 0.065738592
A11: 5 | B11: May | C11: {=SUMPRODUCT(1*(MONTH('2014-2015'!A:A)=A11))} -> 6 | D11: {=SUMPRODUCT(1*(MONTH('2015-2016'!A:A)=A11))} -> 9 | E11: {=SUMPRODUCT(1*(MONTH('2016-2017'!A:A)=A11))} -> 16 | F11: {=SUMPRODUCT(1*(MONTH('2017-2018'!A:A)=A11))} -> 5 | G11: {=SUMPRODUCT(1*(MONTH('2018-2019'!A:A)=A11))} -> 8 | H11: =SUM(C11:G11) -> 44 | I11: =AVERAGE(C11:G11) -> 8.8 | J11: =SUM(H11/H12) -> 0.034029389
B12: TOTAL | C12: =SUM(C2:C11) -> 245 | D12: =SUM(D2:D11) -> 265 | E12: =SUM(E2:E11) -> 267 | F12: =SUM(F2:F11) -> 249 | G12: =SUM(G2:G11) -> 267 | H12: =SUM(C12:G12) -> 1293 | I12: =H12/5 -> 258.6

Sheet 2014-2015
B1: Goalscorer | C1: FOR | D1: AGAINST | E1: Goals scored in 'first-goal' match
A2: 41881 | B2: Aarons, Rolando | C2: Newcastle United | D2: Crystal Palace | E2: 1
A3: 41916 | B3: Adam, Charlie | C3: Stoke City | D3: Sunderland | E3: 1
A4: 41875 | B4: Adebayor, Emmanuel | C4: Tottenham Hotspur | D4: Queens Park Rangers | E4: 1
A5: 41882 | B5: Agbonlahor, Gabriel | C5: Aston Villa | D5: Hull City | E5: 1
A6: 41868 | B6: Aguero, Sergio | C6: Manchester City | D6: Newcastle United | E6: 1
A7: 42123 | B7: Albrighton, Marc | C7: Leicester City | D7: Chelsea | E7: 1
A8: 41999 | B8: Alderweireld, Toby | C8: Southampton | D8: Crystal Palace | E8: 1
A9: 42107 | B9: Allen, Joe | C9: Liverpool | D9: Newcastle United | E9: 1
A10: 41976 | B10: Aluko, Sone | C10: Hull City | D10: Everton | E10: 1
A11: 41902 | B11: Amalfitano, Morgan | C11: West Ham United | D11: Liverpool | E11: 1
A12: 41938 | B12: Ameobi, Sammy | C12: Newcastle United | D12: Tottenham Hotspur | E12: 1
A13: 41937 | B13: Anichebe, Victor | C13: West Bromwich Albion | D13: Crystal Palace | E13: 1
... A246: 41874 | B246: Zarate, Mauro | C246: West Ham United | D246: Crystal Palace | E246: 1

Sheet 2015-2016
B1: Goalscorer | C1: FOR | D1: AGAINST | E1: Goals scored in 'first-goal' match
A2: 42505 | B2: Aarons, Rolando | C2: Newcastle United | D2: Tottenham Hotspur | E2: 1
A3: 42301 | B3: Abdi, Almen | C3: Watford | D3: Stoke City | E3: 1
A4: 42497 | B4: Adam, Charlie | C4: Stoke City | D4: Crystal Palace | E4: 1
A5: 42413 | B5: Adebayor, Emmanuel | C5: Crystal Palace | D5: Watford | E5: 1
A6: 42413 | B6: Afellay, Ibrahim | C6: Stoke City | D6: Bournemouth | E6: 1
A7: 42385 | B7: Afobe, Benik | C7: Bournemouth | D7: Norwich City | E7: 1
A8: 42406 | B8: Agbonlahor, Gabriel | C8: Aston Villa | D8: Norwich City | E8: 1
A9: 42232 | B9: Aguero, Sergio | C9: Manchester City | D9: Chelsea | E9: 1
A10: 42358 | B10: Ake, Nathan | C10: Watford | D10: Liverpool | E10: 1
A11: 42224 | B11: Albrighton, Marc | C11: Leicester City | D11: Sunderland | E11: 1
A12: 42273 | B12: Alderweireld, Toby | C12: Tottenham Hotspur | D12: Manchester City | E12: 1
A13: 42382 | B13: Allen, Joe | C13: Liverpool | D13: Arsenal | E13: 1
... A266: 42266 | B266: Zouma, Kurt | C266: Chelsea | D266: Arsenal | E266: 1

Sheet 2016-2017
B1: Goalscorer | C1: FOR | D1: AGAINST | E1: Goals scored in 'first-goal' match
A2: 42714 | B2: Adam, Charlie | C2: Stoke City | D2: Arsenal | E2: 1
A3: 42714 | B3: Afobe, Benik | C3: Bournemouth | D3: Burnley | E3: 1
A4: 42595 | B4: Aguero, Sergio | C4: Manchester City | D4: Sunderland | E4: 1
A5: 42693 | B5: Ake, Nathan | C5: Bournemouth | D5: Stoke City | E5: 1
A6: 42834 | B6: Albrighton, Marc | C6: Leicester City | D6: Everton | E6: 1
A7: 42876 | B7: Alderweireld, Toby | C7: Tottenham Hotspur | D7: Hull City | E7: 1
A8: 42637 | B8: Allen, Joe | C8: Stoke City | D8: West Bromwich Albion | E8: 1
A9: 42623 | B9: Alli, Dele | C9: Tottenham Hotspur | D9: Stoke City | E9: 1
A10: 42679 | B10: Alonso, Marcos | C10: Chelsea | D10: Everton | E10: 1
A11: 42721 | B11: Amartey, Daniel | C11: Leicester City | D11: Stoke City | E11: 1
A12: 42679 | B12: Anichebe, Victor | C12: Sunderland | D12: Bournemouth | E12: 1
A13: 42603 | B13: Antonio, Michail | C13: West Ham United | D13: Bournemouth | E13: 1
... A268: 42631 | B268: Zuniga, Camilo | C268: Watford | D268: Manchester United | E268: 1

Sheet 2017-2018
B1: Goalscorer | C1: FOR | D1: AGAINST | E1: Goals scored in 'first-goal' match
A2: 42973 | B2: Abraham, Tammy | C2: Swansea City | D2: Crystal Palace | E2: 1
A3: 42959 | B3: Aguero, Sergio | C3: Manchester City | D3: Brighton & Hove Albion | E3: 1
A4: 43095 | B4: Ake, Nathan | C4: Bournemouth | D4: West Ham United | E4: 1
A5: 43063 | B5: Albrighton, Marc | C5: Leicester City | D5: West Ham United | E5: 1
A6: 43095 | B6: Alexander-Arnold, Trent | C6: Liverpool | D6: Swansea City | E6: 1
A7: 43092 | B7: Allen, Joe | C7: Stoke City | D7: West Bromwich Albion | E7: 1
A8: 42960 | B8: Alli, Dele | C8: Tottenham Hotspur | D8: Newcastle United | E8: 1
A9: 42967 | B9: Alonso, Marcos | C9: Chelsea | D9: Tottenham Hotspur | E9: 2
A10: 43022 | B10: Antonio, Michail | C10: West Ham United | D10: Burnley | E10: 1
A11: 42994 | B11: Arfield, Scott | C11: Burnley | D11: Liverpool | E11: 1
A12: 43078 | B12: Arnautovic, Marko | C12: West Ham United | D12: Chelsea | E12: 1
A13: 43057 | B13: Arter, Harry | C13: Bournemouth | D13: Huddersfield Town | E13: 1
... A250: 43059 | B250: Zouma, Kurt | C250: Stoke City | D250: Brighton & Hove Albion | E250: 1

Sheet 2018-2019
B1: Goalscorer | C1: FOR | D1: AGAINST | E1: Goals scored in 'first-goal' match
A2: 43331 | B2: Aguero, Sergio | C2: Manchester City | D2: Huddersfield Town | E2: 3
A3: 43337 | B3: Ake, Nathan | C3: Bournemouth | D3: Everton | E3: 1
A4: 43358 | B4: Albrighton, Marc | C4: Leicester City | D4: Bournemouth | E4: 1
A5: 43428 | B5: Alexander-Arnold, Trent | C5: Liverpool | D5: Watford | E5: 1
A6: 43323 | B6: Alli, Dele | C6: Tottenham Hotspur | D6: Newcastle United | E6: 1
A7: 43330 | B7: Alonso, Marcos | C7: Chelsea | D7: Arsenal | E7: 1
A8: 43372 | B8: Anderson, Felipe | C8: West Ham United | D8: Manchester United | E8: 1
A9: 43435 | B9: Andone, Florin | C9: Brighton & Hove Albion | D9: Huddersfield Town | E9: 1
A10: 43438 | B10: Antonio, Michail | C10: West Ham United | D10: Cardiff City | E10: 1
A11: 43428 | B11: Armstrong, Stuart | C11: Southampton | D11: Fulham | E11: 2
A12: 43330 | B12: Arnautovic, Marko | C12: West Ham United | D12: Bournemouth | E12: 1
A13: 43589 | B13: Atsu, Christian | C13: Newcastle United | D13: Liverpool | E13: 1
... A268: 43478 | B268: Zouma, Kurt | C268: Everton | D268: Bournemouth | E268: 1
