Workbook

Sheet Teams
A1: TEAM | B1: POSITIONS | G1: AVERAGE | H1: FIRST GOALS | M1: TOTAL | N1: SEASONS | O1: FGs PER
B2: 2018/19 | C2: 2019/20 | D2: 2020/21 | E2: 2021/22 | F2: 2022/23 | G2: POSITION | H2: 2018/19 | I2: 2019/20 | J2: 2020/21 | K2: 2021/22 | L2: 2022/23 | O2: SEASON
A3: Accrington Stanley | E3: 19 | F3: 20 | G3: =AVERAGE(B3:F3) -> 19.5 | H3: =COUNTIF('2018-2019'!D:D,A3) -> 0 | I3: =COUNTIF('2019-2020'!D:D,A3) -> 0 | J3: =COUNTIF('2020-2021'!D:D,A3) -> 0 | K3: =COUNTIF('2021-2022'!D:D,A3) -> 15 | L3: =COUNTIF('2022-2023'!D:D,A3) -> 18 | M3: =SUM(H3,I3,J3,K3,L3) -> 33 | N3: =COUNT(B3:F3) -> 2 | O3: =M3/N3 -> 16.5
A4: AFC Fylde | E4: 21 | F4: 24 | G4: =AVERAGE(B4:F4) -> 22.5 | H4: =COUNTIF('2018-2019'!D:D,A4) -> 0 | I4: =COUNTIF('2019-2020'!D:D,A4) -> 0 | J4: =COUNTIF('2020-2021'!D:D,A4) -> 0 | K4: =COUNTIF('2021-2022'!D:D,A4) -> 16 | L4: =COUNTIF('2022-2023'!D:D,A4) -> 27 | M4: =SUM(H4,I4,J4,K4,L4) -> 43 | N4: =COUNT(B4:F4) -> 2 | O4: =M4/N4 -> 21.5
A5: AFC Wimbledon | E5: 2 | G5: =AVERAGE(B5:F5) -> 2 | H5: =COUNTIF('2018-2019'!D:D,A5) -> 0 | I5: =COUNTIF('2019-2020'!D:D,A5) -> 0 | J5: =COUNTIF('2020-2021'!D:D,A5) -> 0 | K5: =COUNTIF('2021-2022'!D:D,A5) -> 8 | L5: =COUNTIF('2022-2023'!D:D,A5) -> 0 | M5: =SUM(H5,I5,J5,K5,L5) -> 8 | N5: =COUNT(B5:F5) -> 1 | O5: =M5/N5 -> 8
A6: Barnet | F6: 8 | G6: =AVERAGE(B6:F6) -> 8 | H6: =COUNTIF('2018-2019'!D:D,A6) -> 0 | I6: =COUNTIF('2019-2020'!D:D,A6) -> 0 | J6: =COUNTIF('2020-2021'!D:D,A6) -> 0 | K6: =COUNTIF('2021-2022'!D:D,A6) -> 0 | L6: =COUNTIF('2022-2023'!D:D,A6) -> 14 | M6: =SUM(H6,I6,J6,K6,L6) -> 14 | N6: =COUNT(B6:F6) -> 1 | O6: =M6/N6 -> 14
A7: Blackpool | C7: 20 | D7: 17 | E7: 3 | G7: =AVERAGE(B7:F7) -> 13.333333 | H7: =COUNTIF('2018-2019'!D:D,A7) -> 0 | I7: =COUNTIF('2019-2020'!D:D,A7) -> 20 | J7: =COUNTIF('2020-2021'!D:D,A7) -> 11 | K7: =COUNTIF('2021-2022'!D:D,A7) -> 10 | L7: =COUNTIF('2022-2023'!D:D,A7) -> 0 | M7: =SUM(H7,I7,J7,K7,L7) -> 41 | N7: =COUNT(B7:F7) -> 3 | O7: =M7/N7 -> 13.666667
A8: Boreham Wood | F8: 23 | G8: =AVERAGE(B8:F8) -> 23 | H8: =COUNTIF('2018-2019'!D:D,A8) -> 0 | I8: =COUNTIF('2019-2020'!D:D,A8) -> 0 | J8: =COUNTIF('2020-2021'!D:D,A8) -> 0 | K8: =COUNTIF('2021-2022'!D:D,A8) -> 0 | L8: =COUNTIF('2022-2023'!D:D,A8) -> 19 | M8: =SUM(H8,I8,J8,K8,L8) -> 19 | N8: =COUNT(B8:F8) -> 1 | O8: =M8/N8 -> 19
A9: Bristol Rovers | D9: 11 | E9: 6 | F9: 1 | G9: =AVERAGE(B9:F9) -> 6 | H9: =COUNTIF('2018-2019'!D:D,A9) -> 0 | I9: =COUNTIF('2019-2020'!D:D,A9) -> 0 | J9: =COUNTIF('2020-2021'!D:D,A9) -> 11 | K9: =COUNTIF('2021-2022'!D:D,A9) -> 12 | L9: =COUNTIF('2022-2023'!D:D,A9) -> 9 | M9: =SUM(H9,I9,J9,K9,L9) -> 32 | N9: =COUNT(B9:F9) -> 3 | O9: =M9/N9 -> 10.666667
A10: Bury | B10: 21 | C10: 7 | G10: =AVERAGE(B10:F10) -> 14 | H10: =COUNTIF('2018-2019'!D:D,A10) -> 17 | I10: =COUNTIF('2019-2020'!D:D,A10) -> 13 | J10: =COUNTIF('2020-2021'!D:D,A10) -> 0 | K10: =COUNTIF('2021-2022'!D:D,A10) -> 0 | L10: =COUNTIF('2022-2023'!D:D,A10) -> 0 | M10: =SUM(H10,I10,J10,K10,L10) -> 30 | N10: =COUNT(B10:F10) -> 2 | O10: =M10/N10 -> 15
A11: Cambridge United | B11: 19 | C11: 3 | F11: 12 | G11: =AVERAGE(B11:F11) -> 11.333333 | H11: =COUNTIF('2018-2019'!D:D,A11) -> 21 | I11: =COUNTIF('2019-2020'!D:D,A11) -> 12 | J11: =COUNTIF('2020-2021'!D:D,A11) -> 0 | K11: =COUNTIF('2021-2022'!D:D,A11) -> 0 | L11: =COUNTIF('2022-2023'!D:D,A11) -> 12 | M11: =SUM(H11,I11,J11,K11,L11) -> 45 | N11: =COUNT(B11:F11) -> 3 | O11: =M11/N11 -> 15
A12: Carlisle United | B12: 20 | C12: 24 | G12: =AVERAGE(B12:F12) -> 22 | H12: =COUNTIF('2018-2019'!D:D,A12) -> 9 | I12: =COUNTIF('2019-2020'!D:D,A12) -> 23 | J12: =COUNTIF('2020-2021'!D:D,A12) -> 0 | K12: =COUNTIF('2021-2022'!D:D,A12) -> 0 | L12: =COUNTIF('2022-2023'!D:D,A12) -> 0 | M12: =SUM(H12,I12,J12,K12,L12) -> 32 | N12: =COUNT(B12:F12) -> 2 | O12: =M12/N12 -> 16
A13: Cheltenham Town | B13: 15 | C13: 19 | D13: 13 | E13: 14 | F13: 19 | G13: =AVERAGE(B13:F13) -> 16 | H13: =COUNTIF('2018-2019'!D:D,A13) -> 24 | I13: =COUNTIF('2019-2020'!D:D,A13) -> 19 | J13: =COUNTIF('2020-2021'!D:D,A13) -> 15 | K13: =COUNTIF('2021-2022'!D:D,A13) -> 20 | L13: =COUNTIF('2022-2023'!D:D,A13) -> 17 | M13: =SUM(H13,I13,J13,K13,L13) -> 95 | N13: =COUNT(B13:F13) -> 5 | O13: =M13/N13 -> 19
A14: Colchester United | B14: 1 | G14: =AVERAGE(B14:F14) -> 1 | H14: =COUNTIF('2018-2019'!D:D,A14) -> 14 | I14: =COUNTIF('2019-2020'!D:D,A14) -> 0 | J14: =COUNTIF('2020-2021'!D:D,A14) -> 0 | K14: =COUNTIF('2021-2022'!D:D,A14) -> 0 | L14: =COUNTIF('2022-2023'!D:D,A14) -> 0 | M14: =SUM(H14,I14,J14,K14,L14) -> 14 | N14: =COUNT(B14:F14) -> 1 | O14: =M14/N14 -> 14
A15: Crawley Town | B15: 14 | C15: 6 | D15: 20 | E15: 12 | F15: 21 | G15: =AVERAGE(B15:F15) -> 14.6 | H15: =COUNTIF('2018-2019'!D:D,A15) -> 13 | I15: =COUNTIF('2019-2020'!D:D,A15) -> 19 | J15: =COUNTIF('2020-2021'!D:D,A15) -> 13 | K15: =COUNTIF('2021-2022'!D:D,A15) -> 12 | L15: =COUNTIF('2022-2023'!D:D,A15) -> 12 | M15: =SUM(H15,I15,J15,K15,L15) -> 69 | N15: =COUNT(B15:F15) -> 5 | O15: =M15/N15 -> 13.8
A16: Crewe Alexandra | B16: 18 | C16: 10 | D16: 7 | E16: 13 | F16: 3 | G16: =AVERAGE(B16:F16) -> 10.2 | H16: =COUNTIF('2018-2019'!D:D,A16) -> 19 | I16: =COUNTIF('2019-2020'!D:D,A16) -> 11 | J16: =COUNTIF('2020-2021'!D:D,A16) -> 25 | K16: =COUNTIF('2021-2022'!D:D,A16) -> 19 | L16: =COUNTIF('2022-2023'!D:D,A16) -> 14 | M16: =SUM(H16,I16,J16,K16,L16) -> 88 | N16: =COUNT(B16:F16) -> 5 | O16: =M16/N16 -> 17.6
A17: Doncaster Rovers | E17: 10 | F17: 11 | G17: =AVERAGE(B17:F17) -> 10.5 | H17: =COUNTIF('2018-2019'!D:D,A17) -> 0 | I17: =COUNTIF('2019-2020'!D:D,A17) -> 0 | J17: =COUNTIF('2020-2021'!D:D,A17) -> 0 | K17: =COUNTIF('2021-2022'!D:D,A17) -> 18 | L17: =COUNTIF('2022-2023'!D:D,A17) -> 13 | M17: =SUM(H17,I17,J17,K17,L17) -> 31 | N17: =COUNT(B17:F17) -> 2 | O17: =M17/N17 -> 15.5
A18: Ebbsfleet United | C18: 13 | D18: 19 | E18: 24 | G18: =AVERAGE(B18:F18) -> 18.666667 | H18: =COUNTIF('2018-2019'!D:D,A18) -> 0 | I18: =COUNTIF('2019-2020'!D:D,A18) -> 21 | J18: =COUNTIF('2020-2021'!D:D,A18) -> 20 | K18: =COUNTIF('2021-2022'!D:D,A18) -> 20 | L18: =COUNTIF('2022-2023'!D:D,A18) -> 0 | M18: =SUM(H18,I18,J18,K18,L18) -> 61 | N18: =COUNT(B18:F18) -> 3 | O18: =M18/N18 -> 20.333333
A19: Exeter City | B19: 6 | C19: 5 | D19: 4 | G19: =AVERAGE(B19:F19) -> 5 | H19: =COUNTIF('2018-2019'!D:D,A19) -> 23 | I19: =COUNTIF('2019-2020'!D:D,A19) -> 25 | J19: =COUNTIF('2020-2021'!D:D,A19) -> 17 | K19: =COUNTIF('2021-2022'!D:D,A19) -> 0 | L19: =COUNTIF('2022-2023'!D:D,A19) -> 0 | M19: =SUM(H19,I19,J19,K19,L19) -> 65 | N19: =COUNT(B19:F19) -> 3 | O19: =M19/N19 -> 21.666667
A20: Forest Green Rovers | B20: 10 | C20: 18 | D20: 12 | E20: 7 | F20: 6 | G20: =AVERAGE(B20:F20) -> 10.6 | H20: =COUNTIF('2018-2019'!D:D,A20) -> 15 | I20: =COUNTIF('2019-2020'!D:D,A20) -> 17 | J20: =COUNTIF('2020-2021'!D:D,A20) -> 15 | K20: =COUNTIF('2021-2022'!D:D,A20) -> 16 | L20: =COUNTIF('2022-2023'!D:D,A20) -> 19 | M20: =SUM(H20,I20,J20,K20,L20) -> 82 | N20: =COUNT(B20:F20) -> 5 | O20: =M20/N20 -> 16.4
A21: Fleetwood Town | D21: 5 | E21: 22 | F21: 7 | G21: =AVERAGE(B21:F21) -> 11.333333 | H21: =COUNTIF('2018-2019'!D:D,A21) -> 0 | I21: =COUNTIF('2019-2020'!D:D,A21) -> 0 | J21: =COUNTIF('2020-2021'!D:D,A21) -> 18 | K21: =COUNTIF('2021-2022'!D:D,A21) -> 19 | L21: =COUNTIF('2022-2023'!D:D,A21) -> 14 | M21: =SUM(H21,I21,J21,K21,L21) -> 51 | N21: =COUNT(B21:F21) -> 3 | O21: =M21/N21 -> 17
A22: Grimsby Town | B22: 7 | C22: 2 | F22: 10 | G22: =AVERAGE(B22:F22) -> 6.3333333 | H22: =COUNTIF('2018-2019'!D:D,A22) -> 15 | I22: =COUNTIF('2019-2020'!D:D,A22) -> 12 | J22: =COUNTIF('2020-2021'!D:D,A22) -> 0 | K22: =COUNTIF('2021-2022'!D:D,A22) -> 0 | L22: =COUNTIF('2022-2023'!D:D,A22) -> 15 | M22: =SUM(H22,I22,J22,K22,L22) -> 42 | N22: =COUNT(B22:F22) -> 3 | O22: =M22/N22 -> 14
A23: Lincoln City | B23: 4 | C23: 1 | G23: =AVERAGE(B23:F23) -> 2.5 | H23: =COUNTIF('2018-2019'!D:D,A23) -> 11 | I23: =COUNTIF('2019-2020'!D:D,A23) -> 9 | J23: =COUNTIF('2020-2021'!D:D,A23) -> 0 | K23: =COUNTIF('2021-2022'!D:D,A23) -> 0 | L23: =COUNTIF('2022-2023'!D:D,A23) -> 0 | M23: =SUM(H23,I23,J23,K23,L23) -> 20 | N23: =COUNT(B23:F23) -> 2 | O23: =M23/N23 -> 10
A24: Macclesfield Town | B24: 23 | D24: 24 | G24: =AVERAGE(B24:F24) -> 23.5 | H24: =COUNTIF('2018-2019'!D:D,A24) -> 23 | I24: =COUNTIF('2019-2020'!D:D,A24) -> 0 | J24: =COUNTIF('2020-2021'!D:D,A24) -> 18 | K24: =COUNTIF('2021-2022'!D:D,A24) -> 0 | L24: =COUNTIF('2022-2023'!D:D,A24) -> 0 | M24: =SUM(H24,I24,J24,K24,L24) -> 41 | N24: =COUNT(B24:F24) -> 2 | O24: =M24/N24 -> 20.5
A25: Mansfield Town | B25: 3 | G25: =AVERAGE(B25:F25) -> 3 | H25: =COUNTIF('2018-2019'!D:D,A25) -> 14 | I25: =COUNTIF('2019-2020'!D:D,A25) -> 0 | J25: =COUNTIF('2020-2021'!D:D,A25) -> 0 | K25: =COUNTIF('2021-2022'!D:D,A25) -> 0 | L25: =COUNTIF('2022-2023'!D:D,A25) -> 0 | M25: =SUM(H25,I25,J25,K25,L25) -> 14 | N25: =COUNT(B25:F25) -> 1 | O25: =M25/N25 -> 14
A26: Milton Keynes Dons | B26: 5 | G26: =AVERAGE(B26:F26) -> 5 | H26: =COUNTIF('2018-2019'!D:D,A26) -> 16 | I26: =COUNTIF('2019-2020'!D:D,A26) -> 0 | J26: =COUNTIF('2020-2021'!D:D,A26) -> 0 | K26: =COUNTIF('2021-2022'!D:D,A26) -> 0 | L26: =COUNTIF('2022-2023'!D:D,A26) -> 0 | M26: =SUM(H26,I26,J26,K26,L26) -> 16 | N26: =COUNT(B26:F26) -> 1 | O26: =M26/N26 -> 16
A27: Morecambe | B27: 24 | E27: 17 | F27: 18 | G27: =AVERAGE(B27:F27) -> 19.666667 | H27: =COUNTIF('2018-2019'!D:D,A27) -> 12 | I27: =COUNTIF('2019-2020'!D:D,A27) -> 0 | J27: =COUNTIF('2020-2021'!D:D,A27) -> 0 | K27: =COUNTIF('2021-2022'!D:D,A27) -> 18 | L27: =COUNTIF('2022-2023'!D:D,A27) -> 20 | M27: =SUM(H27,I27,J27,K27,L27) -> 50 | N27: =COUNT(B27:F27) -> 3 | O27: =M27/N27 -> 16.666667
A28: Newport County | B28: 13 | C28: 17 | D28: 23 | G28: =AVERAGE(B28:F28) -> 17.666667 | H28: =COUNTIF('2018-2019'!D:D,A28) -> 21 | I28: =COUNTIF('2019-2020'!D:D,A28) -> 18 | J28: =COUNTIF('2020-2021'!D:D,A28) -> 11 | K28: =COUNTIF('2021-2022'!D:D,A28) -> 0 | L28: =COUNTIF('2022-2023'!D:D,A28) -> 0 | M28: =SUM(H28,I28,J28,K28,L28) -> 50 | N28: =COUNT(B28:F28) -> 3 | O28: =M28/N28 -> 16.666667
A29: Northampton Town | B29: 12 | C29: 16 | D29: 3 | F29: 14 | G29: =AVERAGE(B29:F29) -> 11.25 | H29: =COUNTIF('2018-2019'!D:D,A29) -> 18 | I29: =COUNTIF('2019-2020'!D:D,A29) -> 11 | J29: =COUNTIF('2020-2021'!D:D,A29) -> 16 | K29: =COUNTIF('2021-2022'!D:D,A29) -> 0 | L29: =COUNTIF('2022-2023'!D:D,A29) -> 14 | M29: =SUM(H29,I29,J29,K29,L29) -> 59 | N29: =COUNT(B29:F29) -> 4 | O29: =M29/N29 -> 14.75
A30: Notts County | B30: 16 | C30: 11 | D30: 6 | E30: 11 | F30: 13 | G30: =AVERAGE(B30:F30) -> 11.4 | H30: =COUNTIF('2018-2019'!D:D,A30) -> 11 | I30: =COUNTIF('2019-2020'!D:D,A30) -> 12 | J30: =COUNTIF('2020-2021'!D:D,A30) -> 12 | K30: =COUNTIF('2021-2022'!D:D,A30) -> 14 | L30: =COUNTIF('2022-2023'!D:D,A30) -> 13 | M30: =SUM(H30,I30,J30,K30,L30) -> 62 | N30: =COUNT(B30:F30) -> 5 | O30: =M30/N30 -> 12.4
A31: Oldham Athletic | B31: 2 | D31: 1 | G31: =AVERAGE(B31:F31) -> 1.5 | H31: =COUNTIF('2018-2019'!D:D,A31) -> 7 | I31: =COUNTIF('2019-2020'!D:D,A31) -> 0 | J31: =COUNTIF('2020-2021'!D:D,A31) -> 17 | K31: =COUNTIF('2021-2022'!D:D,A31) -> 0 | L31: =COUNTIF('2022-2023'!D:D,A31) -> 0 | M31: =SUM(H31,I31,J31,K31,L31) -> 24 | N31: =COUNT(B31:F31) -> 2 | O31: =M31/N31 -> 12
A32: Plymouth Argyle | C32: 4 | D32: 9 | E32: 1 | G32: =AVERAGE(B32:F32) -> 4.6666667 | H32: =COUNTIF('2018-2019'!D:D,A32) -> 0 | I32: =COUNTIF('2019-2020'!D:D,A32) -> 11 | J32: =COUNTIF('2020-2021'!D:D,A32) -> 7 | K32: =COUNTIF('2021-2022'!D:D,A32) -> 13 | L32: =COUNTIF('2022-2023'!D:D,A32) -> 0 | M32: =SUM(H32,I32,J32,K32,L32) -> 31 | N32: =COUNT(B32:F32) -> 3 | O32: =M32/N32 -> 10.333333
A33: Port Vale | B33: 9 | C33: 8 | D33: 14 | E33: 9 | F33: 9 | G33: =AVERAGE(B33:F33) -> 9.8 | H33: =COUNTIF('2018-2019'!D:D,A33) -> 11 | I33: =COUNTIF('2019-2020'!D:D,A33) -> 9 | J33: =COUNTIF('2020-2021'!D:D,A33) -> 14 | K33: =COUNTIF('2021-2022'!D:D,A33) -> 9 | L33: =COUNTIF('2022-2023'!D:D,A33) -> 7 | M33: =SUM(H33,I33,J33,K33,L33) -> 50 | N33: =COUNT(B33:F33) -> 5 | O33: =M33/N33 -> 10
A34: Rochdale | C34: 14 | D34: 8 | E34: 5 | G34: =AVERAGE(B34:F34) -> 9 | H34: =COUNTIF('2018-2019'!D:D,A34) -> 0 | I34: =COUNTIF('2019-2020'!D:D,A34) -> 11 | J34: =COUNTIF('2020-2021'!D:D,A34) -> 15 | K34: =COUNTIF('2021-2022'!D:D,A34) -> 14 | L34: =COUNTIF('2022-2023'!D:D,A34) -> 0 | M34: =SUM(H34,I34,J34,K34,L34) -> 40 | N34: =COUNT(B34:F34) -> 3 | O34: =M34/N34 -> 13.333333
A35: Salford City | C35: 22 | D35: 2 | G35: =AVERAGE(B35:F35) -> 12 | H35: =COUNTIF('2018-2019'!D:D,A35) -> 0 | I35: =COUNTIF('2019-2020'!D:D,A35) -> 16 | J35: =COUNTIF('2020-2021'!D:D,A35) -> 7 | K35: =COUNTIF('2021-2022'!D:D,A35) -> 0 | L35: =COUNTIF('2022-2023'!D:D,A35) -> 0 | M35: =SUM(H35,I35,J35,K35,L35) -> 23 | N35: =COUNT(B35:F35) -> 2 | O35: =M35/N35 -> 11.5
A36: Scunthorpe United | F36: 16 | G36: =AVERAGE(B36:F36) -> 16 | H36: =COUNTIF('2018-2019'!D:D,A36) -> 0 | I36: =COUNTIF('2019-2020'!D:D,A36) -> 0 | J36: =COUNTIF('2020-2021'!D:D,A36) -> 0 | K36: =COUNTIF('2021-2022'!D:D,A36) -> 0 | L36: =COUNTIF('2022-2023'!D:D,A36) -> 16 | M36: =SUM(H36,I36,J36,K36,L36) -> 16 | N36: =COUNT(B36:F36) -> 1 | O36: =M36/N36 -> 16
A37: Shrewsbury Town | E37: 16 | F37: 5 | G37: =AVERAGE(B37:F37) -> 10.5 | H37: =COUNTIF('2018-2019'!D:D,A37) -> 0 | I37: =COUNTIF('2019-2020'!D:D,A37) -> 0 | J37: =COUNTIF('2020-2021'!D:D,A37) -> 0 | K37: =COUNTIF('2021-2022'!D:D,A37) -> 8 | L37: =COUNTIF('2022-2023'!D:D,A37) -> 15 | M37: =SUM(H37,I37,J37,K37,L37) -> 23 | N37: =COUNT(B37:F37) -> 2 | O37: =M37/N37 -> 11.5
A38: Southend United | D38: 15 | E38: 8 | F38: 17 | G38: =AVERAGE(B38:F38) -> 13.333333 | H38: =COUNTIF('2018-2019'!D:D,A38) -> 0 | I38: =COUNTIF('2019-2020'!D:D,A38) -> 0 | J38: =COUNTIF('2020-2021'!D:D,A38) -> 14 | K38: =COUNTIF('2021-2022'!D:D,A38) -> 19 | L38: =COUNTIF('2022-2023'!D:D,A38) -> 12 | M38: =SUM(H38,I38,J38,K38,L38) -> 45 | N38: =COUNT(B38:F38) -> 3 | O38: =M38/N38 -> 15
A39: Stevenage | B39: 22 | C39: 15 | D39: 16 | E39: 23 | G39: =AVERAGE(B39:F39) -> 19 | H39: =COUNTIF('2018-2019'!D:D,A39) -> 22 | I39: =COUNTIF('2019-2020'!D:D,A39) -> 16 | J39: =COUNTIF('2020-2021'!D:D,A39) -> 21 | K39: =COUNTIF('2021-2022'!D:D,A39) -> 16 | L39: =COUNTIF('2022-2023'!D:D,A39) -> 0 | M39: =SUM(H39,I39,J39,K39,L39) -> 75 | N39: =COUNT(B39:F39) -> 4 | O39: =M39/N39 -> 18.75
A40: Sutton United | D40: 18 | E40: 20 | F40: 22 | G40: =AVERAGE(B40:F40) -> 20 | H40: =COUNTIF('2018-2019'!D:D,A40) -> 0 | I40: =COUNTIF('2019-2020'!D:D,A40) -> 0 | J40: =COUNTIF('2020-2021'!D:D,A40) -> 20 | K40: =COUNTIF('2021-2022'!D:D,A40) -> 14 | L40: =COUNTIF('2022-2023'!D:D,A40) -> 25 | M40: =SUM(H40,I40,J40,K40,L40) -> 59 | N40: =COUNT(B40:F40) -> 3 | O40: =M40/N40 -> 19.666667
A41: Swindon Town | B41: 17 | C41: 9 | D41: 10 | E41: 4 | F41: 4 | G41: =AVERAGE(B41:F41) -> 8.8 | H41: =COUNTIF('2018-2019'!D:D,A41) -> 20 | I41: =COUNTIF('2019-2020'!D:D,A41) -> 12 | J41: =COUNTIF('2020-2021'!D:D,A41) -> 13 | K41: =COUNTIF('2021-2022'!D:D,A41) -> 8 | L41: =COUNTIF('2022-2023'!D:D,A41) -> 11 | M41: =SUM(H41,I41,J41,K41,L41) -> 64 | N41: =COUNT(B41:F41) -> 5 | O41: =M41/N41 -> 12.8
A42: Tranmere Rovers | B42: 11 | C42: 21 | D42: 21 | E42: 18 | F42: 15 | G42: =AVERAGE(B42:F42) -> 17.2 | H42: =COUNTIF('2018-2019'!D:D,A42) -> 13 | I42: =COUNTIF('2019-2020'!D:D,A42) -> 27 | J42: =COUNTIF('2020-2021'!D:D,A42) -> 19 | K42: =COUNTIF('2021-2022'!D:D,A42) -> 15 | L42: =COUNTIF('2022-2023'!D:D,A42) -> 10 | M42: =SUM(H42,I42,J42,K42,L42) -> 84 | N42: =COUNT(B42:F42) -> 5 | O42: =M42/N42 -> 16.8
A43: Wycombe Wanderers | C43: 12 | D43: 22 | E43: 15 | F43: 2 | G43: =AVERAGE(B43:F43) -> 12.75 | H43: =COUNTIF('2018-2019'!D:D,A43) -> 0 | I43: =COUNTIF('2019-2020'!D:D,A43) -> 15 | J43: =COUNTIF('2020-2021'!D:D,A43) -> 24 | K43: =COUNTIF('2021-2022'!D:D,A43) -> 19 | L43: =COUNTIF('2022-2023'!D:D,A43) -> 10 | M43: =SUM(H43,I43,J43,K43,L43) -> 68 | N43: =COUNT(B43:F43) -> 4 | O43: =M43/N43 -> 17
A44: Yeovil Town | B44: 8 | C44: 23 | G44: =AVERAGE(B44:F44) -> 15.5 | H44: =COUNTIF('2018-2019'!D:D,A44) -> 10 | I44: =COUNTIF('2019-2020'!D:D,A44) -> 15 | J44: =COUNTIF('2020-2021'!D:D,A44) -> 0 | K44: =COUNTIF('2021-2022'!D:D,A44) -> 0 | L44: =COUNTIF('2022-2023'!D:D,A44) -> 0 | M44: =SUM(H44,I44,J44,K44,L44) -> 25 | N44: =COUNT(B44:F44) -> 2 | O44: =M44/N44 -> 12.5

Sheet Positions
A1: POSITION | B1: FIRST-GOALS CONCEDED PER POSITION | H1: TOTAL GOALS CONCEDED PER POSITION | N1: % OF FIRST-GOALS CONCEDED PER POSITION
B2: 2018/19 | C2: 2019/20 | D2: 2020/21 | E2: 2021/22 | F2: 2022/23 | G2: TOTAL | H2: 2018/19 | I2: 2019/20 | J2: 2020/21 | K2: 2021/22 | L2: 2022/23 | M2: AVERAGE | N2: 2018/19 | O2: 2019/20 | P2: 2020/21 | Q2: 2021/22 | R2: 2022/23 | S2: AVERAGE
A3: 1 | B3: =SUMIF(Teams!B:B,A3,Teams!H:H) -> 14 | C3: =SUMIF(Teams!C:C,A3,Teams!I:I) -> 9 | D3: =SUMIF(Teams!D:D,A3,Teams!J:J) -> 17 | E3: =SUMIF(Teams!E:E,A3,Teams!K:K) -> 13 | F3: =SUMIF(Teams!F:F,A3,Teams!L:L) -> 9 | G3: =SUM(B3:F3) -> 62 | H3: 54 | I3: 39 | J3: 53 | K3: 48 | L3: 42 | M3: =AVERAGE(H3:L3) -> 47.2 | N3: =B3/H3 -> 0.25925926 | O3: =C3/I3 -> 0.23076923 | P3: =D3/J3 -> 0.32075472 | Q3: =E3/K3 -> 0.27083333 | R3: =F3/L3 -> 0.21428571 | S3: =AVERAGE(N3:R3) -> 0.25918045
A4: 2 | B4: =SUMIF(Teams!B:B,A4,Teams!H:H) -> 7 | C4: =SUMIF(Teams!C:C,A4,Teams!I:I) -> 12 | D4: =SUMIF(Teams!D:D,A4,Teams!J:J) -> 7 | E4: =SUMIF(Teams!E:E,A4,Teams!K:K) -> 8 | F4: =SUMIF(Teams!F:F,A4,Teams!L:L) -> 10 | G4: =SUM(B4:F4) -> 44 | H4: 50 | I4: 54 | J4: 52 | K4: 35 | L4: 42 | M4: =AVERAGE(H4:L4) -> 46.6 | N4: =B4/H4 -> 0.14 | O4: =C4/I4 -> 0.22222222 | P4: =D4/J4 -> 0.13461538 | Q4: =E4/K4 -> 0.22857143 | R4: =F4/L4 -> 0.23809524 | S4: =AVERAGE(N4:R4) -> 0.19270085
A5: 3 | B5: =SUMIF(Teams!B:B,A5,Teams!H:H) -> 14 | C5: =SUMIF(Teams!C:C,A5,Teams!I:I) -> 12 | D5: =SUMIF(Teams!D:D,A5,Teams!J:J) -> 16 | E5: =SUMIF(Teams!E:E,A5,Teams!K:K) -> 10 | F5: =SUMIF(Teams!F:F,A5,Teams!L:L) -> 14 | G5: =SUM(B5:F5) -> 66 | H5: 62 | I5: 50 | J5: 57 | K5: 41 | L5: 59 | M5: =AVERAGE(H5:L5) -> 53.8 | N5: =B5/H5 -> 0.22580645 | O5: =C5/I5 -> 0.24 | P5: =D5/J5 -> 0.28070175 | Q5: =E5/K5 -> 0.24390244 | R5: =F5/L5 -> 0.23728814 | S5: =AVERAGE(N5:R5) -> 0.24553976
A6: 4 | B6: =SUMIF(Teams!B:B,A6,Teams!H:H) -> 11 | C6: =SUMIF(Teams!C:C,A6,Teams!I:I) -> 11 | D6: =SUMIF(Teams!D:D,A6,Teams!J:J) -> 17 | E6: =SUMIF(Teams!E:E,A6,Teams!K:K) -> 8 | F6: =SUMIF(Teams!F:F,A6,Teams!L:L) -> 11 | G6: =SUM(B6:F6) -> 58 | H6: 58 | I6: 53 | J6: 66 | K6: 43 | L6: 50 | M6: =AVERAGE(H6:L6) -> 54 | N6: =B6/H6 -> 0.18965517 | O6: =C6/I6 -> 0.20754717 | P6: =D6/J6 -> 0.25757576 | Q6: =E6/K6 -> 0.18604651 | R6: =F6/L6 -> 0.22 | S6: =AVERAGE(N6:R6) -> 0.21216492
A7: 5 | B7: =SUMIF(Teams!B:B,A7,Teams!H:H) -> 16 | C7: =SUMIF(Teams!C:C,A7,Teams!I:I) -> 25 | D7: =SUMIF(Teams!D:D,A7,Teams!J:J) -> 18 | E7: =SUMIF(Teams!E:E,A7,Teams!K:K) -> 14 | F7: =SUMIF(Teams!F:F,A7,Teams!L:L) -> 15 | G7: =SUM(B7:F7) -> 88 | H7: 52 | I7: 66 | J7: 73 | K7: 68 | L7: 53 | M7: =AVERAGE(H7:L7) -> 62.4 | N7: =B7/H7 -> 0.30769231 | O7: =C7/I7 -> 0.37878788 | P7: =D7/J7 -> 0.24657534 | Q7: =E7/K7 -> 0.20588235 | R7: =F7/L7 -> 0.28301887 | S7: =AVERAGE(N7:R7) -> 0.28439135
A8: 6 | B8: =SUMIF(Teams!B:B,A8,Teams!H:H) -> 23 | C8: =SUMIF(Teams!C:C,A8,Teams!I:I) -> 19 | D8: =SUMIF(Teams!D:D,A8,Teams!J:J) -> 12 | E8: =SUMIF(Teams!E:E,A8,Teams!K:K) -> 12 | F8: =SUMIF(Teams!F:F,A8,Teams!L:L) -> 19 | G8: =SUM(B8:F8) -> 85 | H8: 72 | I8: 69 | J8: 53 | K8: 50 | L8: 66 | M8: =AVERAGE(H8:L8) -> 62 | N8: =B8/H8 -> 0.31944444 | O8: =C8/I8 -> 0.27536232 | P8: =D8/J8 -> 0.22641509 | Q8: =E8/K8 -> 0.24 | R8: =F8/L8 -> 0.28787879 | S8: =AVERAGE(N8:R8) -> 0.26982013
A9: 7 | B9: =SUMIF(Teams!B:B,A9,Teams!H:H) -> 15 | C9: =SUMIF(Teams!C:C,A9,Teams!I:I) -> 13 | D9: =SUMIF(Teams!D:D,A9,Teams!J:J) -> 25 | E9: =SUMIF(Teams!E:E,A9,Teams!K:K) -> 16 | F9: =SUMIF(Teams!F:F,A9,Teams!L:L) -> 14 | G9: =SUM(B9:F9) -> 83 | H9: 69 | I9: 56 | J9: 59 | K9: 63 | L9: 62 | M9: =AVERAGE(H9:L9) -> 61.8 | N9: =B9/H9 -> 0.2173913 | O9: =C9/I9 -> 0.23214286 | P9: =D9/J9 -> 0.42372881 | Q9: =E9/K9 -> 0.25396825 | R9: =F9/L9 -> 0.22580645 | S9: =AVERAGE(N9:R9) -> 0.27060754
A10: 8 | B10: =SUMIF(Teams!B:B,A10,Teams!H:H) -> 10 | C10: =SUMIF(Teams!C:C,A10,Teams!I:I) -> 9 | D10: =SUMIF(Teams!D:D,A10,Teams!J:J) -> 15 | E10: =SUMIF(Teams!E:E,A10,Teams!K:K) -> 19 | F10: =SUMIF(Teams!F:F,A10,Teams!L:L) -> 14 | G10: =SUM(B10:F10) -> 67 | H10: 48 | I10: 45 | J10: 59 | K10: 79 | L10: 57 | M10: =AVERAGE(H10:L10) -> 57.6 | N10: =B10/H10 -> 0.20833333 | O10: =C10/I10 -> 0.2 | P10: =D10/J10 -> 0.25423729 | Q10: =E10/K10 -> 0.24050633 | R10: =F10/L10 -> 0.24561404 | S10: =AVERAGE(N10:R10) -> 0.2297382
A11: 9 | B11: =SUMIF(Teams!B:B,A11,Teams!H:H) -> 11 | C11: =SUMIF(Teams!C:C,A11,Teams!I:I) -> 12 | D11: =SUMIF(Teams!D:D,A11,Teams!J:J) -> 7 | E11: =SUMIF(Teams!E:E,A11,Teams!K:K) -> 9 | F11: =SUMIF(Teams!F:F,A11,Teams!L:L) -> 7 | G11: =SUM(B11:F11) -> 46 | H11: 53 | I11: 65 | J11: 52 | K11: 42 | L11: 50 | M11: =AVERAGE(H11:L11) -> 52.4 | N11: =B11/H11 -> 0.20754717 | O11: =C11/I11 -> 0.18461538 | P11: =D11/J11 -> 0.13461538 | Q11: =E11/K11 -> 0.21428571 | R11: =F11/L11 -> 0.14 | S11: =AVERAGE(N11:R11) -> 0.17621273
A12: 10 | B12: =SUMIF(Teams!B:B,A12,Teams!H:H) -> 15 | C12: =SUMIF(Teams!C:C,A12,Teams!I:I) -> 11 | D12: =SUMIF(Teams!D:D,A12,Teams!J:J) -> 13 | E12: =SUMIF(Teams!E:E,A12,Teams!K:K) -> 18 | F12: =SUMIF(Teams!F:F,A12,Teams!L:L) -> 15 | G12: =SUM(B12:F12) -> 72 | H12: 76 | I12: 60 | J12: 52 | K12: 63 | L12: 64 | M12: =AVERAGE(H12:L12) -> 63 | N12: =B12/H12 -> 0.19736842 | O12: =C12/I12 -> 0.18333333 | P12: =D12/J12 -> 0.25 | Q12: =E12/K12 -> 0.28571429 | R12: =F12/L12 -> 0.234375 | S12: =AVERAGE(N12:R12) -> 0.23015821
A13: 11 | B13: =SUMIF(Teams!B:B,A13,Teams!H:H) -> 13 | C13: =SUMIF(Teams!C:C,A13,Teams!I:I) -> 12 | D13: =SUMIF(Teams!D:D,A13,Teams!J:J) -> 11 | E13: =SUMIF(Teams!E:E,A13,Teams!K:K) -> 14 | F13: =SUMIF(Teams!F:F,A13,Teams!L:L) -> 13 | G13: =SUM(B13:F13) -> 63 | H13: 72 | I13: 63 | J13: 62 | K13: 64 | L13: 53 | M13: =AVERAGE(H13:L13) -> 62.8 | N13: =B13/H13 -> 0.18055556 | O13: =C13/I13 -> 0.19047619 | P13: =D13/J13 -> 0.17741935 | Q13: =E13/K13 -> 0.21875 | R13: =F13/L13 -> 0.24528302 | S13: =AVERAGE(N13:R13) -> 0.20249682
A14: 12 | B14: =SUMIF(Teams!B:B,A14,Teams!H:H) -> 18 | C14: =SUMIF(Teams!C:C,A14,Teams!I:I) -> 15 | D14: =SUMIF(Teams!D:D,A14,Teams!J:J) -> 15 | E14: =SUMIF(Teams!E:E,A14,Teams!K:K) -> 12 | F14: =SUMIF(Teams!F:F,A14,Teams!L:L) -> 12 | G14: =SUM(B14:F14) -> 72 | H14: 55 | I14: 56 | J14: 68 | K14: 53 | L14: 58 | M14: =AVERAGE(H14:L14) -> 58 | N14: =B14/H14 -> 0.32727273 | O14: =C14/I14 -> 0.26785714 | P14: =D14/J14 -> 0.22058824 | Q14: =E14/K14 -> 0.22641509 | R14: =F14/L14 -> 0.20689655 | S14: =AVERAGE(N14:R14) -> 0.24980595
... A26: 24 | B26: =SUMIF(Teams!B:B,A26,Teams!H:H) -> 12 | C26: =SUMIF(Teams!C:C,A26,Teams!I:I) -> 23 | D26: =SUMIF(Teams!D:D,A26,Teams!J:J) -> 18 | E26: =SUMIF(Teams!E:E,A26,Teams!K:K) -> 20 | F26: =SUMIF(Teams!F:F,A26,Teams!L:L) -> 27 | G26: =SUM(B26:F26) -> 100 | H26: 73 | I26: 99 | J26: 71 | K26: 90 | L26: 81 | M26: =AVERAGE(H26:L26) -> 82.8 | N26: =B26/H26 -> 0.16438356 | O26: =C26/I26 -> 0.23232323 | P26: =D26/J26 -> 0.25352113 | Q26: =E26/K26 -> 0.22222222 | R26: =F26/L26 -> 0.33333333 | S26: =AVERAGE(N26:R26) -> 0.2411567
A27: AVERAGE | B27: 2018/19 | C27: 2019/20 | D27: 2020/21 | E27: 2021/22 | F27: 2022/23 | G27: AVERAGE | H27: 2018/19 | I27: 2019/20 | J27: 2020/21 | K27: 2021/22 | L27: 2022/23 | M27: AVERAGE | N27: 2018/19 | O27: 2019/20 | P27: 2020/21 | Q27: 2021/22 | R27: 2022/23 | S27: AVERAGE
A28: 1st - 4th | B28: =AVERAGE(B3:B6) -> 11.5 | C28: =AVERAGE(C3:C6) -> 11 | D28: =AVERAGE(D3:D6) -> 14.25 | E28: =AVERAGE(E3:E6) -> 9.75 | F28: =AVERAGE(F3:F6) -> 11 | G28: =AVERAGE(B28:F28) -> 11.5 | H28: =AVERAGE(H3:H6) -> 56 | I28: =AVERAGE(I3:I6) -> 49 | J28: =AVERAGE(J3:J6) -> 57 | K28: =AVERAGE(K3:K6) -> 41.75 | L28: =AVERAGE(L3:L6) -> 48.25 | M28: =AVERAGE(H28:L28) -> 50.4 | N28: =B28/H28 -> 0.20535714 | O28: =C28/I28 -> 0.2244898 | P28: =D28/J28 -> 0.25 | Q28: =E28/K28 -> 0.23353293 | R28: =F28/L28 -> 0.22797927 | S28: =AVERAGE(N28:R28) -> 0.22827183
A29: 5th - 8th | B29: =AVERAGE(B7:B10) -> 16 | C29: =AVERAGE(C7:C10) -> 16.5 | D29: =AVERAGE(D7:D10) -> 17.5 | E29: =AVERAGE(E7:E10) -> 15.25 | F29: =AVERAGE(F7:F10) -> 15.5 | G29: =AVERAGE(B29:F29) -> 16.15 | H29: =AVERAGE(H7:H10) -> 60.25 | I29: =AVERAGE(I7:I10) -> 59 | J29: =AVERAGE(J7:J10) -> 61 | K29: =AVERAGE(K7:K10) -> 65 | L29: =AVERAGE(L7:L10) -> 59.5 | M29: =AVERAGE(H29:L29) -> 60.95 | N29: =B29/H29 -> 0.26556017 | O29: =C29/I29 -> 0.27966102 | P29: =D29/J29 -> 0.28688525 | Q29: =E29/K29 -> 0.23461538 | R29: =F29/L29 -> 0.2605042 | S29: =AVERAGE(N29:R29) -> 0.2654452
A30: 9th - 12th | B30: =AVERAGE(B11:B14) -> 14.25 | C30: =AVERAGE(C11:C14) -> 12.5 | D30: =AVERAGE(D11:D14) -> 11.5 | E30: =AVERAGE(E11:E14) -> 13.25 | F30: =AVERAGE(F11:F14) -> 11.75 | G30: =AVERAGE(B30:F30) -> 12.65 | H30: =AVERAGE(H11:H14) -> 64 | I30: =AVERAGE(I11:I14) -> 61 | J30: =AVERAGE(J11:J14) -> 58.5 | K30: =AVERAGE(K11:K14) -> 55.5 | L30: =AVERAGE(L11:L14) -> 56.25 | M30: =AVERAGE(H30:L30) -> 59.05 | N30: =B30/H30 -> 0.22265625 | O30: =C30/I30 -> 0.20491803 | P30: =D30/J30 -> 0.1965812 | Q30: =E30/K30 -> 0.23873874 | R30: =F30/L30 -> 0.20888889 | S30: =AVERAGE(N30:R30) -> 0.21435662
A31: 13th - 16th | B31: =AVERAGE(B15:B18) -> 17.25 | C31: =AVERAGE(C15:C18) -> 14.75 | D31: =AVERAGE(D15:D18) -> 16 | E31: =AVERAGE(E15:E18) -> 16.5 | F31: =AVERAGE(F15:F18) -> 13.25 | G31: =AVERAGE(B31:F31) -> 15.55 | H31: =AVERAGE(H15:H18) -> 70 | I31: =AVERAGE(I15:I18) -> 62.25 | J31: =AVERAGE(J15:J18) -> 65 | K31: =AVERAGE(K15:K18) -> 67.75 | L31: =AVERAGE(L15:L18) -> 62 | M31: =AVERAGE(H31:L31) -> 65.4 | N31: =B31/H31 -> 0.24642857 | O31: =C31/I31 -> 0.23694779 | P31: =D31/J31 -> 0.24615385 | Q31: =E31/K31 -> 0.24354244 | R31: =F31/L31 -> 0.21370968 | S31: =AVERAGE(N31:R31) -> 0.23735646
A32: 17th - 20th | B32: =AVERAGE(B19:B22) -> 17.25 | C32: =AVERAGE(C19:C22) -> 18.5 | D32: =AVERAGE(D19:D22) -> 16 | E32: =AVERAGE(E19:E22) -> 15.5 | F32: =AVERAGE(F19:F22) -> 16.75 | G32: =AVERAGE(B32:F32) -> 16.8 | H32: =AVERAGE(H19:H22) -> 76.75 | I32: =AVERAGE(I19:I22) -> 66 | J32: =AVERAGE(J19:J22) -> 66.5 | K32: =AVERAGE(K19:K22) -> 69.25 | L32: =AVERAGE(L19:L22) -> 72 | M32: =AVERAGE(H32:L32) -> 70.1 | N32: =B32/H32 -> 0.2247557 | O32: =C32/I32 -> 0.28030303 | P32: =D32/J32 -> 0.2406015 | Q32: =E32/K32 -> 0.22382671 | R32: =F32/L32 -> 0.23263889 | S32: =AVERAGE(N32:R32) -> 0.24042517
A33: 21st - 24th | B33: =AVERAGE(B23:B26) -> 18.5 | C33: =AVERAGE(C23:C26) -> 20.25 | D33: =AVERAGE(D23:D26) -> 18 | E33: =AVERAGE(E23:E26) -> 17.75 | F33: =AVERAGE(F23:F26) -> 20.75 | G33: =AVERAGE(B33:F33) -> 19.05 | H33: =AVERAGE(H23:H26) -> 82.5 | I33: =AVERAGE(I23:I26) -> 77.75 | J33: =AVERAGE(J23:J26) -> 70.25 | K33: =AVERAGE(K23:K26) -> 80.5 | L33: =AVERAGE(L23:L26) -> 76.5 | M33: =AVERAGE(H33:L33) -> 77.5 | N33: =B33/H33 -> 0.22424242 | O33: =C33/I33 -> 0.26045016 | P33: =D33/J33 -> 0.25622776 | Q33: =E33/K33 -> 0.22049689 | R33: =F33/L33 -> 0.27124183 | S33: =AVERAGE(N33:R33) -> 0.24653181

Sheet Months
A1: NO. | B1: MONTH | C1: 2018/19 | D1: 2019/20 | E1: 2020/21 | F1: 2021/22 | G1: 2022/23 | H1: TOTAL | I1: AVERAGE | J1: PERCENT
A2: 7 | B2: July | C2: {=SUMPRODUCT(1*(MONTH('2018-2019'!A:A)=A2))} -> 0 | D2: {=SUMPRODUCT(1*(MONTH('2019-2020'!A:A)=A2))} -> 0 | E2: {=SUMPRODUCT(1*(MONTH('2020-2021'!A:A)=A2))} -> 0 | F2: {=SUMPRODUCT(1*(MONTH('2021-2022'!A:A)=A2))} -> 33 | G2: {=SUMPRODUCT(1*(MONTH('2022-2023'!A:A)=A2))} -> 18 | H2: =SUM(C2:G2) -> 51 | I2: =AVERAGE(C2:G2) -> 10.2 | J2: =SUM(H2/H13) -> 0.02780807
A3: 8 | B3: August | C3: {=SUMPRODUCT(1*(MONTH('2018-2019'!A:A)=A3))} -> 114 | D3: {=SUMPRODUCT(1*(MONTH('2019-2020'!A:A)=A3))} -> 119 | E3: {=SUMPRODUCT(1*(MONTH('2020-2021'!A:A)=A3))} -> 150 | F3: {=SUMPRODUCT(1*(MONTH('2021-2022'!A:A)=A3))} -> 104 | G3: {=SUMPRODUCT(1*(MONTH('2022-2023'!A:A)=A3))} -> 119 | H3: =SUM(C3:G3) -> 606 | I3: =AVERAGE(C3:G3) -> 121.2 | J3: =SUM(H3/H13) -> 0.3304253
A4: 9 | B4: September | C4: {=SUMPRODUCT(1*(MONTH('2018-2019'!A:A)=A4))} -> 67 | D4: {=SUMPRODUCT(1*(MONTH('2019-2020'!A:A)=A4))} -> 63 | E4: {=SUMPRODUCT(1*(MONTH('2020-2021'!A:A)=A4))} -> 63 | F4: {=SUMPRODUCT(1*(MONTH('2021-2022'!A:A)=A4))} -> 48 | G4: {=SUMPRODUCT(1*(MONTH('2022-2023'!A:A)=A4))} -> 50 | H4: =SUM(C4:G4) -> 291 | I4: =AVERAGE(C4:G4) -> 58.2 | J4: =SUM(H4/H13) -> 0.15866957
A5: 10 | B5: October | C5: {=SUMPRODUCT(1*(MONTH('2018-2019'!A:A)=A5))} -> 49 | D5: {=SUMPRODUCT(1*(MONTH('2019-2020'!A:A)=A5))} -> 45 | E5: {=SUMPRODUCT(1*(MONTH('2020-2021'!A:A)=A5))} -> 40 | F5: {=SUMPRODUCT(1*(MONTH('2021-2022'!A:A)=A5))} -> 43 | G5: {=SUMPRODUCT(1*(MONTH('2022-2023'!A:A)=A5))} -> 35 | H5: =SUM(C5:G5) -> 212 | I5: =AVERAGE(C5:G5) -> 42.4 | J5: =SUM(H5/H13) -> 0.11559433
A6: 11 | B6: November | C6: {=SUMPRODUCT(1*(MONTH('2018-2019'!A:A)=A6))} -> 30 | D6: {=SUMPRODUCT(1*(MONTH('2019-2020'!A:A)=A6))} -> 36 | E6: {=SUMPRODUCT(1*(MONTH('2020-2021'!A:A)=A6))} -> 13 | F6: {=SUMPRODUCT(1*(MONTH('2021-2022'!A:A)=A6))} -> 19 | G6: {=SUMPRODUCT(1*(MONTH('2022-2023'!A:A)=A6))} -> 18 | H6: =SUM(C6:G6) -> 116 | I6: =AVERAGE(C6:G6) -> 23.2 | J6: =SUM(H6/H13) -> 0.063249727
A7: 12 | B7: December | C7: {=SUMPRODUCT(1*(MONTH('2018-2019'!A:A)=A7))} -> 29 | D7: {=SUMPRODUCT(1*(MONTH('2019-2020'!A:A)=A7))} -> 25 | E7: {=SUMPRODUCT(1*(MONTH('2020-2021'!A:A)=A7))} -> 22 | F7: {=SUMPRODUCT(1*(MONTH('2021-2022'!A:A)=A7))} -> 28 | G7: {=SUMPRODUCT(1*(MONTH('2022-2023'!A:A)=A7))} -> 23 | H7: =SUM(C7:G7) -> 127 | I7: =AVERAGE(C7:G7) -> 25.4 | J7: =SUM(H7/H13) -> 0.069247546
A8: 1 | B8: January | C8: {=SUMPRODUCT(1*(MONTH('2018-2019'!A2:A380)=A8))} -> 24 | D8: {=SUMPRODUCT(1*(MONTH('2019-2020'!A2:A375)=A8))} -> 28 | E8: {=SUMPRODUCT(1*(MONTH('2020-2021'!A2:A374)=A8))} -> 29 | F8: {=SUMPRODUCT(1*(MONTH('2021-2022'!A2:A353)=A8))} -> 22 | G8: {=SUMPRODUCT(1*(MONTH('2022-2023'!A2:A357)=A8))} -> 21 | H8: =SUM(C8:G8) -> 124 | I8: =AVERAGE(C8:G8) -> 24.8 | J8: =SUM(H8/H13) -> 0.067611778
A9: 2 | B9: February | C9: {=SUMPRODUCT(1*(MONTH('2018-2019'!A:A)=A9))} -> 19 | D9: {=SUMPRODUCT(1*(MONTH('2019-2020'!A:A)=A9))} -> 21 | E9: {=SUMPRODUCT(1*(MONTH('2020-2021'!A:A)=A9))} -> 24 | F9: {=SUMPRODUCT(1*(MONTH('2021-2022'!A:A)=A9))} -> 17 | G9: {=SUMPRODUCT(1*(MONTH('2022-2023'!A:A)=A9))} -> 19 | H9: =SUM(C9:G9) -> 100 | I9: =AVERAGE(C9:G9) -> 20 | J9: =SUM(H9/H13) -> 0.054525627
A10: 3 | B10: March | C10: {=SUMPRODUCT(1*(MONTH('2018-2019'!A:A)=A10))} -> 24 | D10: {=SUMPRODUCT(1*(MONTH('2019-2020'!A:A)=A10))} -> 17 | E10: {=SUMPRODUCT(1*(MONTH('2020-2021'!A:A)=A10))} -> 14 | F10: {=SUMPRODUCT(1*(MONTH('2021-2022'!A:A)=A10))} -> 22 | G10: {=SUMPRODUCT(1*(MONTH('2022-2023'!A:A)=A10))} -> 24 | H10: =SUM(C10:G10) -> 101 | I10: =AVERAGE(C10:G10) -> 20.2 | J10: =SUM(H10/H13) -> 0.055070883
A11: 4 | B11: April | C11: {=SUMPRODUCT(1*(MONTH('2018-2019'!A:A)=A11))} -> 22 | D11: {=SUMPRODUCT(1*(MONTH('2019-2020'!A:A)=A11))} -> 20 | E11: {=SUMPRODUCT(1*(MONTH('2020-2021'!A:A)=A11))} -> 16 | F11: {=SUMPRODUCT(1*(MONTH('2021-2022'!A:A)=A11))} -> 16 | G11: {=SUMPRODUCT(1*(MONTH('2022-2023'!A:A)=A11))} -> 29 | H11: =SUM(C11:G11) -> 103 | I11: =AVERAGE(C11:G11) -> 20.6 | J11: =SUM(H11/H13) -> 0.056161396
A12: 5 | B12: May | C12: {=SUMPRODUCT(1*(MONTH('2018-2019'!A:A)=A12))} -> 1 | D12: {=SUMPRODUCT(1*(MONTH('2019-2020'!A:A)=A12))} -> 0 | E12: {=SUMPRODUCT(1*(MONTH('2020-2021'!A:A)=A12))} -> 2 | F12: {=SUMPRODUCT(1*(MONTH('2021-2022'!A:A)=A12))} -> 0 | G12: {=SUMPRODUCT(1*(MONTH('2022-2023'!A:A)=A12))} -> 0 | H12: =SUM(C12:G12) -> 3 | I12: =AVERAGE(C12:G12) -> 0.6 | J12: =SUM(H12/H13) -> 0.0016357688
B13: TOTAL | C13: =SUM(C2:C12) -> 379 | D13: =SUM(D2:D12) -> 374 | E13: =SUM(E2:E12) -> 373 | F13: =SUM(F2:F12) -> 352 | G13: =SUM(G2:G12) -> 356 | H13: =SUM(C13:G13) -> 1834 | I13: =H13/5 -> 366.8

Sheet 2018-2019
B1: Goalscorer | C1: FOR | D1: AGAINST | E1: Goals scored in 'first-goal' match
A2: 43316 | B2: Bingham, Rakish | C2: Cheltenham Town | D2: Crawley Town | E2: 2
A3: 43316 | B3: Bowery, Jordan | C3: Crewe Alexandra | D3: Morecambe | E3: 2
A4: 43316 | B4: Cameron, Nathan | C4: Macclesfield Town | D4: Swindon Town | E4: 1
A5: 43316 | B5: Dearnley, Zak | C5: Oldham Athletic | D5: Milton Keynes Dons | E5: 1
A6: 43316 | B6: Doidge, Christian | C6: Forest Green Rovers | D6: Grimsby Town | E6: 4
A7: 43316 | B7: Doughty, Michael | C7: Swindon Town | D7: Macclesfield Town | E7: 1
A8: 43316 | B8: Francomb, George | C8: Crawley Town | D8: Cheltenham Town | E8: 1
A9: 43316 | B9: Gilmour, Harvey | C9: Tranmere Rovers | D9: Stevenage | E9: 1
A10: 43316 | B10: Glendon, George | C10: Carlisle United | D10: Exeter City | E10: 1
A11: 43316 | B11: Gomis, Virgil | C11: Notts County | D11: Colchester United | E11: 1
A12: 43316 | B12: Grubb, Dayle | C12: Forest Green Rovers | D12: Grimsby Town | E12: 1
A13: 43316 | B13: Hamilton, CJ | C13: Mansfield Town | D13: Newport County | E13: 1
... A380: 43589 | B380: Jagne, Lamin | C380: Morecambe | D380: Newport County | E380: 1

Sheet 2019-2020
B1: Goalscorer | C1: FOR | D1: AGAINST | E1: Goals scored in 'first-goal' match
A2: 43680 | B2: Adarabioyo, Fisayo | C2: Exeter City | D2: Blackpool | E2: 2
A3: 43680 | B3: Adebayo, Elijah | C3: Blackpool | D3: Exeter City | E3: 1
A4: 43680 | B4: Bingham, Rakish | C4: Cheltenham Town | D4: Salford City | E4: 1
A5: 43680 | B5: Broom, Ryan | C5: Cheltenham Town | D5: Salford City | E5: 1
A6: 43680 | B6: Clarke, Rayan | C6: Newport County | D6: Swindon Town | E6: 1
A7: 43680 | B7: Davis, Harry | C7: Grimsby Town | D7: Northampton Town | E7: 1
A8: 43680 | B8: Dixon, Josh | C8: Carlisle United | D8: Port Vale | E8: 1
A9: 43680 | B9: Freeman, Nick | C9: Wycombe Wanderers | D9: Ebbsfleet United | E9: 2
A10: 43680 | B10: Gaffney, Rory | C10: Salford City | D10: Cheltenham Town | E10: 1
A11: 43680 | B11: Gamble, Michael | C11: Cambridge United | D11: Bury | E11: 1
A12: 43680 | B12: Iandolo, Ellis | C12: Swindon Town | D12: Newport County | E12: 1
A13: 43680 | B13: James, Tom | C13: Yeovil Town | D13: Tranmere Rovers | E13: 1
... A375: 43946 | B375: Gomes, Claudio | C375: Bury | D375: Lincoln City | E375: 1

Sheet 2020-2021
B1: Goalscorer | C1: FOR | D1: AGAINST | E1: Goals scored in 'first-goal' match
A2: 44044 | B2: Adebayo, Elijah | C2: Blackpool | D2: Forest Green Rovers | E2: 1
A3: 44044 | B3: Ainley, Callum | C3: Crewe Alexandra | D3: Fleetwood Town | E3: 1
A4: 44044 | B4: Anderson, Keshi | C4: Crewe Alexandra | D4: Fleetwood Town | E4: 1
A5: 44044 | B5: Annesley, Louie | C5: Sutton United | D5: Exeter City | E5: 1
A6: 44044 | B6: Ayunga, Jonah | C6: Sutton United | D6: Exeter City | E6: 1
A7: 44044 | B7: Betts, Owen | C7: Notts County | D7: Ebbsfleet United | E7: 1
A8: 44044 | B8: Broom, Ryan | C8: Cheltenham Town | D8: Swindon Town | E8: 1
A9: 44044 | B9: Brown, Reece | C9: Forest Green Rovers | D9: Blackpool | E9: 2
A10: 44044 | B10: Coppinger, James | C10: Notts County | D10: Ebbsfleet United | E10: 1
A11: 44044 | B11: Dempsey, Kyle | C11: Fleetwood Town | D11: Crewe Alexandra | E11: 1
A12: 44044 | B12: Doidge, Christian | C12: Forest Green Rovers | D12: Blackpool | E12: 1
A13: 44044 | B13: Driver, Andrew | C13: Notts County | D13: Ebbsfleet United | E13: 1
... A374: 44317 | B374: Moore, Tafari | C374: Plymouth Argyle | D374: Northampton Town | E374: 1

Sheet 2021-2022
B1: Goalscorer | C1: FOR | D1: AGAINST | E1: Goals scored in 'first-goal' match
A2: 44408 | B2: Anderson, Keshi | C2: Crewe Alexandra | D2: Cheltenham Town | E2: 1
A3: 44408 | B3: Andrews, Jake | C3: Tranmere Rovers | D3: Southend United | E3: 1
A4: 44408 | B4: Bamford, Tom | C4: Ebbsfleet United | D4: Accrington Stanley | E4: 1
A5: 44408 | B5: Bloomfield, Mason | C5: Bristol Rovers | D5: Port Vale | E5: 1
A6: 44408 | B6: Broom, Ryan | C6: Cheltenham Town | D6: Crewe Alexandra | E6: 1
A7: 44408 | B7: Campbell, Remaye | C7: Notts County | D7: Wycombe Wanderers | E7: 1
A8: 44408 | B8: Charman, Luke | C8: Morecambe | D8: Doncaster Rovers | E8: 1
A9: 44408 | B9: Cole, Reece | C9: Notts County | D9: Wycombe Wanderers | E9: 1
A10: 44408 | B10: Conlan, Luke | C10: Morecambe | D10: Doncaster Rovers | E10: 1
A11: 44408 | B11: Connolly, Alan | C11: Crewe Alexandra | D11: Cheltenham Town | E11: 1
A12: 44408 | B12: Crawford, Ali | C12: Doncaster Rovers | D12: Morecambe | E12: 2
A13: 44408 | B13: Delfouneso, Nathan | C13: Rochdale | D13: Plymouth Argyle | E13: 1
... A353: 44681 | B353: Thomas, Terell | C353: AFC Wimbledon | D353: Shrewsbury Town | E353: 1

Sheet 2022-2023
B1: Goalscorer | C1: FOR | D1: AGAINST | E1: Goals scored in 'first-goal' match
A2: 44772 | B2: Anderson, Keshi | C2: Crewe Alexandra | D2: Forest Green Rovers | E2: 1
A3: 44772 | B3: Bakayoko, Amadou | C3: Cambridge United | D3: Sutton United | E3: 1
A4: 44772 | B4: Bennett, Kyle | C4: Cambridge United | D4: Sutton United | E4: 1
A5: 44772 | B5: Biggins, Harrison | C5: Accrington Stanley | D5: Boreham Wood | E5: 1
A6: 44772 | B6: Broom, Ryan | C6: Cheltenham Town | D6: Crawley Town | E6: 1
A7: 44772 | B7: Capel, Justin | C7: Crawley Town | D7: Cheltenham Town | E7: 1
A8: 44772 | B8: Dalling, Deshane | C8: Boreham Wood | D8: Accrington Stanley | E8: 1
A9: 44772 | B9: Fish, Paul | C9: Shrewsbury Town | D9: Southend United | E9: 1
A10: 44772 | B10: Guy, Callum | C10: Southend United | D10: Shrewsbury Town | E10: 1
A11: 44772 | B11: Novak, Lee | C11: Grimsby Town | D11: Swindon Town | E11: 1
A12: 44772 | B12: Ozturk, Alim | C12: Doncaster Rovers | D12: AFC Fylde | E12: 1
A13: 44772 | B13: Patterson, Phoenix | C13: Wycombe Wanderers | D13: Barnet | E13: 1
... A357: 45045 | B357: Millington, Tyrell | C357: Notts County | D357: Crewe Alexandra | E357: 1
